BEGIN:VCALENDAR
VERSION:2.0
PRODID:-//St. Louis Area Foodbank - ECPv6.15.20//NONSGML v1.0//EN
CALSCALE:GREGORIAN
METHOD:PUBLISH
X-ORIGINAL-URL:https://stlfoodbank.org
X-WR-CALDESC:Events for St. Louis Area Foodbank
REFRESH-INTERVAL;VALUE=DURATION:PT1H
X-Robots-Tag:noindex
X-PUBLISHED-TTL:PT1H
BEGIN:VTIMEZONE
TZID:America/Chicago
BEGIN:DAYLIGHT
TZOFFSETFROM:-0600
TZOFFSETTO:-0500
TZNAME:CDT
DTSTART:20240310T080000
END:DAYLIGHT
BEGIN:STANDARD
TZOFFSETFROM:-0500
TZOFFSETTO:-0600
TZNAME:CST
DTSTART:20241103T070000
END:STANDARD
BEGIN:DAYLIGHT
TZOFFSETFROM:-0600
TZOFFSETTO:-0500
TZNAME:CDT
DTSTART:20250309T080000
END:DAYLIGHT
BEGIN:STANDARD
TZOFFSETFROM:-0500
TZOFFSETTO:-0600
TZNAME:CST
DTSTART:20251102T070000
END:STANDARD
BEGIN:DAYLIGHT
TZOFFSETFROM:-0600
TZOFFSETTO:-0500
TZNAME:CDT
DTSTART:20260308T080000
END:DAYLIGHT
BEGIN:STANDARD
TZOFFSETFROM:-0500
TZOFFSETTO:-0600
TZNAME:CST
DTSTART:20261101T070000
END:STANDARD
END:VTIMEZONE
BEGIN:VEVENT
DTSTART;TZID=America/Chicago:20250828T090000
DTEND;TZID=America/Chicago:20250828T090000
DTSTAMP:20260419T072953
CREATED:20250728T164524Z
LAST-MODIFIED:20250728T164524Z
UID:10019437-1756371600-1756371600@stlfoodbank.org
SUMMARY:Nourishing Our Neighbors Food Distribution- Madison\, IL | August 28\, 2025
DESCRIPTION:To commemorate our 50th anniversary\, the St. Louis Area Foodbank is hosting a free food distribution on Thursday\, August 28\, 2025. \nWorld Wide Technology Raceway\n700 Raceway Blvd\nMadison\, IL 60260 \n\nThere will be food available for 500 families. Food will be distributed on a first come\, first served basis.\nThe distribution will start at 9am. DO NOT arrive at the location before 8am.\nNo proof of income or an ID is required.\nA mix of fresh produce\, dairy\, protein\, pantry staples\, hygiene and cleaning supplies will be provided.\nVolunteers will place items in your trunk or backseat\, so please make sure you have plenty of room. Please stay in your vehicle at all times.\n\nIf you have any questions\, please reach out to our Programs team at  programs@stlfoodbank.org. \n*Times and dates are subject to change due to inclement weather. Check our social media pages for any updates @STLFoodbank!
URL:https://stlfoodbank.org/event/nourishing-our-neighbors-food-distribution-madison-il-august-28-2025/
LOCATION:World Wide Technology Raceway\, 700 Raceway Blvd\, Madison\, IL\, 60260\, United States
END:VEVENT
END:VCALENDAR