BEGIN:VCALENDAR
VERSION:2.0
PRODID:-//St. Louis Area Foodbank - ECPv6.15.20//NONSGML v1.0//EN
CALSCALE:GREGORIAN
METHOD:PUBLISH
X-ORIGINAL-URL:https://stlfoodbank.org
X-WR-CALDESC:Events for St. Louis Area Foodbank
REFRESH-INTERVAL;VALUE=DURATION:PT1H
X-Robots-Tag:noindex
X-PUBLISHED-TTL:PT1H
BEGIN:VTIMEZONE
TZID:America/Chicago
BEGIN:DAYLIGHT
TZOFFSETFROM:-0600
TZOFFSETTO:-0500
TZNAME:CDT
DTSTART:20290311T080000
END:DAYLIGHT
BEGIN:STANDARD
TZOFFSETFROM:-0500
TZOFFSETTO:-0600
TZNAME:CST
DTSTART:20291104T070000
END:STANDARD
BEGIN:DAYLIGHT
TZOFFSETFROM:-0600
TZOFFSETTO:-0500
TZNAME:CDT
DTSTART:20300310T080000
END:DAYLIGHT
BEGIN:STANDARD
TZOFFSETFROM:-0500
TZOFFSETTO:-0600
TZNAME:CST
DTSTART:20301103T070000
END:STANDARD
BEGIN:DAYLIGHT
TZOFFSETFROM:-0600
TZOFFSETTO:-0500
TZNAME:CDT
DTSTART:20310309T080000
END:DAYLIGHT
BEGIN:STANDARD
TZOFFSETFROM:-0500
TZOFFSETTO:-0600
TZNAME:CST
DTSTART:20311102T070000
END:STANDARD
BEGIN:DAYLIGHT
TZOFFSETFROM:-0600
TZOFFSETTO:-0500
TZNAME:CDT
DTSTART:20320314T080000
END:DAYLIGHT
BEGIN:STANDARD
TZOFFSETFROM:-0500
TZOFFSETTO:-0600
TZNAME:CST
DTSTART:20321107T070000
END:STANDARD
END:VTIMEZONE
BEGIN:VEVENT
DTSTART;TZID=America/Chicago:20300424T100000
DTEND;TZID=America/Chicago:20300424T100000
DTSTAMP:20260420T232139
CREATED:20250528T184346Z
LAST-MODIFIED:20251124T171717Z
UID:10019075-1903255200-1903255200@stlfoodbank.org
SUMMARY:MO FARM Distribution | Wellsville Ballpark (Montgomery County\, MO)
DESCRIPTION:In partnership with the St. Louis Area Foodbank\, Wellsville is hosting a drive-through Food Access and Resource Market. Neighbors will have the opportunity to get a mix of fresh and nonperishable food items at no cost. The distribution will end at the stated time or once all the food and other resources have been distributed. \nThis event is set up as a drive through distribution and volunteers and/or staff of the organization will put food directly into your car. We ask that you have space in your vehicle for the food items and that you do not leave your vehicle during the distribution. Please arrive at least 15 minutes prior to the start of the event. (Please note that the distribution event ends when all the food is distributed.) \nWe do not require any identification or verification of income – anyone is welcome. \nIf you have any questions\, please reach out to programs@stlfoodbank.org. \n*Dates and times are subject to change. We recommend following the St. Louis Area Foodbank on all social media platforms for any changes in the schedule.
URL:https://stlfoodbank.org/event/mo-farm-distribution-wellsville-ballpark-montgomery-county-mo-2-2/2030-04-24/
LOCATION:Wellsville MO\, 520 W Water Street\, Wellsville\, MO\, 63384\, United States
GEO:39.0761001;-91.5713114
X-APPLE-STRUCTURED-LOCATION;VALUE=URI;X-ADDRESS=Wellsville MO 520 W Water Street Wellsville MO 63384 United States;X-APPLE-RADIUS=500;X-TITLE=520 W Water Street:geo:-91.5713114,39.0761001
END:VEVENT
BEGIN:VEVENT
DTSTART;TZID=America/Chicago:20300522T100000
DTEND;TZID=America/Chicago:20300522T100000
DTSTAMP:20260420T232139
CREATED:20250528T184346Z
LAST-MODIFIED:20251124T171717Z
UID:10019076-1905674400-1905674400@stlfoodbank.org
SUMMARY:MO FARM Distribution | Wellsville Ballpark (Montgomery County\, MO)
DESCRIPTION:In partnership with the St. Louis Area Foodbank\, Wellsville is hosting a drive-through Food Access and Resource Market. Neighbors will have the opportunity to get a mix of fresh and nonperishable food items at no cost. The distribution will end at the stated time or once all the food and other resources have been distributed. \nThis event is set up as a drive through distribution and volunteers and/or staff of the organization will put food directly into your car. We ask that you have space in your vehicle for the food items and that you do not leave your vehicle during the distribution. Please arrive at least 15 minutes prior to the start of the event. (Please note that the distribution event ends when all the food is distributed.) \nWe do not require any identification or verification of income – anyone is welcome. \nIf you have any questions\, please reach out to programs@stlfoodbank.org. \n*Dates and times are subject to change. We recommend following the St. Louis Area Foodbank on all social media platforms for any changes in the schedule.
URL:https://stlfoodbank.org/event/mo-farm-distribution-wellsville-ballpark-montgomery-county-mo-2-2/2030-05-22/
LOCATION:Wellsville MO\, 520 W Water Street\, Wellsville\, MO\, 63384\, United States
GEO:39.0761001;-91.5713114
X-APPLE-STRUCTURED-LOCATION;VALUE=URI;X-ADDRESS=Wellsville MO 520 W Water Street Wellsville MO 63384 United States;X-APPLE-RADIUS=500;X-TITLE=520 W Water Street:geo:-91.5713114,39.0761001
END:VEVENT
BEGIN:VEVENT
DTSTART;TZID=America/Chicago:20300626T100000
DTEND;TZID=America/Chicago:20300626T100000
DTSTAMP:20260420T232139
CREATED:20250528T184346Z
LAST-MODIFIED:20251124T171717Z
UID:10020067-1908698400-1908698400@stlfoodbank.org
SUMMARY:MO FARM Distribution | Wellsville Ballpark (Montgomery County\, MO)
DESCRIPTION:In partnership with the St. Louis Area Foodbank\, Wellsville is hosting a drive-through Food Access and Resource Market. Neighbors will have the opportunity to get a mix of fresh and nonperishable food items at no cost. The distribution will end at the stated time or once all the food and other resources have been distributed. \nThis event is set up as a drive through distribution and volunteers and/or staff of the organization will put food directly into your car. We ask that you have space in your vehicle for the food items and that you do not leave your vehicle during the distribution. Please arrive at least 15 minutes prior to the start of the event. (Please note that the distribution event ends when all the food is distributed.) \nWe do not require any identification or verification of income – anyone is welcome. \nIf you have any questions\, please reach out to programs@stlfoodbank.org. \n*Dates and times are subject to change. We recommend following the St. Louis Area Foodbank on all social media platforms for any changes in the schedule.
URL:https://stlfoodbank.org/event/mo-farm-distribution-wellsville-ballpark-montgomery-county-mo-2-2/2030-06-26/
LOCATION:Wellsville MO\, 520 W Water Street\, Wellsville\, MO\, 63384\, United States
GEO:39.0761001;-91.5713114
X-APPLE-STRUCTURED-LOCATION;VALUE=URI;X-ADDRESS=Wellsville MO 520 W Water Street Wellsville MO 63384 United States;X-APPLE-RADIUS=500;X-TITLE=520 W Water Street:geo:-91.5713114,39.0761001
END:VEVENT
BEGIN:VEVENT
DTSTART;TZID=America/Chicago:20300724T100000
DTEND;TZID=America/Chicago:20300724T100000
DTSTAMP:20260420T232139
CREATED:20250528T184346Z
LAST-MODIFIED:20251124T171717Z
UID:10020068-1911117600-1911117600@stlfoodbank.org
SUMMARY:MO FARM Distribution | Wellsville Ballpark (Montgomery County\, MO)
DESCRIPTION:In partnership with the St. Louis Area Foodbank\, Wellsville is hosting a drive-through Food Access and Resource Market. Neighbors will have the opportunity to get a mix of fresh and nonperishable food items at no cost. The distribution will end at the stated time or once all the food and other resources have been distributed. \nThis event is set up as a drive through distribution and volunteers and/or staff of the organization will put food directly into your car. We ask that you have space in your vehicle for the food items and that you do not leave your vehicle during the distribution. Please arrive at least 15 minutes prior to the start of the event. (Please note that the distribution event ends when all the food is distributed.) \nWe do not require any identification or verification of income – anyone is welcome. \nIf you have any questions\, please reach out to programs@stlfoodbank.org. \n*Dates and times are subject to change. We recommend following the St. Louis Area Foodbank on all social media platforms for any changes in the schedule.
URL:https://stlfoodbank.org/event/mo-farm-distribution-wellsville-ballpark-montgomery-county-mo-2-2/2030-07-24/
LOCATION:Wellsville MO\, 520 W Water Street\, Wellsville\, MO\, 63384\, United States
GEO:39.0761001;-91.5713114
X-APPLE-STRUCTURED-LOCATION;VALUE=URI;X-ADDRESS=Wellsville MO 520 W Water Street Wellsville MO 63384 United States;X-APPLE-RADIUS=500;X-TITLE=520 W Water Street:geo:-91.5713114,39.0761001
END:VEVENT
BEGIN:VEVENT
DTSTART;TZID=America/Chicago:20300828T100000
DTEND;TZID=America/Chicago:20300828T100000
DTSTAMP:20260420T232139
CREATED:20250528T184346Z
LAST-MODIFIED:20251124T171717Z
UID:10020069-1914141600-1914141600@stlfoodbank.org
SUMMARY:MO FARM Distribution | Wellsville Ballpark (Montgomery County\, MO)
DESCRIPTION:In partnership with the St. Louis Area Foodbank\, Wellsville is hosting a drive-through Food Access and Resource Market. Neighbors will have the opportunity to get a mix of fresh and nonperishable food items at no cost. The distribution will end at the stated time or once all the food and other resources have been distributed. \nThis event is set up as a drive through distribution and volunteers and/or staff of the organization will put food directly into your car. We ask that you have space in your vehicle for the food items and that you do not leave your vehicle during the distribution. Please arrive at least 15 minutes prior to the start of the event. (Please note that the distribution event ends when all the food is distributed.) \nWe do not require any identification or verification of income – anyone is welcome. \nIf you have any questions\, please reach out to programs@stlfoodbank.org. \n*Dates and times are subject to change. We recommend following the St. Louis Area Foodbank on all social media platforms for any changes in the schedule.
URL:https://stlfoodbank.org/event/mo-farm-distribution-wellsville-ballpark-montgomery-county-mo-2-2/2030-08-28/
LOCATION:Wellsville MO\, 520 W Water Street\, Wellsville\, MO\, 63384\, United States
GEO:39.0761001;-91.5713114
X-APPLE-STRUCTURED-LOCATION;VALUE=URI;X-ADDRESS=Wellsville MO 520 W Water Street Wellsville MO 63384 United States;X-APPLE-RADIUS=500;X-TITLE=520 W Water Street:geo:-91.5713114,39.0761001
END:VEVENT
BEGIN:VEVENT
DTSTART;TZID=America/Chicago:20300925T100000
DTEND;TZID=America/Chicago:20300925T100000
DTSTAMP:20260420T232139
CREATED:20250528T184346Z
LAST-MODIFIED:20251124T171717Z
UID:10020070-1916560800-1916560800@stlfoodbank.org
SUMMARY:MO FARM Distribution | Wellsville Ballpark (Montgomery County\, MO)
DESCRIPTION:In partnership with the St. Louis Area Foodbank\, Wellsville is hosting a drive-through Food Access and Resource Market. Neighbors will have the opportunity to get a mix of fresh and nonperishable food items at no cost. The distribution will end at the stated time or once all the food and other resources have been distributed. \nThis event is set up as a drive through distribution and volunteers and/or staff of the organization will put food directly into your car. We ask that you have space in your vehicle for the food items and that you do not leave your vehicle during the distribution. Please arrive at least 15 minutes prior to the start of the event. (Please note that the distribution event ends when all the food is distributed.) \nWe do not require any identification or verification of income – anyone is welcome. \nIf you have any questions\, please reach out to programs@stlfoodbank.org. \n*Dates and times are subject to change. We recommend following the St. Louis Area Foodbank on all social media platforms for any changes in the schedule.
URL:https://stlfoodbank.org/event/mo-farm-distribution-wellsville-ballpark-montgomery-county-mo-2-2/2030-09-25/
LOCATION:Wellsville MO\, 520 W Water Street\, Wellsville\, MO\, 63384\, United States
GEO:39.0761001;-91.5713114
X-APPLE-STRUCTURED-LOCATION;VALUE=URI;X-ADDRESS=Wellsville MO 520 W Water Street Wellsville MO 63384 United States;X-APPLE-RADIUS=500;X-TITLE=520 W Water Street:geo:-91.5713114,39.0761001
END:VEVENT
BEGIN:VEVENT
DTSTART;TZID=America/Chicago:20301023T100000
DTEND;TZID=America/Chicago:20301023T100000
DTSTAMP:20260420T232139
CREATED:20250528T184346Z
LAST-MODIFIED:20251124T171717Z
UID:10020071-1918980000-1918980000@stlfoodbank.org
SUMMARY:MO FARM Distribution | Wellsville Ballpark (Montgomery County\, MO)
DESCRIPTION:In partnership with the St. Louis Area Foodbank\, Wellsville is hosting a drive-through Food Access and Resource Market. Neighbors will have the opportunity to get a mix of fresh and nonperishable food items at no cost. The distribution will end at the stated time or once all the food and other resources have been distributed. \nThis event is set up as a drive through distribution and volunteers and/or staff of the organization will put food directly into your car. We ask that you have space in your vehicle for the food items and that you do not leave your vehicle during the distribution. Please arrive at least 15 minutes prior to the start of the event. (Please note that the distribution event ends when all the food is distributed.) \nWe do not require any identification or verification of income – anyone is welcome. \nIf you have any questions\, please reach out to programs@stlfoodbank.org. \n*Dates and times are subject to change. We recommend following the St. Louis Area Foodbank on all social media platforms for any changes in the schedule.
URL:https://stlfoodbank.org/event/mo-farm-distribution-wellsville-ballpark-montgomery-county-mo-2-2/2030-10-23/
LOCATION:Wellsville MO\, 520 W Water Street\, Wellsville\, MO\, 63384\, United States
GEO:39.0761001;-91.5713114
X-APPLE-STRUCTURED-LOCATION;VALUE=URI;X-ADDRESS=Wellsville MO 520 W Water Street Wellsville MO 63384 United States;X-APPLE-RADIUS=500;X-TITLE=520 W Water Street:geo:-91.5713114,39.0761001
END:VEVENT
BEGIN:VEVENT
DTSTART;TZID=America/Chicago:20301127T100000
DTEND;TZID=America/Chicago:20301127T100000
DTSTAMP:20260420T232139
CREATED:20250528T184346Z
LAST-MODIFIED:20251124T171717Z
UID:10020191-1922004000-1922004000@stlfoodbank.org
SUMMARY:MO FARM Distribution | Wellsville Ballpark (Montgomery County\, MO)
DESCRIPTION:In partnership with the St. Louis Area Foodbank\, Wellsville is hosting a drive-through Food Access and Resource Market. Neighbors will have the opportunity to get a mix of fresh and nonperishable food items at no cost. The distribution will end at the stated time or once all the food and other resources have been distributed. \nThis event is set up as a drive through distribution and volunteers and/or staff of the organization will put food directly into your car. We ask that you have space in your vehicle for the food items and that you do not leave your vehicle during the distribution. Please arrive at least 15 minutes prior to the start of the event. (Please note that the distribution event ends when all the food is distributed.) \nWe do not require any identification or verification of income – anyone is welcome. \nIf you have any questions\, please reach out to programs@stlfoodbank.org. \n*Dates and times are subject to change. We recommend following the St. Louis Area Foodbank on all social media platforms for any changes in the schedule.
URL:https://stlfoodbank.org/event/mo-farm-distribution-wellsville-ballpark-montgomery-county-mo-2-2/2030-11-27/
LOCATION:Wellsville MO\, 520 W Water Street\, Wellsville\, MO\, 63384\, United States
GEO:39.0761001;-91.5713114
X-APPLE-STRUCTURED-LOCATION;VALUE=URI;X-ADDRESS=Wellsville MO 520 W Water Street Wellsville MO 63384 United States;X-APPLE-RADIUS=500;X-TITLE=520 W Water Street:geo:-91.5713114,39.0761001
END:VEVENT
BEGIN:VEVENT
DTSTART;TZID=America/Chicago:20301225T100000
DTEND;TZID=America/Chicago:20301225T100000
DTSTAMP:20260420T232139
CREATED:20250528T184346Z
LAST-MODIFIED:20251124T171717Z
UID:10020192-1924423200-1924423200@stlfoodbank.org
SUMMARY:MO FARM Distribution | Wellsville Ballpark (Montgomery County\, MO)
DESCRIPTION:In partnership with the St. Louis Area Foodbank\, Wellsville is hosting a drive-through Food Access and Resource Market. Neighbors will have the opportunity to get a mix of fresh and nonperishable food items at no cost. The distribution will end at the stated time or once all the food and other resources have been distributed. \nThis event is set up as a drive through distribution and volunteers and/or staff of the organization will put food directly into your car. We ask that you have space in your vehicle for the food items and that you do not leave your vehicle during the distribution. Please arrive at least 15 minutes prior to the start of the event. (Please note that the distribution event ends when all the food is distributed.) \nWe do not require any identification or verification of income – anyone is welcome. \nIf you have any questions\, please reach out to programs@stlfoodbank.org. \n*Dates and times are subject to change. We recommend following the St. Louis Area Foodbank on all social media platforms for any changes in the schedule.
URL:https://stlfoodbank.org/event/mo-farm-distribution-wellsville-ballpark-montgomery-county-mo-2-2/2030-12-25/
LOCATION:Wellsville MO\, 520 W Water Street\, Wellsville\, MO\, 63384\, United States
GEO:39.0761001;-91.5713114
X-APPLE-STRUCTURED-LOCATION;VALUE=URI;X-ADDRESS=Wellsville MO 520 W Water Street Wellsville MO 63384 United States;X-APPLE-RADIUS=500;X-TITLE=520 W Water Street:geo:-91.5713114,39.0761001
END:VEVENT
BEGIN:VEVENT
DTSTART;TZID=America/Chicago:20310122T100000
DTEND;TZID=America/Chicago:20310122T100000
DTSTAMP:20260420T232139
CREATED:20250528T184346Z
LAST-MODIFIED:20251124T171717Z
UID:10020193-1926842400-1926842400@stlfoodbank.org
SUMMARY:MO FARM Distribution | Wellsville Ballpark (Montgomery County\, MO)
DESCRIPTION:In partnership with the St. Louis Area Foodbank\, Wellsville is hosting a drive-through Food Access and Resource Market. Neighbors will have the opportunity to get a mix of fresh and nonperishable food items at no cost. The distribution will end at the stated time or once all the food and other resources have been distributed. \nThis event is set up as a drive through distribution and volunteers and/or staff of the organization will put food directly into your car. We ask that you have space in your vehicle for the food items and that you do not leave your vehicle during the distribution. Please arrive at least 15 minutes prior to the start of the event. (Please note that the distribution event ends when all the food is distributed.) \nWe do not require any identification or verification of income – anyone is welcome. \nIf you have any questions\, please reach out to programs@stlfoodbank.org. \n*Dates and times are subject to change. We recommend following the St. Louis Area Foodbank on all social media platforms for any changes in the schedule.
URL:https://stlfoodbank.org/event/mo-farm-distribution-wellsville-ballpark-montgomery-county-mo-2-2/2031-01-22/
LOCATION:Wellsville MO\, 520 W Water Street\, Wellsville\, MO\, 63384\, United States
GEO:39.0761001;-91.5713114
X-APPLE-STRUCTURED-LOCATION;VALUE=URI;X-ADDRESS=Wellsville MO 520 W Water Street Wellsville MO 63384 United States;X-APPLE-RADIUS=500;X-TITLE=520 W Water Street:geo:-91.5713114,39.0761001
END:VEVENT
END:VCALENDAR