BEGIN:VCALENDAR
VERSION:2.0
PRODID:-//St. Louis Area Foodbank - ECPv6.15.20//NONSGML v1.0//EN
CALSCALE:GREGORIAN
METHOD:PUBLISH
X-ORIGINAL-URL:https://stlfoodbank.org
X-WR-CALDESC:Events for St. Louis Area Foodbank
REFRESH-INTERVAL;VALUE=DURATION:PT1H
X-Robots-Tag:noindex
X-PUBLISHED-TTL:PT1H
BEGIN:VTIMEZONE
TZID:America/Chicago
BEGIN:DAYLIGHT
TZOFFSETFROM:-0600
TZOFFSETTO:-0500
TZNAME:CDT
DTSTART:20240310T080000
END:DAYLIGHT
BEGIN:STANDARD
TZOFFSETFROM:-0500
TZOFFSETTO:-0600
TZNAME:CST
DTSTART:20241103T070000
END:STANDARD
BEGIN:DAYLIGHT
TZOFFSETFROM:-0600
TZOFFSETTO:-0500
TZNAME:CDT
DTSTART:20250309T080000
END:DAYLIGHT
BEGIN:STANDARD
TZOFFSETFROM:-0500
TZOFFSETTO:-0600
TZNAME:CST
DTSTART:20251102T070000
END:STANDARD
BEGIN:DAYLIGHT
TZOFFSETFROM:-0600
TZOFFSETTO:-0500
TZNAME:CDT
DTSTART:20260308T080000
END:DAYLIGHT
BEGIN:STANDARD
TZOFFSETFROM:-0500
TZOFFSETTO:-0600
TZNAME:CST
DTSTART:20261101T070000
END:STANDARD
BEGIN:DAYLIGHT
TZOFFSETFROM:-0600
TZOFFSETTO:-0500
TZNAME:CDT
DTSTART:20270314T080000
END:DAYLIGHT
BEGIN:STANDARD
TZOFFSETFROM:-0500
TZOFFSETTO:-0600
TZNAME:CST
DTSTART:20271107T070000
END:STANDARD
END:VTIMEZONE
BEGIN:VEVENT
DTSTART;TZID=America/Chicago:20260325T100000
DTEND;TZID=America/Chicago:20260325T100000
DTSTAMP:20260420T172552
CREATED:20250528T184346Z
LAST-MODIFIED:20251124T171717Z
UID:10018924-1774432800-1774432800@stlfoodbank.org
SUMMARY:MO FARM Distribution | Wellsville Ballpark (Montgomery County\, MO)
DESCRIPTION:In partnership with the St. Louis Area Foodbank\, Wellsville is hosting a drive-through Food Access and Resource Market. Neighbors will have the opportunity to get a mix of fresh and nonperishable food items at no cost. The distribution will end at the stated time or once all the food and other resources have been distributed. \nThis event is set up as a drive through distribution and volunteers and/or staff of the organization will put food directly into your car. We ask that you have space in your vehicle for the food items and that you do not leave your vehicle during the distribution. Please arrive at least 15 minutes prior to the start of the event. (Please note that the distribution event ends when all the food is distributed.) \nWe do not require any identification or verification of income – anyone is welcome. \nIf you have any questions\, please reach out to programs@stlfoodbank.org. \n*Dates and times are subject to change. We recommend following the St. Louis Area Foodbank on all social media platforms for any changes in the schedule.
URL:https://stlfoodbank.org/event/mo-farm-distribution-wellsville-ballpark-montgomery-county-mo-2-2/2026-03-25/
LOCATION:Wellsville MO\, 520 W Water Street\, Wellsville\, MO\, 63384\, United States
GEO:39.0761001;-91.5713114
X-APPLE-STRUCTURED-LOCATION;VALUE=URI;X-ADDRESS=Wellsville MO 520 W Water Street Wellsville MO 63384 United States;X-APPLE-RADIUS=500;X-TITLE=520 W Water Street:geo:-91.5713114,39.0761001
END:VEVENT
BEGIN:VEVENT
DTSTART;TZID=America/Chicago:20260225T100000
DTEND;TZID=America/Chicago:20260225T100000
DTSTAMP:20260420T172552
CREATED:20250528T184346Z
LAST-MODIFIED:20251124T171717Z
UID:10018923-1772013600-1772013600@stlfoodbank.org
SUMMARY:MO FARM Distribution | Wellsville Ballpark (Montgomery County\, MO)
DESCRIPTION:In partnership with the St. Louis Area Foodbank\, Wellsville is hosting a drive-through Food Access and Resource Market. Neighbors will have the opportunity to get a mix of fresh and nonperishable food items at no cost. The distribution will end at the stated time or once all the food and other resources have been distributed. \nThis event is set up as a drive through distribution and volunteers and/or staff of the organization will put food directly into your car. We ask that you have space in your vehicle for the food items and that you do not leave your vehicle during the distribution. Please arrive at least 15 minutes prior to the start of the event. (Please note that the distribution event ends when all the food is distributed.) \nWe do not require any identification or verification of income – anyone is welcome. \nIf you have any questions\, please reach out to programs@stlfoodbank.org. \n*Dates and times are subject to change. We recommend following the St. Louis Area Foodbank on all social media platforms for any changes in the schedule.
URL:https://stlfoodbank.org/event/mo-farm-distribution-wellsville-ballpark-montgomery-county-mo-2-2/2026-02-25/
LOCATION:Wellsville MO\, 520 W Water Street\, Wellsville\, MO\, 63384\, United States
GEO:39.0761001;-91.5713114
X-APPLE-STRUCTURED-LOCATION;VALUE=URI;X-ADDRESS=Wellsville MO 520 W Water Street Wellsville MO 63384 United States;X-APPLE-RADIUS=500;X-TITLE=520 W Water Street:geo:-91.5713114,39.0761001
END:VEVENT
BEGIN:VEVENT
DTSTART;TZID=America/Chicago:20260128T100000
DTEND;TZID=America/Chicago:20260128T100000
DTSTAMP:20260420T172552
CREATED:20260126T165122Z
LAST-MODIFIED:20260126T165123Z
UID:10018922-1769594400-1769594400@stlfoodbank.org
SUMMARY:CANCELED - MO FARM Distribution | Wellsville Ballpark (Montgomery County\, MO)
DESCRIPTION:In partnership with the St. Louis Area Foodbank\, Wellsville is hosting a drive-through Food Access and Resource Market. Neighbors will have the opportunity to get a mix of fresh and nonperishable food items at no cost. The distribution will end at the stated time or once all the food and other resources have been distributed. \nThis event is set up as a drive through distribution and volunteers and/or staff of the organization will put food directly into your car. We ask that you have space in your vehicle for the food items and that you do not leave your vehicle during the distribution. Please arrive at least 15 minutes prior to the start of the event. (Please note that the distribution event ends when all the food is distributed.) \nWe do not require any identification or verification of income – anyone is welcome. \nIf you have any questions\, please reach out to programs@stlfoodbank.org. \n*Dates and times are subject to change. We recommend following the St. Louis Area Foodbank on all social media platforms for any changes in the schedule.
URL:https://stlfoodbank.org/event/mo-farm-distribution-wellsville-ballpark-montgomery-county-mo-2-2-2/
LOCATION:Wellsville MO\, 520 W Water Street\, Wellsville\, MO\, 63384\, United States
GEO:39.0761001;-91.5713114
X-APPLE-STRUCTURED-LOCATION;VALUE=URI;X-ADDRESS=Wellsville MO 520 W Water Street Wellsville MO 63384 United States;X-APPLE-RADIUS=500;X-TITLE=520 W Water Street:geo:-91.5713114,39.0761001
END:VEVENT
BEGIN:VEVENT
DTSTART;TZID=America/Chicago:20251126T100000
DTEND;TZID=America/Chicago:20251126T100000
DTSTAMP:20260420T172552
CREATED:20250528T184346Z
LAST-MODIFIED:20251124T171717Z
UID:10018920-1764151200-1764151200@stlfoodbank.org
SUMMARY:MO FARM Distribution | Wellsville Ballpark (Montgomery County\, MO)
DESCRIPTION:In partnership with the St. Louis Area Foodbank\, Wellsville is hosting a drive-through Food Access and Resource Market. Neighbors will have the opportunity to get a mix of fresh and nonperishable food items at no cost. The distribution will end at the stated time or once all the food and other resources have been distributed. \nThis event is set up as a drive through distribution and volunteers and/or staff of the organization will put food directly into your car. We ask that you have space in your vehicle for the food items and that you do not leave your vehicle during the distribution. Please arrive at least 15 minutes prior to the start of the event. (Please note that the distribution event ends when all the food is distributed.) \nWe do not require any identification or verification of income – anyone is welcome. \nIf you have any questions\, please reach out to programs@stlfoodbank.org. \n*Dates and times are subject to change. We recommend following the St. Louis Area Foodbank on all social media platforms for any changes in the schedule.
URL:https://stlfoodbank.org/event/mo-farm-distribution-wellsville-ballpark-montgomery-county-mo-2-2/2025-11-26/
LOCATION:Wellsville MO\, 520 W Water Street\, Wellsville\, MO\, 63384\, United States
GEO:39.0761001;-91.5713114
X-APPLE-STRUCTURED-LOCATION;VALUE=URI;X-ADDRESS=Wellsville MO 520 W Water Street Wellsville MO 63384 United States;X-APPLE-RADIUS=500;X-TITLE=520 W Water Street:geo:-91.5713114,39.0761001
END:VEVENT
BEGIN:VEVENT
DTSTART;TZID=America/Chicago:20251022T100000
DTEND;TZID=America/Chicago:20251022T100000
DTSTAMP:20260420T172552
CREATED:20250528T184346Z
LAST-MODIFIED:20251124T171717Z
UID:10018919-1761127200-1761127200@stlfoodbank.org
SUMMARY:MO FARM Distribution | Wellsville Ballpark (Montgomery County\, MO)
DESCRIPTION:In partnership with the St. Louis Area Foodbank\, Wellsville is hosting a drive-through Food Access and Resource Market. Neighbors will have the opportunity to get a mix of fresh and nonperishable food items at no cost. The distribution will end at the stated time or once all the food and other resources have been distributed. \nThis event is set up as a drive through distribution and volunteers and/or staff of the organization will put food directly into your car. We ask that you have space in your vehicle for the food items and that you do not leave your vehicle during the distribution. Please arrive at least 15 minutes prior to the start of the event. (Please note that the distribution event ends when all the food is distributed.) \nWe do not require any identification or verification of income – anyone is welcome. \nIf you have any questions\, please reach out to programs@stlfoodbank.org. \n*Dates and times are subject to change. We recommend following the St. Louis Area Foodbank on all social media platforms for any changes in the schedule.
URL:https://stlfoodbank.org/event/mo-farm-distribution-wellsville-ballpark-montgomery-county-mo-2-2/2025-10-22/
LOCATION:Wellsville MO\, 520 W Water Street\, Wellsville\, MO\, 63384\, United States
GEO:39.0761001;-91.5713114
X-APPLE-STRUCTURED-LOCATION;VALUE=URI;X-ADDRESS=Wellsville MO 520 W Water Street Wellsville MO 63384 United States;X-APPLE-RADIUS=500;X-TITLE=520 W Water Street:geo:-91.5713114,39.0761001
END:VEVENT
BEGIN:VEVENT
DTSTART;TZID=America/Chicago:20250924T100000
DTEND;TZID=America/Chicago:20250924T100000
DTSTAMP:20260420T172552
CREATED:20250528T184346Z
LAST-MODIFIED:20251124T171717Z
UID:10018918-1758708000-1758708000@stlfoodbank.org
SUMMARY:MO FARM Distribution | Wellsville Ballpark (Montgomery County\, MO)
DESCRIPTION:In partnership with the St. Louis Area Foodbank\, Wellsville is hosting a drive-through Food Access and Resource Market. Neighbors will have the opportunity to get a mix of fresh and nonperishable food items at no cost. The distribution will end at the stated time or once all the food and other resources have been distributed. \nThis event is set up as a drive through distribution and volunteers and/or staff of the organization will put food directly into your car. We ask that you have space in your vehicle for the food items and that you do not leave your vehicle during the distribution. Please arrive at least 15 minutes prior to the start of the event. (Please note that the distribution event ends when all the food is distributed.) \nWe do not require any identification or verification of income – anyone is welcome. \nIf you have any questions\, please reach out to programs@stlfoodbank.org. \n*Dates and times are subject to change. We recommend following the St. Louis Area Foodbank on all social media platforms for any changes in the schedule.
URL:https://stlfoodbank.org/event/mo-farm-distribution-wellsville-ballpark-montgomery-county-mo-2-2/2025-09-24/
LOCATION:Wellsville MO\, 520 W Water Street\, Wellsville\, MO\, 63384\, United States
GEO:39.0761001;-91.5713114
X-APPLE-STRUCTURED-LOCATION;VALUE=URI;X-ADDRESS=Wellsville MO 520 W Water Street Wellsville MO 63384 United States;X-APPLE-RADIUS=500;X-TITLE=520 W Water Street:geo:-91.5713114,39.0761001
END:VEVENT
BEGIN:VEVENT
DTSTART;TZID=America/Chicago:20250827T100000
DTEND;TZID=America/Chicago:20250827T100000
DTSTAMP:20260420T172552
CREATED:20250528T184346Z
LAST-MODIFIED:20251124T171717Z
UID:10018917-1756288800-1756288800@stlfoodbank.org
SUMMARY:MO FARM Distribution | Wellsville Ballpark (Montgomery County\, MO)
DESCRIPTION:In partnership with the St. Louis Area Foodbank\, Wellsville is hosting a drive-through Food Access and Resource Market. Neighbors will have the opportunity to get a mix of fresh and nonperishable food items at no cost. The distribution will end at the stated time or once all the food and other resources have been distributed. \nThis event is set up as a drive through distribution and volunteers and/or staff of the organization will put food directly into your car. We ask that you have space in your vehicle for the food items and that you do not leave your vehicle during the distribution. Please arrive at least 15 minutes prior to the start of the event. (Please note that the distribution event ends when all the food is distributed.) \nWe do not require any identification or verification of income – anyone is welcome. \nIf you have any questions\, please reach out to programs@stlfoodbank.org. \n*Dates and times are subject to change. We recommend following the St. Louis Area Foodbank on all social media platforms for any changes in the schedule.
URL:https://stlfoodbank.org/event/mo-farm-distribution-wellsville-ballpark-montgomery-county-mo-2-2/2025-08-27/
LOCATION:Wellsville MO\, 520 W Water Street\, Wellsville\, MO\, 63384\, United States
GEO:39.0761001;-91.5713114
X-APPLE-STRUCTURED-LOCATION;VALUE=URI;X-ADDRESS=Wellsville MO 520 W Water Street Wellsville MO 63384 United States;X-APPLE-RADIUS=500;X-TITLE=520 W Water Street:geo:-91.5713114,39.0761001
END:VEVENT
BEGIN:VEVENT
DTSTART;TZID=America/Chicago:20250723T100000
DTEND;TZID=America/Chicago:20250723T100000
DTSTAMP:20260420T172552
CREATED:20250528T184346Z
LAST-MODIFIED:20251124T171717Z
UID:10019283-1753264800-1753264800@stlfoodbank.org
SUMMARY:MO FARM Distribution | Wellsville Ballpark (Montgomery County\, MO)
DESCRIPTION:In partnership with the St. Louis Area Foodbank\, Wellsville is hosting a drive-through Food Access and Resource Market. Neighbors will have the opportunity to get a mix of fresh and nonperishable food items at no cost. The distribution will end at the stated time or once all the food and other resources have been distributed. \nThis event is set up as a drive through distribution and volunteers and/or staff of the organization will put food directly into your car. We ask that you have space in your vehicle for the food items and that you do not leave your vehicle during the distribution. Please arrive at least 15 minutes prior to the start of the event. (Please note that the distribution event ends when all the food is distributed.) \nWe do not require any identification or verification of income – anyone is welcome. \nIf you have any questions\, please reach out to programs@stlfoodbank.org. \n*Dates and times are subject to change. We recommend following the St. Louis Area Foodbank on all social media platforms for any changes in the schedule.
URL:https://stlfoodbank.org/event/mo-farm-distribution-wellsville-ballpark-montgomery-county-mo-2-2/2025-07-23/
LOCATION:Wellsville MO\, 520 W Water Street\, Wellsville\, MO\, 63384\, United States
GEO:39.0761001;-91.5713114
X-APPLE-STRUCTURED-LOCATION;VALUE=URI;X-ADDRESS=Wellsville MO 520 W Water Street Wellsville MO 63384 United States;X-APPLE-RADIUS=500;X-TITLE=520 W Water Street:geo:-91.5713114,39.0761001
END:VEVENT
BEGIN:VEVENT
DTSTART;TZID=America/Chicago:20250625T100000
DTEND;TZID=America/Chicago:20250625T100000
DTSTAMP:20260420T172552
CREATED:20250528T184346Z
LAST-MODIFIED:20251124T171717Z
UID:10018916-1750845600-1750845600@stlfoodbank.org
SUMMARY:MO FARM Distribution | Wellsville Ballpark (Montgomery County\, MO)
DESCRIPTION:In partnership with the St. Louis Area Foodbank\, Wellsville is hosting a drive-through Food Access and Resource Market. Neighbors will have the opportunity to get a mix of fresh and nonperishable food items at no cost. The distribution will end at the stated time or once all the food and other resources have been distributed. \nThis event is set up as a drive through distribution and volunteers and/or staff of the organization will put food directly into your car. We ask that you have space in your vehicle for the food items and that you do not leave your vehicle during the distribution. Please arrive at least 15 minutes prior to the start of the event. (Please note that the distribution event ends when all the food is distributed.) \nWe do not require any identification or verification of income – anyone is welcome. \nIf you have any questions\, please reach out to programs@stlfoodbank.org. \n*Dates and times are subject to change. We recommend following the St. Louis Area Foodbank on all social media platforms for any changes in the schedule.
URL:https://stlfoodbank.org/event/mo-farm-distribution-wellsville-ballpark-montgomery-county-mo-2-2/2025-06-25/
LOCATION:Wellsville MO\, 520 W Water Street\, Wellsville\, MO\, 63384\, United States
GEO:39.0761001;-91.5713114
X-APPLE-STRUCTURED-LOCATION;VALUE=URI;X-ADDRESS=Wellsville MO 520 W Water Street Wellsville MO 63384 United States;X-APPLE-RADIUS=500;X-TITLE=520 W Water Street:geo:-91.5713114,39.0761001
END:VEVENT
BEGIN:VEVENT
DTSTART;TZID=America/Chicago:20250528T100000
DTEND;TZID=America/Chicago:20250528T100000
DTSTAMP:20260420T172552
CREATED:20250415T163904Z
LAST-MODIFIED:20250527T145422Z
UID:10018914-1748426400-1748426400@stlfoodbank.org
SUMMARY:MO FARM Distribution | Wellsville Ballpark (Montgomery County\, MO)
DESCRIPTION:In partnership with the St. Louis Area Foodbank\, Wellsville is hosting a drive-through Food Access and Resource Market. Neighbors will have the opportunity to get a mix of fresh and nonperishable food items at no cost. The distribution will end at the stated time or once all the food and other resources have been distributed. \nThis event is set up as a drive through distribution and volunteers and/or staff of the organization will put food directly into your car. We ask that you have space in your vehicle for the food items and that you do not leave your vehicle during the distribution. Please arrive at least 15 minutes prior to the start of the event. (Please note that the distribution event ends when all the food is distributed.) \nWe do not require any identification or verification of income – anyone is welcome. \nIf you have any questions\, please reach out to programs@stlfoodbank.org. \n*Dates and times are subject to change. We recommend following the St. Louis Area Foodbank on all social media platforms for any changes in the schedule.
URL:https://stlfoodbank.org/event/mo-farm-distribution-wellsville-ballpark-montgomery-county-mo/
LOCATION:Wellsville MO\, 520 W Water Street\, Wellsville\, MO\, 63384\, United States
GEO:39.0761001;-91.5713114
X-APPLE-STRUCTURED-LOCATION;VALUE=URI;X-ADDRESS=Wellsville MO 520 W Water Street Wellsville MO 63384 United States;X-APPLE-RADIUS=500;X-TITLE=520 W Water Street:geo:-91.5713114,39.0761001
END:VEVENT
END:VCALENDAR