BEGIN:VCALENDAR
VERSION:2.0
PRODID:-//St. Louis Area Foodbank - ECPv6.15.20//NONSGML v1.0//EN
CALSCALE:GREGORIAN
METHOD:PUBLISH
X-WR-CALNAME:St. Louis Area Foodbank
X-ORIGINAL-URL:https://stlfoodbank.org
X-WR-CALDESC:Events for St. Louis Area Foodbank
REFRESH-INTERVAL;VALUE=DURATION:PT1H
X-Robots-Tag:noindex
X-PUBLISHED-TTL:PT1H
BEGIN:VTIMEZONE
TZID:America/Chicago
BEGIN:DAYLIGHT
TZOFFSETFROM:-0600
TZOFFSETTO:-0500
TZNAME:CDT
DTSTART:20250309T080000
END:DAYLIGHT
BEGIN:STANDARD
TZOFFSETFROM:-0500
TZOFFSETTO:-0600
TZNAME:CST
DTSTART:20251102T070000
END:STANDARD
BEGIN:DAYLIGHT
TZOFFSETFROM:-0600
TZOFFSETTO:-0500
TZNAME:CDT
DTSTART:20260308T080000
END:DAYLIGHT
BEGIN:STANDARD
TZOFFSETFROM:-0500
TZOFFSETTO:-0600
TZNAME:CST
DTSTART:20261101T070000
END:STANDARD
BEGIN:DAYLIGHT
TZOFFSETFROM:-0600
TZOFFSETTO:-0500
TZNAME:CDT
DTSTART:20270314T080000
END:DAYLIGHT
BEGIN:STANDARD
TZOFFSETFROM:-0500
TZOFFSETTO:-0600
TZNAME:CST
DTSTART:20271107T070000
END:STANDARD
END:VTIMEZONE
BEGIN:VEVENT
DTSTART;TZID=America/Chicago:20260203T093000
DTEND;TZID=America/Chicago:20260203T113000
DTSTAMP:20260423T080654
CREATED:20260202T192223Z
LAST-MODIFIED:20260202T192603Z
UID:10009138-1770111000-1770118200@stlfoodbank.org
SUMMARY:LOCATION CHANGE - MO FARM Distribution | New Beginning Full Gospel (Washington County\, MO)
DESCRIPTION:The Feb. 3\, 2026 distribution will be held at the Washington County Ambulance District at 6900 Bill Gum Business Blvd\, Mineral Point\, MO 63660. \n  \nIn partnership with the St. Louis Area Foodbank\, New Beginning Full Gospel is hosting a drive-through Food Access and Resource Market. Neighbors will have the opportunity to get a mix of fresh and nonperishable food items at no cost. The distribution will end at the stated time or once all the food and other resources have been distributed. \nThis event is set up as a drive through distribution and volunteers and/or staff of the organization will put food directly into your car. We ask that you have space in your vehicle for the food items and that you do not leave your vehicle during the distribution. Please arrive at least 15 minutes prior to the start of the event. \nWe do not require any identification or verification of income – anyone is welcome. \nIf you have any questions\, please reach out to programs@stlfoodbank.org. \n*Dates and times are subject to change. We recommend following the St. Louis Area Foodbank on all social media platforms for any changes in the schedule.
URL:https://stlfoodbank.org/event/mo-il-farm-distribution-new-beginning-full-gospel-washington-county-mo-2-3-3/
LOCATION:Washington County Ambulance District\, 6900 Bill Gum Blvd\, Mineral Point\, 63660\, United States
END:VEVENT
END:VCALENDAR