BEGIN:VCALENDAR
VERSION:2.0
PRODID:-//St. Louis Area Foodbank - ECPv6.15.20//NONSGML v1.0//EN
CALSCALE:GREGORIAN
METHOD:PUBLISH
X-WR-CALNAME:St. Louis Area Foodbank
X-ORIGINAL-URL:https://stlfoodbank.org
X-WR-CALDESC:Events for St. Louis Area Foodbank
REFRESH-INTERVAL;VALUE=DURATION:PT1H
X-Robots-Tag:noindex
X-PUBLISHED-TTL:PT1H
BEGIN:VTIMEZONE
TZID:America/Chicago
BEGIN:DAYLIGHT
TZOFFSETFROM:-0600
TZOFFSETTO:-0500
TZNAME:CDT
DTSTART:20220313T080000
END:DAYLIGHT
BEGIN:STANDARD
TZOFFSETFROM:-0500
TZOFFSETTO:-0600
TZNAME:CST
DTSTART:20221106T070000
END:STANDARD
BEGIN:DAYLIGHT
TZOFFSETFROM:-0600
TZOFFSETTO:-0500
TZNAME:CDT
DTSTART:20230312T080000
END:DAYLIGHT
BEGIN:STANDARD
TZOFFSETFROM:-0500
TZOFFSETTO:-0600
TZNAME:CST
DTSTART:20231105T070000
END:STANDARD
BEGIN:DAYLIGHT
TZOFFSETFROM:-0600
TZOFFSETTO:-0500
TZNAME:CDT
DTSTART:20240310T080000
END:DAYLIGHT
BEGIN:STANDARD
TZOFFSETFROM:-0500
TZOFFSETTO:-0600
TZNAME:CST
DTSTART:20241103T070000
END:STANDARD
END:VTIMEZONE
BEGIN:VTIMEZONE
TZID:UTC
BEGIN:STANDARD
TZOFFSETFROM:+0000
TZOFFSETTO:+0000
TZNAME:UTC
DTSTART:20210101T000000
END:STANDARD
END:VTIMEZONE
BEGIN:VEVENT
DTSTART;TZID=America/Chicago:20230213T133000
DTEND;TZID=America/Chicago:20230213T133000
DTSTAMP:20260420T044248
CREATED:20230110T210739Z
LAST-MODIFIED:20230206T203908Z
UID:10000249-1676295000-1676295000@stlfoodbank.org
SUMMARY:Mobile Market | The New Hope Resource Center at Morning Star Church
DESCRIPTION:In partnership with the St. Louis Area Foodbank\, The New Hope Resource Center at Morning Star Church  is hosting a drive-through Community Mobile Market. Neighbors have the opportunity to get a mix of fresh and nonperishable food items at no cost. The distribution will end at the stated time or once all of the food and other resources have been distributed.   \nThis event is set up as a drive through distribution and volunteers and/or staff of the organization will put food directly into your car. We ask that you have space in your vehicle for the food items and that you not leave your vehicle during the distribution. Please arrive at least 15 minutes prior to the start of the event.  \nWe do not require any identification or verification of income – anyone is welcome. \n If you have any questions\, please reach out to Terese at terese.spore@mscwired.org. \n*Dates and times are subject to change. We recommend checking in with the partner organization prior to the event to confirm dates/times.  
URL:https://stlfoodbank.org/event/mobile-market-the-new-hope-resource-center-at-morning-star-church-7-2/2023-02-13/
LOCATION:The New Hope Resource Center at Morning Star Church\, 1600 Feise Rd\, Dardenne Prairie\, MO\, 63368
CATEGORIES:Mobile Market
ATTACH;FMTTYPE=image/jpeg:https://stlfoodbank.org/wp-content/uploads/2022/12/FD-4.jpg
GEO:38.7726284;-90.7613024
X-APPLE-STRUCTURED-LOCATION;VALUE=URI;X-ADDRESS=The New Hope Resource Center at Morning Star Church 1600 Feise Rd Dardenne Prairie MO 63368;X-APPLE-RADIUS=500;X-TITLE=1600 Feise Rd:geo:-90.7613024,38.7726284
END:VEVENT
BEGIN:VEVENT
DTSTART;TZID=America/Chicago:20230109T133000
DTEND;TZID=America/Chicago:20230109T140000
DTSTAMP:20260420T044248
CREATED:20221221T193722Z
LAST-MODIFIED:20230109T200003Z
UID:10000128-1673271000-1673272800@stlfoodbank.org
SUMMARY:Mobile Market | The New Hope Resource Center at Morning Star Church
DESCRIPTION:In partnership with the St. Louis Area Food Bank\, The New Hope Resource Center at Morning Star Church  is hosting a drive-through Community Mobile Market. Neighbors have the opportunity to get a mix of fresh and nonperishable food items at no cost. The distribution will end at the stated time or once all of the food and other resources have been distributed.   \nThis event is set up as a drive through distribution and volunteers and/or staff of the organization will put food directly into your car. We ask that you have space in your vehicle for the food items and that you not leave your vehicle during the distribution. Please arrive at least 15 minutes prior to the start of the event.  \nWe do not require any identification or verification of income – anyone is welcome. \n If you have any questions\, please reach out to Terese at terese.spore@mscwired.org. \n*Dates and times are subject to change. We recommend checking in with the partner organization prior to the event to confirm dates/times.  
URL:https://stlfoodbank.org/event/mobile-market-the-new-hope-resource-center-at-morning-star-church-7/
LOCATION:The New Hope Resource Center at Morning Star Church\, 1600 Feise Rd\, Dardenne Prairie\, MO\, 63368
CATEGORIES:Mobile Market
ATTACH;FMTTYPE=image/jpeg:https://stlfoodbank.org/wp-content/uploads/2022/12/FD-4.jpg
GEO:38.7726284;-90.7613024
X-APPLE-STRUCTURED-LOCATION;VALUE=URI;X-ADDRESS=The New Hope Resource Center at Morning Star Church 1600 Feise Rd Dardenne Prairie MO 63368;X-APPLE-RADIUS=500;X-TITLE=1600 Feise Rd:geo:-90.7613024,38.7726284
END:VEVENT
BEGIN:VEVENT
DTSTART;TZID=UTC:20221212T133000
DTEND;TZID=UTC:20221212T150000
DTSTAMP:20260420T044248
CREATED:20220608T164049Z
LAST-MODIFIED:20221013T004548Z
UID:10000097-1670851800-1670857200@stlfoodbank.org
SUMMARY:Mobile Market | The New Hope Resource Center at Morning Star Church
DESCRIPTION:In partnership with the St. Louis Area Food Bank\, The New Hope Resource Center at Morning Star Church  is hosting a drive-through Community Mobile Market. Neighbors have the opportunity to get a mix of fresh and nonperishable food items at no cost. The distribution will end at the stated time or once all of the food and other resources have been distributed.   \nThis event is set up as a drive through distribution and volunteers and/or staff of the organization will put food directly into your car. We ask that you have space in your vehicle for the food items and that you not leave your vehicle during the distribution. Please arrive at least 15 minutes prior to the start of the event.  \nWe do not require any identification or verification of income – anyone is welcome. \n If you have any questions\, please reach out to Terese at terese.spore@mscwired.org.  \n*Dates and times are subject to change. We recommend checking in with the partner organization prior to the event to confirm dates/times.  
URL:https://stlfoodbank.org/event/mobile-market-the-new-hope-resource-center-at-morning-star-church-6/
LOCATION:The New Hope Resource Center at Morning Star Church\, 1600 Feise Rd\, Dardenne Prairie\, MO\, 63368
CATEGORIES:Mobile Market
ATTACH;FMTTYPE=:
GEO:38.7726284;-90.7613024
X-APPLE-STRUCTURED-LOCATION;VALUE=URI;X-ADDRESS=The New Hope Resource Center at Morning Star Church 1600 Feise Rd Dardenne Prairie MO 63368;X-APPLE-RADIUS=500;X-TITLE=1600 Feise Rd:geo:-90.7613024,38.7726284
END:VEVENT
BEGIN:VEVENT
DTSTART;TZID=UTC:20221114T133000
DTEND;TZID=UTC:20221114T150000
DTSTAMP:20260420T044248
CREATED:20220608T163950Z
LAST-MODIFIED:20221013T004117Z
UID:10000055-1668432600-1668438000@stlfoodbank.org
SUMMARY:Mobile Market | The New Hope Resource Center at Morning Star Church
DESCRIPTION:In partnership with the St. Louis Area Food Bank\, The New Hope Resource Center at Morning Star Church  is hosting a drive-through Community Mobile Market. Neighbors have the opportunity to get a mix of fresh and nonperishable food items at no cost. The distribution will end at the stated time or once all of the food and other resources have been distributed.   \nThis event is set up as a drive through distribution and volunteers and/or staff of the organization will put food directly into your car. We ask that you have space in your vehicle for the food items and that you not leave your vehicle during the distribution. Please arrive at least 15 minutes prior to the start of the event.  \nWe do not require any identification or verification of income – anyone is welcome. \n If you have any questions\, please reach out to Terese at terese.spore@mscwired.org.  \n*Dates and times are subject to change. We recommend checking in with the partner organization prior to the event to confirm dates/times.  
URL:https://stlfoodbank.org/event/mobile-market-the-new-hope-resource-center-at-morning-star-church-5/
LOCATION:The New Hope Resource Center at Morning Star Church\, 1600 Feise Rd\, Dardenne Prairie\, MO\, 63368
CATEGORIES:Mobile Market
ATTACH;FMTTYPE=:
GEO:38.7726284;-90.7613024
X-APPLE-STRUCTURED-LOCATION;VALUE=URI;X-ADDRESS=The New Hope Resource Center at Morning Star Church 1600 Feise Rd Dardenne Prairie MO 63368;X-APPLE-RADIUS=500;X-TITLE=1600 Feise Rd:geo:-90.7613024,38.7726284
END:VEVENT
END:VCALENDAR