BEGIN:VCALENDAR
VERSION:2.0
PRODID:-//St. Louis Area Foodbank - ECPv6.15.20//NONSGML v1.0//EN
CALSCALE:GREGORIAN
METHOD:PUBLISH
X-WR-CALNAME:St. Louis Area Foodbank
X-ORIGINAL-URL:https://stlfoodbank.org
X-WR-CALDESC:Events for St. Louis Area Foodbank
REFRESH-INTERVAL;VALUE=DURATION:PT1H
X-Robots-Tag:noindex
X-PUBLISHED-TTL:PT1H
BEGIN:VTIMEZONE
TZID:America/Chicago
BEGIN:DAYLIGHT
TZOFFSETFROM:-0600
TZOFFSETTO:-0500
TZNAME:CDT
DTSTART:20280312T080000
END:DAYLIGHT
BEGIN:STANDARD
TZOFFSETFROM:-0500
TZOFFSETTO:-0600
TZNAME:CST
DTSTART:20281105T070000
END:STANDARD
BEGIN:DAYLIGHT
TZOFFSETFROM:-0600
TZOFFSETTO:-0500
TZNAME:CDT
DTSTART:20290311T080000
END:DAYLIGHT
BEGIN:STANDARD
TZOFFSETFROM:-0500
TZOFFSETTO:-0600
TZNAME:CST
DTSTART:20291104T070000
END:STANDARD
BEGIN:DAYLIGHT
TZOFFSETFROM:-0600
TZOFFSETTO:-0500
TZNAME:CDT
DTSTART:20300310T080000
END:DAYLIGHT
BEGIN:STANDARD
TZOFFSETFROM:-0500
TZOFFSETTO:-0600
TZNAME:CST
DTSTART:20301103T070000
END:STANDARD
BEGIN:DAYLIGHT
TZOFFSETFROM:-0600
TZOFFSETTO:-0500
TZNAME:CDT
DTSTART:20310309T080000
END:DAYLIGHT
BEGIN:STANDARD
TZOFFSETFROM:-0500
TZOFFSETTO:-0600
TZNAME:CST
DTSTART:20311102T070000
END:STANDARD
END:VTIMEZONE
BEGIN:VEVENT
DTSTART;TZID=America/Chicago:20290502T100000
DTEND;TZID=America/Chicago:20290502T110000
DTSTAMP:20260419T173117
CREATED:20250527T153703Z
LAST-MODIFIED:20250527T153703Z
UID:10017504-1872410400-1872414000@stlfoodbank.org
SUMMARY:Food on the Move | Stonebridge Townhomes (Florissant\, MO)
DESCRIPTION:Food On The Move is a walk-through\, shopping style food distribution program for individuals living in areas of Illinois and Missouri with limited access to healthy food and resources. During these events\, neighbors are able to walk through the 28-foot trailer and choose the foods that they need. Verification of personal information is not required to participate.  All are welcome to receive food while supplies last. \nIf you have any questions\, please reach out to programs@stlfoodbank.org. \n*Times and dates are subject to change due to holidays and inclement weather. Check our social media pages for any updates @STLFoodbank!
URL:https://stlfoodbank.org/event/food-on-the-move-stonebridge-townhomes-florissant-mo-3-2/2029-05-02/
LOCATION:Stonebridge Townhomes\, 1496 Stonebury Ct\, Florrisant\, MO\, 63033\, United States
GEO:38.7734034;-90.301047
X-APPLE-STRUCTURED-LOCATION;VALUE=URI;X-ADDRESS=Stonebridge Townhomes 1496 Stonebury Ct Florrisant MO 63033 United States;X-APPLE-RADIUS=500;X-TITLE=1496 Stonebury Ct:geo:-90.301047,38.7734034
END:VEVENT
BEGIN:VEVENT
DTSTART;TZID=America/Chicago:20290606T100000
DTEND;TZID=America/Chicago:20290606T110000
DTSTAMP:20260419T173117
CREATED:20250527T153703Z
LAST-MODIFIED:20250527T153703Z
UID:10017505-1875434400-1875438000@stlfoodbank.org
SUMMARY:Food on the Move | Stonebridge Townhomes (Florissant\, MO)
DESCRIPTION:Food On The Move is a walk-through\, shopping style food distribution program for individuals living in areas of Illinois and Missouri with limited access to healthy food and resources. During these events\, neighbors are able to walk through the 28-foot trailer and choose the foods that they need. Verification of personal information is not required to participate.  All are welcome to receive food while supplies last. \nIf you have any questions\, please reach out to programs@stlfoodbank.org. \n*Times and dates are subject to change due to holidays and inclement weather. Check our social media pages for any updates @STLFoodbank!
URL:https://stlfoodbank.org/event/food-on-the-move-stonebridge-townhomes-florissant-mo-3-2/2029-06-06/
LOCATION:Stonebridge Townhomes\, 1496 Stonebury Ct\, Florrisant\, MO\, 63033\, United States
GEO:38.7734034;-90.301047
X-APPLE-STRUCTURED-LOCATION;VALUE=URI;X-ADDRESS=Stonebridge Townhomes 1496 Stonebury Ct Florrisant MO 63033 United States;X-APPLE-RADIUS=500;X-TITLE=1496 Stonebury Ct:geo:-90.301047,38.7734034
END:VEVENT
BEGIN:VEVENT
DTSTART;TZID=America/Chicago:20290704T100000
DTEND;TZID=America/Chicago:20290704T110000
DTSTAMP:20260419T173117
CREATED:20250527T153703Z
LAST-MODIFIED:20250527T153703Z
UID:10017506-1877853600-1877857200@stlfoodbank.org
SUMMARY:Food on the Move | Stonebridge Townhomes (Florissant\, MO)
DESCRIPTION:Food On The Move is a walk-through\, shopping style food distribution program for individuals living in areas of Illinois and Missouri with limited access to healthy food and resources. During these events\, neighbors are able to walk through the 28-foot trailer and choose the foods that they need. Verification of personal information is not required to participate.  All are welcome to receive food while supplies last. \nIf you have any questions\, please reach out to programs@stlfoodbank.org. \n*Times and dates are subject to change due to holidays and inclement weather. Check our social media pages for any updates @STLFoodbank!
URL:https://stlfoodbank.org/event/food-on-the-move-stonebridge-townhomes-florissant-mo-3-2/2029-07-04/
LOCATION:Stonebridge Townhomes\, 1496 Stonebury Ct\, Florrisant\, MO\, 63033\, United States
GEO:38.7734034;-90.301047
X-APPLE-STRUCTURED-LOCATION;VALUE=URI;X-ADDRESS=Stonebridge Townhomes 1496 Stonebury Ct Florrisant MO 63033 United States;X-APPLE-RADIUS=500;X-TITLE=1496 Stonebury Ct:geo:-90.301047,38.7734034
END:VEVENT
BEGIN:VEVENT
DTSTART;TZID=America/Chicago:20290801T100000
DTEND;TZID=America/Chicago:20290801T110000
DTSTAMP:20260419T173117
CREATED:20250527T153703Z
LAST-MODIFIED:20250527T153703Z
UID:10017507-1880272800-1880276400@stlfoodbank.org
SUMMARY:Food on the Move | Stonebridge Townhomes (Florissant\, MO)
DESCRIPTION:Food On The Move is a walk-through\, shopping style food distribution program for individuals living in areas of Illinois and Missouri with limited access to healthy food and resources. During these events\, neighbors are able to walk through the 28-foot trailer and choose the foods that they need. Verification of personal information is not required to participate.  All are welcome to receive food while supplies last. \nIf you have any questions\, please reach out to programs@stlfoodbank.org. \n*Times and dates are subject to change due to holidays and inclement weather. Check our social media pages for any updates @STLFoodbank!
URL:https://stlfoodbank.org/event/food-on-the-move-stonebridge-townhomes-florissant-mo-3-2/2029-08-01/
LOCATION:Stonebridge Townhomes\, 1496 Stonebury Ct\, Florrisant\, MO\, 63033\, United States
GEO:38.7734034;-90.301047
X-APPLE-STRUCTURED-LOCATION;VALUE=URI;X-ADDRESS=Stonebridge Townhomes 1496 Stonebury Ct Florrisant MO 63033 United States;X-APPLE-RADIUS=500;X-TITLE=1496 Stonebury Ct:geo:-90.301047,38.7734034
END:VEVENT
BEGIN:VEVENT
DTSTART;TZID=America/Chicago:20290905T100000
DTEND;TZID=America/Chicago:20290905T110000
DTSTAMP:20260419T173117
CREATED:20250527T153703Z
LAST-MODIFIED:20250527T153703Z
UID:10017508-1883296800-1883300400@stlfoodbank.org
SUMMARY:Food on the Move | Stonebridge Townhomes (Florissant\, MO)
DESCRIPTION:Food On The Move is a walk-through\, shopping style food distribution program for individuals living in areas of Illinois and Missouri with limited access to healthy food and resources. During these events\, neighbors are able to walk through the 28-foot trailer and choose the foods that they need. Verification of personal information is not required to participate.  All are welcome to receive food while supplies last. \nIf you have any questions\, please reach out to programs@stlfoodbank.org. \n*Times and dates are subject to change due to holidays and inclement weather. Check our social media pages for any updates @STLFoodbank!
URL:https://stlfoodbank.org/event/food-on-the-move-stonebridge-townhomes-florissant-mo-3-2/2029-09-05/
LOCATION:Stonebridge Townhomes\, 1496 Stonebury Ct\, Florrisant\, MO\, 63033\, United States
GEO:38.7734034;-90.301047
X-APPLE-STRUCTURED-LOCATION;VALUE=URI;X-ADDRESS=Stonebridge Townhomes 1496 Stonebury Ct Florrisant MO 63033 United States;X-APPLE-RADIUS=500;X-TITLE=1496 Stonebury Ct:geo:-90.301047,38.7734034
END:VEVENT
BEGIN:VEVENT
DTSTART;TZID=America/Chicago:20291003T100000
DTEND;TZID=America/Chicago:20291003T110000
DTSTAMP:20260419T173117
CREATED:20250527T153703Z
LAST-MODIFIED:20250527T153703Z
UID:10017509-1885716000-1885719600@stlfoodbank.org
SUMMARY:Food on the Move | Stonebridge Townhomes (Florissant\, MO)
DESCRIPTION:Food On The Move is a walk-through\, shopping style food distribution program for individuals living in areas of Illinois and Missouri with limited access to healthy food and resources. During these events\, neighbors are able to walk through the 28-foot trailer and choose the foods that they need. Verification of personal information is not required to participate.  All are welcome to receive food while supplies last. \nIf you have any questions\, please reach out to programs@stlfoodbank.org. \n*Times and dates are subject to change due to holidays and inclement weather. Check our social media pages for any updates @STLFoodbank!
URL:https://stlfoodbank.org/event/food-on-the-move-stonebridge-townhomes-florissant-mo-3-2/2029-10-03/
LOCATION:Stonebridge Townhomes\, 1496 Stonebury Ct\, Florrisant\, MO\, 63033\, United States
GEO:38.7734034;-90.301047
X-APPLE-STRUCTURED-LOCATION;VALUE=URI;X-ADDRESS=Stonebridge Townhomes 1496 Stonebury Ct Florrisant MO 63033 United States;X-APPLE-RADIUS=500;X-TITLE=1496 Stonebury Ct:geo:-90.301047,38.7734034
END:VEVENT
BEGIN:VEVENT
DTSTART;TZID=America/Chicago:20291107T100000
DTEND;TZID=America/Chicago:20291107T110000
DTSTAMP:20260419T173117
CREATED:20250527T153703Z
LAST-MODIFIED:20250527T153703Z
UID:10017510-1888740000-1888743600@stlfoodbank.org
SUMMARY:Food on the Move | Stonebridge Townhomes (Florissant\, MO)
DESCRIPTION:Food On The Move is a walk-through\, shopping style food distribution program for individuals living in areas of Illinois and Missouri with limited access to healthy food and resources. During these events\, neighbors are able to walk through the 28-foot trailer and choose the foods that they need. Verification of personal information is not required to participate.  All are welcome to receive food while supplies last. \nIf you have any questions\, please reach out to programs@stlfoodbank.org. \n*Times and dates are subject to change due to holidays and inclement weather. Check our social media pages for any updates @STLFoodbank!
URL:https://stlfoodbank.org/event/food-on-the-move-stonebridge-townhomes-florissant-mo-3-2/2029-11-07/
LOCATION:Stonebridge Townhomes\, 1496 Stonebury Ct\, Florrisant\, MO\, 63033\, United States
GEO:38.7734034;-90.301047
X-APPLE-STRUCTURED-LOCATION;VALUE=URI;X-ADDRESS=Stonebridge Townhomes 1496 Stonebury Ct Florrisant MO 63033 United States;X-APPLE-RADIUS=500;X-TITLE=1496 Stonebury Ct:geo:-90.301047,38.7734034
END:VEVENT
BEGIN:VEVENT
DTSTART;TZID=America/Chicago:20291205T100000
DTEND;TZID=America/Chicago:20291205T110000
DTSTAMP:20260419T173117
CREATED:20250527T153703Z
LAST-MODIFIED:20250527T153703Z
UID:10017511-1891159200-1891162800@stlfoodbank.org
SUMMARY:Food on the Move | Stonebridge Townhomes (Florissant\, MO)
DESCRIPTION:Food On The Move is a walk-through\, shopping style food distribution program for individuals living in areas of Illinois and Missouri with limited access to healthy food and resources. During these events\, neighbors are able to walk through the 28-foot trailer and choose the foods that they need. Verification of personal information is not required to participate.  All are welcome to receive food while supplies last. \nIf you have any questions\, please reach out to programs@stlfoodbank.org. \n*Times and dates are subject to change due to holidays and inclement weather. Check our social media pages for any updates @STLFoodbank!
URL:https://stlfoodbank.org/event/food-on-the-move-stonebridge-townhomes-florissant-mo-3-2/2029-12-05/
LOCATION:Stonebridge Townhomes\, 1496 Stonebury Ct\, Florrisant\, MO\, 63033\, United States
GEO:38.7734034;-90.301047
X-APPLE-STRUCTURED-LOCATION;VALUE=URI;X-ADDRESS=Stonebridge Townhomes 1496 Stonebury Ct Florrisant MO 63033 United States;X-APPLE-RADIUS=500;X-TITLE=1496 Stonebury Ct:geo:-90.301047,38.7734034
END:VEVENT
BEGIN:VEVENT
DTSTART;TZID=America/Chicago:20300102T100000
DTEND;TZID=America/Chicago:20300102T110000
DTSTAMP:20260419T173117
CREATED:20250527T153703Z
LAST-MODIFIED:20250527T153703Z
UID:10017512-1893578400-1893582000@stlfoodbank.org
SUMMARY:Food on the Move | Stonebridge Townhomes (Florissant\, MO)
DESCRIPTION:Food On The Move is a walk-through\, shopping style food distribution program for individuals living in areas of Illinois and Missouri with limited access to healthy food and resources. During these events\, neighbors are able to walk through the 28-foot trailer and choose the foods that they need. Verification of personal information is not required to participate.  All are welcome to receive food while supplies last. \nIf you have any questions\, please reach out to programs@stlfoodbank.org. \n*Times and dates are subject to change due to holidays and inclement weather. Check our social media pages for any updates @STLFoodbank!
URL:https://stlfoodbank.org/event/food-on-the-move-stonebridge-townhomes-florissant-mo-3-2/2030-01-02/
LOCATION:Stonebridge Townhomes\, 1496 Stonebury Ct\, Florrisant\, MO\, 63033\, United States
GEO:38.7734034;-90.301047
X-APPLE-STRUCTURED-LOCATION;VALUE=URI;X-ADDRESS=Stonebridge Townhomes 1496 Stonebury Ct Florrisant MO 63033 United States;X-APPLE-RADIUS=500;X-TITLE=1496 Stonebury Ct:geo:-90.301047,38.7734034
END:VEVENT
BEGIN:VEVENT
DTSTART;TZID=America/Chicago:20300206T100000
DTEND;TZID=America/Chicago:20300206T110000
DTSTAMP:20260419T173117
CREATED:20250527T153703Z
LAST-MODIFIED:20250527T153703Z
UID:10019121-1896602400-1896606000@stlfoodbank.org
SUMMARY:Food on the Move | Stonebridge Townhomes (Florissant\, MO)
DESCRIPTION:Food On The Move is a walk-through\, shopping style food distribution program for individuals living in areas of Illinois and Missouri with limited access to healthy food and resources. During these events\, neighbors are able to walk through the 28-foot trailer and choose the foods that they need. Verification of personal information is not required to participate.  All are welcome to receive food while supplies last. \nIf you have any questions\, please reach out to programs@stlfoodbank.org. \n*Times and dates are subject to change due to holidays and inclement weather. Check our social media pages for any updates @STLFoodbank!
URL:https://stlfoodbank.org/event/food-on-the-move-stonebridge-townhomes-florissant-mo-3-2/2030-02-06/
LOCATION:Stonebridge Townhomes\, 1496 Stonebury Ct\, Florrisant\, MO\, 63033\, United States
GEO:38.7734034;-90.301047
X-APPLE-STRUCTURED-LOCATION;VALUE=URI;X-ADDRESS=Stonebridge Townhomes 1496 Stonebury Ct Florrisant MO 63033 United States;X-APPLE-RADIUS=500;X-TITLE=1496 Stonebury Ct:geo:-90.301047,38.7734034
END:VEVENT
BEGIN:VEVENT
DTSTART;TZID=America/Chicago:20300306T100000
DTEND;TZID=America/Chicago:20300306T110000
DTSTAMP:20260419T173117
CREATED:20250527T153703Z
LAST-MODIFIED:20250527T153703Z
UID:10019122-1899021600-1899025200@stlfoodbank.org
SUMMARY:Food on the Move | Stonebridge Townhomes (Florissant\, MO)
DESCRIPTION:Food On The Move is a walk-through\, shopping style food distribution program for individuals living in areas of Illinois and Missouri with limited access to healthy food and resources. During these events\, neighbors are able to walk through the 28-foot trailer and choose the foods that they need. Verification of personal information is not required to participate.  All are welcome to receive food while supplies last. \nIf you have any questions\, please reach out to programs@stlfoodbank.org. \n*Times and dates are subject to change due to holidays and inclement weather. Check our social media pages for any updates @STLFoodbank!
URL:https://stlfoodbank.org/event/food-on-the-move-stonebridge-townhomes-florissant-mo-3-2/2030-03-06/
LOCATION:Stonebridge Townhomes\, 1496 Stonebury Ct\, Florrisant\, MO\, 63033\, United States
GEO:38.7734034;-90.301047
X-APPLE-STRUCTURED-LOCATION;VALUE=URI;X-ADDRESS=Stonebridge Townhomes 1496 Stonebury Ct Florrisant MO 63033 United States;X-APPLE-RADIUS=500;X-TITLE=1496 Stonebury Ct:geo:-90.301047,38.7734034
END:VEVENT
BEGIN:VEVENT
DTSTART;TZID=America/Chicago:20300403T100000
DTEND;TZID=America/Chicago:20300403T110000
DTSTAMP:20260419T173117
CREATED:20250527T153703Z
LAST-MODIFIED:20250527T153703Z
UID:10019123-1901440800-1901444400@stlfoodbank.org
SUMMARY:Food on the Move | Stonebridge Townhomes (Florissant\, MO)
DESCRIPTION:Food On The Move is a walk-through\, shopping style food distribution program for individuals living in areas of Illinois and Missouri with limited access to healthy food and resources. During these events\, neighbors are able to walk through the 28-foot trailer and choose the foods that they need. Verification of personal information is not required to participate.  All are welcome to receive food while supplies last. \nIf you have any questions\, please reach out to programs@stlfoodbank.org. \n*Times and dates are subject to change due to holidays and inclement weather. Check our social media pages for any updates @STLFoodbank!
URL:https://stlfoodbank.org/event/food-on-the-move-stonebridge-townhomes-florissant-mo-3-2/2030-04-03/
LOCATION:Stonebridge Townhomes\, 1496 Stonebury Ct\, Florrisant\, MO\, 63033\, United States
GEO:38.7734034;-90.301047
X-APPLE-STRUCTURED-LOCATION;VALUE=URI;X-ADDRESS=Stonebridge Townhomes 1496 Stonebury Ct Florrisant MO 63033 United States;X-APPLE-RADIUS=500;X-TITLE=1496 Stonebury Ct:geo:-90.301047,38.7734034
END:VEVENT
BEGIN:VEVENT
DTSTART;TZID=America/Chicago:20300501T100000
DTEND;TZID=America/Chicago:20300501T110000
DTSTAMP:20260419T173117
CREATED:20250527T153703Z
LAST-MODIFIED:20250527T153703Z
UID:10019124-1903860000-1903863600@stlfoodbank.org
SUMMARY:Food on the Move | Stonebridge Townhomes (Florissant\, MO)
DESCRIPTION:Food On The Move is a walk-through\, shopping style food distribution program for individuals living in areas of Illinois and Missouri with limited access to healthy food and resources. During these events\, neighbors are able to walk through the 28-foot trailer and choose the foods that they need. Verification of personal information is not required to participate.  All are welcome to receive food while supplies last. \nIf you have any questions\, please reach out to programs@stlfoodbank.org. \n*Times and dates are subject to change due to holidays and inclement weather. Check our social media pages for any updates @STLFoodbank!
URL:https://stlfoodbank.org/event/food-on-the-move-stonebridge-townhomes-florissant-mo-3-2/2030-05-01/
LOCATION:Stonebridge Townhomes\, 1496 Stonebury Ct\, Florrisant\, MO\, 63033\, United States
GEO:38.7734034;-90.301047
X-APPLE-STRUCTURED-LOCATION;VALUE=URI;X-ADDRESS=Stonebridge Townhomes 1496 Stonebury Ct Florrisant MO 63033 United States;X-APPLE-RADIUS=500;X-TITLE=1496 Stonebury Ct:geo:-90.301047,38.7734034
END:VEVENT
END:VCALENDAR