BEGIN:VCALENDAR
VERSION:2.0
PRODID:-//St. Louis Area Foodbank - ECPv6.15.20//NONSGML v1.0//EN
CALSCALE:GREGORIAN
METHOD:PUBLISH
X-WR-CALNAME:St. Louis Area Foodbank
X-ORIGINAL-URL:https://stlfoodbank.org
X-WR-CALDESC:Events for St. Louis Area Foodbank
REFRESH-INTERVAL;VALUE=DURATION:PT1H
X-Robots-Tag:noindex
X-PUBLISHED-TTL:PT1H
BEGIN:VTIMEZONE
TZID:America/Chicago
BEGIN:DAYLIGHT
TZOFFSETFROM:-0600
TZOFFSETTO:-0500
TZNAME:CDT
DTSTART:20220313T080000
END:DAYLIGHT
BEGIN:STANDARD
TZOFFSETFROM:-0500
TZOFFSETTO:-0600
TZNAME:CST
DTSTART:20221106T070000
END:STANDARD
BEGIN:DAYLIGHT
TZOFFSETFROM:-0600
TZOFFSETTO:-0500
TZNAME:CDT
DTSTART:20230312T080000
END:DAYLIGHT
BEGIN:STANDARD
TZOFFSETFROM:-0500
TZOFFSETTO:-0600
TZNAME:CST
DTSTART:20231105T070000
END:STANDARD
BEGIN:DAYLIGHT
TZOFFSETFROM:-0600
TZOFFSETTO:-0500
TZNAME:CDT
DTSTART:20240310T080000
END:DAYLIGHT
BEGIN:STANDARD
TZOFFSETFROM:-0500
TZOFFSETTO:-0600
TZNAME:CST
DTSTART:20241103T070000
END:STANDARD
BEGIN:DAYLIGHT
TZOFFSETFROM:-0600
TZOFFSETTO:-0500
TZNAME:CDT
DTSTART:20250309T080000
END:DAYLIGHT
BEGIN:STANDARD
TZOFFSETFROM:-0500
TZOFFSETTO:-0600
TZNAME:CST
DTSTART:20251102T070000
END:STANDARD
BEGIN:DAYLIGHT
TZOFFSETFROM:-0600
TZOFFSETTO:-0500
TZNAME:CDT
DTSTART:20260308T080000
END:DAYLIGHT
BEGIN:STANDARD
TZOFFSETFROM:-0500
TZOFFSETTO:-0600
TZNAME:CST
DTSTART:20261101T070000
END:STANDARD
END:VTIMEZONE
BEGIN:VEVENT
DTSTART;TZID=America/Chicago:20250207T120000
DTEND;TZID=America/Chicago:20250207T133000
DTSTAMP:20260419T121400
CREATED:20230828T205110Z
LAST-MODIFIED:20250203T170049Z
UID:10002302-1738929600-1738935000@stlfoodbank.org
SUMMARY:Food On The Move | Steeleville Senior Center (Steeleville\, IL)
DESCRIPTION:Food On The Move is a walk-through\, shopping style food distribution program for individuals living in areas of Illinois and Missouri with limited access to healthy food and resources. During these events\, neighbors are able to walk through the 28-foot trailer and choose the foods that they need. Verification of personal information is not required to participate.  All are welcome to receive food while supplies last. \nIf you have any questions\, please reach out to programs@stlfoodbank.org. \n*Times and dates are subject to change due to holidays and inclement weather. Check our social media pages for any updates @STLFoodbank!
URL:https://stlfoodbank.org/event/food-on-the-move-steeleville-senior-center-steeleville-il-2/2025-02-07/
LOCATION:Steeleville Senior Center\, 107 West Broadway Street\, Steeleville\, IL\, 62288\, United States
GEO:38.0076269;-89.659026
X-APPLE-STRUCTURED-LOCATION;VALUE=URI;X-ADDRESS=Steeleville Senior Center 107 West Broadway Street Steeleville IL 62288 United States;X-APPLE-RADIUS=500;X-TITLE=107 West Broadway Street:geo:-89.659026,38.0076269
END:VEVENT
BEGIN:VEVENT
DTSTART;TZID=America/Chicago:20250103T120000
DTEND;TZID=America/Chicago:20250103T133000
DTSTAMP:20260419T121400
CREATED:20230828T205110Z
LAST-MODIFIED:20250203T170049Z
UID:10002301-1735905600-1735911000@stlfoodbank.org
SUMMARY:Food On The Move | Steeleville Senior Center (Steeleville\, IL)
DESCRIPTION:Food On The Move is a walk-through\, shopping style food distribution program for individuals living in areas of Illinois and Missouri with limited access to healthy food and resources. During these events\, neighbors are able to walk through the 28-foot trailer and choose the foods that they need. Verification of personal information is not required to participate.  All are welcome to receive food while supplies last. \nIf you have any questions\, please reach out to programs@stlfoodbank.org. \n*Times and dates are subject to change due to holidays and inclement weather. Check our social media pages for any updates @STLFoodbank!
URL:https://stlfoodbank.org/event/food-on-the-move-steeleville-senior-center-steeleville-il-2/2025-01-03/
LOCATION:Steeleville Senior Center\, 107 West Broadway Street\, Steeleville\, IL\, 62288\, United States
GEO:38.0076269;-89.659026
X-APPLE-STRUCTURED-LOCATION;VALUE=URI;X-ADDRESS=Steeleville Senior Center 107 West Broadway Street Steeleville IL 62288 United States;X-APPLE-RADIUS=500;X-TITLE=107 West Broadway Street:geo:-89.659026,38.0076269
END:VEVENT
BEGIN:VEVENT
DTSTART;TZID=America/Chicago:20241206T120000
DTEND;TZID=America/Chicago:20241206T133000
DTSTAMP:20260419T121400
CREATED:20230828T205110Z
LAST-MODIFIED:20250203T170049Z
UID:10002300-1733486400-1733491800@stlfoodbank.org
SUMMARY:Food On The Move | Steeleville Senior Center (Steeleville\, IL)
DESCRIPTION:Food On The Move is a walk-through\, shopping style food distribution program for individuals living in areas of Illinois and Missouri with limited access to healthy food and resources. During these events\, neighbors are able to walk through the 28-foot trailer and choose the foods that they need. Verification of personal information is not required to participate.  All are welcome to receive food while supplies last. \nIf you have any questions\, please reach out to programs@stlfoodbank.org. \n*Times and dates are subject to change due to holidays and inclement weather. Check our social media pages for any updates @STLFoodbank!
URL:https://stlfoodbank.org/event/food-on-the-move-steeleville-senior-center-steeleville-il-2/2024-12-06/
LOCATION:Steeleville Senior Center\, 107 West Broadway Street\, Steeleville\, IL\, 62288\, United States
GEO:38.0076269;-89.659026
X-APPLE-STRUCTURED-LOCATION;VALUE=URI;X-ADDRESS=Steeleville Senior Center 107 West Broadway Street Steeleville IL 62288 United States;X-APPLE-RADIUS=500;X-TITLE=107 West Broadway Street:geo:-89.659026,38.0076269
END:VEVENT
BEGIN:VEVENT
DTSTART;TZID=America/Chicago:20241101T120000
DTEND;TZID=America/Chicago:20241101T133000
DTSTAMP:20260419T121400
CREATED:20230828T205110Z
LAST-MODIFIED:20250203T170049Z
UID:10002299-1730462400-1730467800@stlfoodbank.org
SUMMARY:Food On The Move | Steeleville Senior Center (Steeleville\, IL)
DESCRIPTION:Food On The Move is a walk-through\, shopping style food distribution program for individuals living in areas of Illinois and Missouri with limited access to healthy food and resources. During these events\, neighbors are able to walk through the 28-foot trailer and choose the foods that they need. Verification of personal information is not required to participate.  All are welcome to receive food while supplies last. \nIf you have any questions\, please reach out to programs@stlfoodbank.org. \n*Times and dates are subject to change due to holidays and inclement weather. Check our social media pages for any updates @STLFoodbank!
URL:https://stlfoodbank.org/event/food-on-the-move-steeleville-senior-center-steeleville-il-2/2024-11-01/
LOCATION:Steeleville Senior Center\, 107 West Broadway Street\, Steeleville\, IL\, 62288\, United States
GEO:38.0076269;-89.659026
X-APPLE-STRUCTURED-LOCATION;VALUE=URI;X-ADDRESS=Steeleville Senior Center 107 West Broadway Street Steeleville IL 62288 United States;X-APPLE-RADIUS=500;X-TITLE=107 West Broadway Street:geo:-89.659026,38.0076269
END:VEVENT
BEGIN:VEVENT
DTSTART;TZID=America/Chicago:20240906T120000
DTEND;TZID=America/Chicago:20240906T133000
DTSTAMP:20260419T121400
CREATED:20230828T205110Z
LAST-MODIFIED:20250203T170049Z
UID:10002297-1725624000-1725629400@stlfoodbank.org
SUMMARY:Food On The Move | Steeleville Senior Center (Steeleville\, IL)
DESCRIPTION:Food On The Move is a walk-through\, shopping style food distribution program for individuals living in areas of Illinois and Missouri with limited access to healthy food and resources. During these events\, neighbors are able to walk through the 28-foot trailer and choose the foods that they need. Verification of personal information is not required to participate.  All are welcome to receive food while supplies last. \nIf you have any questions\, please reach out to programs@stlfoodbank.org. \n*Times and dates are subject to change due to holidays and inclement weather. Check our social media pages for any updates @STLFoodbank!
URL:https://stlfoodbank.org/event/food-on-the-move-steeleville-senior-center-steeleville-il-2/2024-09-06/
LOCATION:Steeleville Senior Center\, 107 West Broadway Street\, Steeleville\, IL\, 62288\, United States
GEO:38.0076269;-89.659026
X-APPLE-STRUCTURED-LOCATION;VALUE=URI;X-ADDRESS=Steeleville Senior Center 107 West Broadway Street Steeleville IL 62288 United States;X-APPLE-RADIUS=500;X-TITLE=107 West Broadway Street:geo:-89.659026,38.0076269
END:VEVENT
BEGIN:VEVENT
DTSTART;TZID=America/Chicago:20240802T120000
DTEND;TZID=America/Chicago:20240802T133000
DTSTAMP:20260419T121400
CREATED:20230828T205110Z
LAST-MODIFIED:20250203T170049Z
UID:10002296-1722600000-1722605400@stlfoodbank.org
SUMMARY:Food On The Move | Steeleville Senior Center (Steeleville\, IL)
DESCRIPTION:Food On The Move is a walk-through\, shopping style food distribution program for individuals living in areas of Illinois and Missouri with limited access to healthy food and resources. During these events\, neighbors are able to walk through the 28-foot trailer and choose the foods that they need. Verification of personal information is not required to participate.  All are welcome to receive food while supplies last. \nIf you have any questions\, please reach out to programs@stlfoodbank.org. \n*Times and dates are subject to change due to holidays and inclement weather. Check our social media pages for any updates @STLFoodbank!
URL:https://stlfoodbank.org/event/food-on-the-move-steeleville-senior-center-steeleville-il-2/2024-08-02/
LOCATION:Steeleville Senior Center\, 107 West Broadway Street\, Steeleville\, IL\, 62288\, United States
GEO:38.0076269;-89.659026
X-APPLE-STRUCTURED-LOCATION;VALUE=URI;X-ADDRESS=Steeleville Senior Center 107 West Broadway Street Steeleville IL 62288 United States;X-APPLE-RADIUS=500;X-TITLE=107 West Broadway Street:geo:-89.659026,38.0076269
END:VEVENT
BEGIN:VEVENT
DTSTART;TZID=America/Chicago:20240607T120000
DTEND;TZID=America/Chicago:20240607T133000
DTSTAMP:20260419T121400
CREATED:20230828T205110Z
LAST-MODIFIED:20250203T170049Z
UID:10002294-1717761600-1717767000@stlfoodbank.org
SUMMARY:Food On The Move | Steeleville Senior Center (Steeleville\, IL)
DESCRIPTION:Food On The Move is a walk-through\, shopping style food distribution program for individuals living in areas of Illinois and Missouri with limited access to healthy food and resources. During these events\, neighbors are able to walk through the 28-foot trailer and choose the foods that they need. Verification of personal information is not required to participate.  All are welcome to receive food while supplies last. \nIf you have any questions\, please reach out to programs@stlfoodbank.org. \n*Times and dates are subject to change due to holidays and inclement weather. Check our social media pages for any updates @STLFoodbank!
URL:https://stlfoodbank.org/event/food-on-the-move-steeleville-senior-center-steeleville-il-2/2024-06-07/
LOCATION:Steeleville Senior Center\, 107 West Broadway Street\, Steeleville\, IL\, 62288\, United States
GEO:38.0076269;-89.659026
X-APPLE-STRUCTURED-LOCATION;VALUE=URI;X-ADDRESS=Steeleville Senior Center 107 West Broadway Street Steeleville IL 62288 United States;X-APPLE-RADIUS=500;X-TITLE=107 West Broadway Street:geo:-89.659026,38.0076269
END:VEVENT
BEGIN:VEVENT
DTSTART;TZID=America/Chicago:20240503T120000
DTEND;TZID=America/Chicago:20240503T133000
DTSTAMP:20260419T121400
CREATED:20230828T205110Z
LAST-MODIFIED:20250203T170049Z
UID:10002293-1714737600-1714743000@stlfoodbank.org
SUMMARY:Food On The Move | Steeleville Senior Center (Steeleville\, IL)
DESCRIPTION:Food On The Move is a walk-through\, shopping style food distribution program for individuals living in areas of Illinois and Missouri with limited access to healthy food and resources. During these events\, neighbors are able to walk through the 28-foot trailer and choose the foods that they need. Verification of personal information is not required to participate.  All are welcome to receive food while supplies last. \nIf you have any questions\, please reach out to programs@stlfoodbank.org. \n*Times and dates are subject to change due to holidays and inclement weather. Check our social media pages for any updates @STLFoodbank!
URL:https://stlfoodbank.org/event/food-on-the-move-steeleville-senior-center-steeleville-il-2/2024-05-03/
LOCATION:Steeleville Senior Center\, 107 West Broadway Street\, Steeleville\, IL\, 62288\, United States
GEO:38.0076269;-89.659026
X-APPLE-STRUCTURED-LOCATION;VALUE=URI;X-ADDRESS=Steeleville Senior Center 107 West Broadway Street Steeleville IL 62288 United States;X-APPLE-RADIUS=500;X-TITLE=107 West Broadway Street:geo:-89.659026,38.0076269
END:VEVENT
BEGIN:VEVENT
DTSTART;TZID=America/Chicago:20240405T120000
DTEND;TZID=America/Chicago:20240405T133000
DTSTAMP:20260419T121400
CREATED:20230828T205110Z
LAST-MODIFIED:20250203T170049Z
UID:10002292-1712318400-1712323800@stlfoodbank.org
SUMMARY:Food On The Move | Steeleville Senior Center (Steeleville\, IL)
DESCRIPTION:Food On The Move is a walk-through\, shopping style food distribution program for individuals living in areas of Illinois and Missouri with limited access to healthy food and resources. During these events\, neighbors are able to walk through the 28-foot trailer and choose the foods that they need. Verification of personal information is not required to participate.  All are welcome to receive food while supplies last. \nIf you have any questions\, please reach out to programs@stlfoodbank.org. \n*Times and dates are subject to change due to holidays and inclement weather. Check our social media pages for any updates @STLFoodbank!
URL:https://stlfoodbank.org/event/food-on-the-move-steeleville-senior-center-steeleville-il-2/2024-04-05/
LOCATION:Steeleville Senior Center\, 107 West Broadway Street\, Steeleville\, IL\, 62288\, United States
GEO:38.0076269;-89.659026
X-APPLE-STRUCTURED-LOCATION;VALUE=URI;X-ADDRESS=Steeleville Senior Center 107 West Broadway Street Steeleville IL 62288 United States;X-APPLE-RADIUS=500;X-TITLE=107 West Broadway Street:geo:-89.659026,38.0076269
END:VEVENT
BEGIN:VEVENT
DTSTART;TZID=America/Chicago:20240301T120000
DTEND;TZID=America/Chicago:20240301T133000
DTSTAMP:20260419T121400
CREATED:20230828T205110Z
LAST-MODIFIED:20250203T170049Z
UID:10002291-1709294400-1709299800@stlfoodbank.org
SUMMARY:Food On The Move | Steeleville Senior Center (Steeleville\, IL)
DESCRIPTION:Food On The Move is a walk-through\, shopping style food distribution program for individuals living in areas of Illinois and Missouri with limited access to healthy food and resources. During these events\, neighbors are able to walk through the 28-foot trailer and choose the foods that they need. Verification of personal information is not required to participate.  All are welcome to receive food while supplies last. \nIf you have any questions\, please reach out to programs@stlfoodbank.org. \n*Times and dates are subject to change due to holidays and inclement weather. Check our social media pages for any updates @STLFoodbank!
URL:https://stlfoodbank.org/event/food-on-the-move-steeleville-senior-center-steeleville-il-2/2024-03-01/
LOCATION:Steeleville Senior Center\, 107 West Broadway Street\, Steeleville\, IL\, 62288\, United States
GEO:38.0076269;-89.659026
X-APPLE-STRUCTURED-LOCATION;VALUE=URI;X-ADDRESS=Steeleville Senior Center 107 West Broadway Street Steeleville IL 62288 United States;X-APPLE-RADIUS=500;X-TITLE=107 West Broadway Street:geo:-89.659026,38.0076269
END:VEVENT
BEGIN:VEVENT
DTSTART;TZID=America/Chicago:20240202T120000
DTEND;TZID=America/Chicago:20240202T133000
DTSTAMP:20260419T121400
CREATED:20230828T205110Z
LAST-MODIFIED:20250203T170049Z
UID:10002290-1706875200-1706880600@stlfoodbank.org
SUMMARY:Food On The Move | Steeleville Senior Center (Steeleville\, IL)
DESCRIPTION:Food On The Move is a walk-through\, shopping style food distribution program for individuals living in areas of Illinois and Missouri with limited access to healthy food and resources. During these events\, neighbors are able to walk through the 28-foot trailer and choose the foods that they need. Verification of personal information is not required to participate.  All are welcome to receive food while supplies last. \nIf you have any questions\, please reach out to programs@stlfoodbank.org. \n*Times and dates are subject to change due to holidays and inclement weather. Check our social media pages for any updates @STLFoodbank!
URL:https://stlfoodbank.org/event/food-on-the-move-steeleville-senior-center-steeleville-il-2/2024-02-02/
LOCATION:Steeleville Senior Center\, 107 West Broadway Street\, Steeleville\, IL\, 62288\, United States
GEO:38.0076269;-89.659026
X-APPLE-STRUCTURED-LOCATION;VALUE=URI;X-ADDRESS=Steeleville Senior Center 107 West Broadway Street Steeleville IL 62288 United States;X-APPLE-RADIUS=500;X-TITLE=107 West Broadway Street:geo:-89.659026,38.0076269
END:VEVENT
BEGIN:VEVENT
DTSTART;TZID=America/Chicago:20240105T120000
DTEND;TZID=America/Chicago:20240105T133000
DTSTAMP:20260419T121400
CREATED:20230828T205110Z
LAST-MODIFIED:20250203T170049Z
UID:10002289-1704456000-1704461400@stlfoodbank.org
SUMMARY:Food On The Move | Steeleville Senior Center (Steeleville\, IL)
DESCRIPTION:Food On The Move is a walk-through\, shopping style food distribution program for individuals living in areas of Illinois and Missouri with limited access to healthy food and resources. During these events\, neighbors are able to walk through the 28-foot trailer and choose the foods that they need. Verification of personal information is not required to participate.  All are welcome to receive food while supplies last. \nIf you have any questions\, please reach out to programs@stlfoodbank.org. \n*Times and dates are subject to change due to holidays and inclement weather. Check our social media pages for any updates @STLFoodbank!
URL:https://stlfoodbank.org/event/food-on-the-move-steeleville-senior-center-steeleville-il-2/2024-01-05/
LOCATION:Steeleville Senior Center\, 107 West Broadway Street\, Steeleville\, IL\, 62288\, United States
GEO:38.0076269;-89.659026
X-APPLE-STRUCTURED-LOCATION;VALUE=URI;X-ADDRESS=Steeleville Senior Center 107 West Broadway Street Steeleville IL 62288 United States;X-APPLE-RADIUS=500;X-TITLE=107 West Broadway Street:geo:-89.659026,38.0076269
END:VEVENT
BEGIN:VEVENT
DTSTART;TZID=America/Chicago:20231201T120000
DTEND;TZID=America/Chicago:20231201T133000
DTSTAMP:20260419T121400
CREATED:20230828T205110Z
LAST-MODIFIED:20250203T170049Z
UID:10002288-1701432000-1701437400@stlfoodbank.org
SUMMARY:Food On The Move | Steeleville Senior Center (Steeleville\, IL)
DESCRIPTION:Food On The Move is a walk-through\, shopping style food distribution program for individuals living in areas of Illinois and Missouri with limited access to healthy food and resources. During these events\, neighbors are able to walk through the 28-foot trailer and choose the foods that they need. Verification of personal information is not required to participate.  All are welcome to receive food while supplies last. \nIf you have any questions\, please reach out to programs@stlfoodbank.org. \n*Times and dates are subject to change due to holidays and inclement weather. Check our social media pages for any updates @STLFoodbank!
URL:https://stlfoodbank.org/event/food-on-the-move-steeleville-senior-center-steeleville-il-2/2023-12-01/
LOCATION:Steeleville Senior Center\, 107 West Broadway Street\, Steeleville\, IL\, 62288\, United States
GEO:38.0076269;-89.659026
X-APPLE-STRUCTURED-LOCATION;VALUE=URI;X-ADDRESS=Steeleville Senior Center 107 West Broadway Street Steeleville IL 62288 United States;X-APPLE-RADIUS=500;X-TITLE=107 West Broadway Street:geo:-89.659026,38.0076269
END:VEVENT
BEGIN:VEVENT
DTSTART;TZID=America/Chicago:20231103T120000
DTEND;TZID=America/Chicago:20231103T133000
DTSTAMP:20260419T121400
CREATED:20230828T205110Z
LAST-MODIFIED:20250203T170049Z
UID:10002287-1699012800-1699018200@stlfoodbank.org
SUMMARY:Food On The Move | Steeleville Senior Center (Steeleville\, IL)
DESCRIPTION:Food On The Move is a walk-through\, shopping style food distribution program for individuals living in areas of Illinois and Missouri with limited access to healthy food and resources. During these events\, neighbors are able to walk through the 28-foot trailer and choose the foods that they need. Verification of personal information is not required to participate.  All are welcome to receive food while supplies last. \nIf you have any questions\, please reach out to programs@stlfoodbank.org. \n*Times and dates are subject to change due to holidays and inclement weather. Check our social media pages for any updates @STLFoodbank!
URL:https://stlfoodbank.org/event/food-on-the-move-steeleville-senior-center-steeleville-il-2/2023-11-03/
LOCATION:Steeleville Senior Center\, 107 West Broadway Street\, Steeleville\, IL\, 62288\, United States
GEO:38.0076269;-89.659026
X-APPLE-STRUCTURED-LOCATION;VALUE=URI;X-ADDRESS=Steeleville Senior Center 107 West Broadway Street Steeleville IL 62288 United States;X-APPLE-RADIUS=500;X-TITLE=107 West Broadway Street:geo:-89.659026,38.0076269
END:VEVENT
BEGIN:VEVENT
DTSTART;TZID=America/Chicago:20230804T120000
DTEND;TZID=America/Chicago:20230804T133000
DTSTAMP:20260419T121400
CREATED:20230615T140150Z
LAST-MODIFIED:20230615T140150Z
UID:10002284-1691150400-1691155800@stlfoodbank.org
SUMMARY:Food On The Move | Steeleville Senior Center (Steeleville\, IL)
DESCRIPTION:Food On The Move is a walk-through\, shopping style food distribution program for individuals living in areas of Illinois and Missouri with limited access to healthy food and resources. During these events\, neighbors are able to walk through the 28-foot trailer and choose the foods that they need. Verification of personal information is not required to participate.  All are welcome to receive food while supplies last. \nIf you have any questions\, please reach out to Jessica Murphy at JMurphy@stlfoodbank.org. \n*Times and dates are subject to change due to holidays and inclement weather. Check our social media pages for any updates @STLFoodbank!
URL:https://stlfoodbank.org/event/food-on-the-move-steeleville-senior-center-steeleville-il/
LOCATION:Steeleville Senior Center\, 107 West Broadway Street\, Steeleville\, IL\, 62288\, United States
GEO:38.0076269;-89.659026
X-APPLE-STRUCTURED-LOCATION;VALUE=URI;X-ADDRESS=Steeleville Senior Center 107 West Broadway Street Steeleville IL 62288 United States;X-APPLE-RADIUS=500;X-TITLE=107 West Broadway Street:geo:-89.659026,38.0076269
END:VEVENT
END:VCALENDAR