BEGIN:VCALENDAR
VERSION:2.0
PRODID:-//St. Louis Area Foodbank - ECPv6.15.20//NONSGML v1.0//EN
CALSCALE:GREGORIAN
METHOD:PUBLISH
X-WR-CALNAME:St. Louis Area Foodbank
X-ORIGINAL-URL:https://stlfoodbank.org
X-WR-CALDESC:Events for St. Louis Area Foodbank
REFRESH-INTERVAL;VALUE=DURATION:PT1H
X-Robots-Tag:noindex
X-PUBLISHED-TTL:PT1H
BEGIN:VTIMEZONE
TZID:America/Chicago
BEGIN:DAYLIGHT
TZOFFSETFROM:-0600
TZOFFSETTO:-0500
TZNAME:CDT
DTSTART:20230312T080000
END:DAYLIGHT
BEGIN:STANDARD
TZOFFSETFROM:-0500
TZOFFSETTO:-0600
TZNAME:CST
DTSTART:20231105T070000
END:STANDARD
BEGIN:DAYLIGHT
TZOFFSETFROM:-0600
TZOFFSETTO:-0500
TZNAME:CDT
DTSTART:20240310T080000
END:DAYLIGHT
BEGIN:STANDARD
TZOFFSETFROM:-0500
TZOFFSETTO:-0600
TZNAME:CST
DTSTART:20241103T070000
END:STANDARD
BEGIN:DAYLIGHT
TZOFFSETFROM:-0600
TZOFFSETTO:-0500
TZNAME:CDT
DTSTART:20250309T080000
END:DAYLIGHT
BEGIN:STANDARD
TZOFFSETFROM:-0500
TZOFFSETTO:-0600
TZNAME:CST
DTSTART:20251102T070000
END:STANDARD
BEGIN:DAYLIGHT
TZOFFSETFROM:-0600
TZOFFSETTO:-0500
TZNAME:CDT
DTSTART:20260308T080000
END:DAYLIGHT
BEGIN:STANDARD
TZOFFSETFROM:-0500
TZOFFSETTO:-0600
TZNAME:CST
DTSTART:20261101T070000
END:STANDARD
END:VTIMEZONE
BEGIN:VEVENT
DTSTART;TZID=America/Chicago:20250221T110000
DTEND;TZID=America/Chicago:20250221T120000
DTSTAMP:20260419T090427
CREATED:20250205T153021Z
LAST-MODIFIED:20250205T153022Z
UID:10011919-1740135600-1740139200@stlfoodbank.org
SUMMARY:MO FARM Distribution | South Iron Food Pantry (Iron County\, MO)
DESCRIPTION:In partnership with the St. Louis Area Foodbank\, South Iron Food Pantry is hosting a drive-through Food Access and Resource Market. Neighbors will have the opportunity to get a mix of fresh and nonperishable food items at no cost. The distribution will end at the stated time or once all the food and other resources have been distributed. \nThis event is set up as a drive through distribution and volunteers and/or staff of the organization will put food directly into your car. We ask that you have space in your vehicle for the food items and that you do not leave your vehicle during the distribution. Please arrive at least 15 minutes prior to the start of the event. \nWe do not require any identification or verification of income – anyone is welcome. \nIf you have any questions\, please reach out to programs@stlfoodbank.org. \n*Dates and times are subject to change. We recommend following the St. Louis Area Foodbank on all social media platforms for any changes in the schedule.
URL:https://stlfoodbank.org/event/mo-farm-distribution-south-iron-food-pantry-iron-county-mo-2/
LOCATION:South Iron Food Pantry\, 201 South Front Street\, Des Arc\, Missouri\, 63636\, United States
GEO:37.2821899;-90.6367969
X-APPLE-STRUCTURED-LOCATION;VALUE=URI;X-ADDRESS=South Iron Food Pantry 201 South Front Street Des Arc Missouri 63636 United States;X-APPLE-RADIUS=500;X-TITLE=201 South Front Street:geo:-90.6367969,37.2821899
END:VEVENT
BEGIN:VEVENT
DTSTART;TZID=America/Chicago:20250117T110000
DTEND;TZID=America/Chicago:20250117T120000
DTSTAMP:20260419T090427
CREATED:20240617T193408Z
LAST-MODIFIED:20240617T193408Z
UID:10011918-1737111600-1737115200@stlfoodbank.org
SUMMARY:MO FARM Distribution | South Iron Food Pantry (Iron County\, MO)
DESCRIPTION:In partnership with the St. Louis Area Foodbank\, South Iron Food Pantry is hosting a drive-through Food Access and Resource Market. Neighbors will have the opportunity to get a mix of fresh and nonperishable food items at no cost. The distribution will end at the stated time or once all the food and other resources have been distributed. \nThis event is set up as a drive through distribution and volunteers and/or staff of the organization will put food directly into your car. We ask that you have space in your vehicle for the food items and that you do not leave your vehicle during the distribution. Please arrive at least 15 minutes prior to the start of the event. \nWe do not require any identification or verification of income – anyone is welcome. \n*Dates and times are subject to change. We recommend following the St. Louis Area Foodbank on all social media platforms for any changes in the schedule.
URL:https://stlfoodbank.org/event/mo-farm-distribution-south-iron-food-pantry-iron-county-mo/2025-01-17/
LOCATION:South Iron Food Pantry\, 201 South Front Street\, Des Arc\, Missouri\, 63636\, United States
GEO:37.2821899;-90.6367969
X-APPLE-STRUCTURED-LOCATION;VALUE=URI;X-ADDRESS=South Iron Food Pantry 201 South Front Street Des Arc Missouri 63636 United States;X-APPLE-RADIUS=500;X-TITLE=201 South Front Street:geo:-90.6367969,37.2821899
END:VEVENT
BEGIN:VEVENT
DTSTART;TZID=America/Chicago:20241220T110000
DTEND;TZID=America/Chicago:20241220T120000
DTSTAMP:20260419T090427
CREATED:20240617T193408Z
LAST-MODIFIED:20240617T193408Z
UID:10011917-1734692400-1734696000@stlfoodbank.org
SUMMARY:MO FARM Distribution | South Iron Food Pantry (Iron County\, MO)
DESCRIPTION:In partnership with the St. Louis Area Foodbank\, South Iron Food Pantry is hosting a drive-through Food Access and Resource Market. Neighbors will have the opportunity to get a mix of fresh and nonperishable food items at no cost. The distribution will end at the stated time or once all the food and other resources have been distributed. \nThis event is set up as a drive through distribution and volunteers and/or staff of the organization will put food directly into your car. We ask that you have space in your vehicle for the food items and that you do not leave your vehicle during the distribution. Please arrive at least 15 minutes prior to the start of the event. \nWe do not require any identification or verification of income – anyone is welcome. \n*Dates and times are subject to change. We recommend following the St. Louis Area Foodbank on all social media platforms for any changes in the schedule.
URL:https://stlfoodbank.org/event/mo-farm-distribution-south-iron-food-pantry-iron-county-mo/2024-12-20/
LOCATION:South Iron Food Pantry\, 201 South Front Street\, Des Arc\, Missouri\, 63636\, United States
GEO:37.2821899;-90.6367969
X-APPLE-STRUCTURED-LOCATION;VALUE=URI;X-ADDRESS=South Iron Food Pantry 201 South Front Street Des Arc Missouri 63636 United States;X-APPLE-RADIUS=500;X-TITLE=201 South Front Street:geo:-90.6367969,37.2821899
END:VEVENT
BEGIN:VEVENT
DTSTART;TZID=America/Chicago:20241115T110000
DTEND;TZID=America/Chicago:20241115T120000
DTSTAMP:20260419T090427
CREATED:20240617T193408Z
LAST-MODIFIED:20240617T193408Z
UID:10011916-1731668400-1731672000@stlfoodbank.org
SUMMARY:MO FARM Distribution | South Iron Food Pantry (Iron County\, MO)
DESCRIPTION:In partnership with the St. Louis Area Foodbank\, South Iron Food Pantry is hosting a drive-through Food Access and Resource Market. Neighbors will have the opportunity to get a mix of fresh and nonperishable food items at no cost. The distribution will end at the stated time or once all the food and other resources have been distributed. \nThis event is set up as a drive through distribution and volunteers and/or staff of the organization will put food directly into your car. We ask that you have space in your vehicle for the food items and that you do not leave your vehicle during the distribution. Please arrive at least 15 minutes prior to the start of the event. \nWe do not require any identification or verification of income – anyone is welcome. \n*Dates and times are subject to change. We recommend following the St. Louis Area Foodbank on all social media platforms for any changes in the schedule.
URL:https://stlfoodbank.org/event/mo-farm-distribution-south-iron-food-pantry-iron-county-mo/2024-11-15/
LOCATION:South Iron Food Pantry\, 201 South Front Street\, Des Arc\, Missouri\, 63636\, United States
GEO:37.2821899;-90.6367969
X-APPLE-STRUCTURED-LOCATION;VALUE=URI;X-ADDRESS=South Iron Food Pantry 201 South Front Street Des Arc Missouri 63636 United States;X-APPLE-RADIUS=500;X-TITLE=201 South Front Street:geo:-90.6367969,37.2821899
END:VEVENT
BEGIN:VEVENT
DTSTART;TZID=America/Chicago:20241018T110000
DTEND;TZID=America/Chicago:20241018T120000
DTSTAMP:20260419T090427
CREATED:20240617T193408Z
LAST-MODIFIED:20240617T193408Z
UID:10011915-1729249200-1729252800@stlfoodbank.org
SUMMARY:MO FARM Distribution | South Iron Food Pantry (Iron County\, MO)
DESCRIPTION:In partnership with the St. Louis Area Foodbank\, South Iron Food Pantry is hosting a drive-through Food Access and Resource Market. Neighbors will have the opportunity to get a mix of fresh and nonperishable food items at no cost. The distribution will end at the stated time or once all the food and other resources have been distributed. \nThis event is set up as a drive through distribution and volunteers and/or staff of the organization will put food directly into your car. We ask that you have space in your vehicle for the food items and that you do not leave your vehicle during the distribution. Please arrive at least 15 minutes prior to the start of the event. \nWe do not require any identification or verification of income – anyone is welcome. \n*Dates and times are subject to change. We recommend following the St. Louis Area Foodbank on all social media platforms for any changes in the schedule.
URL:https://stlfoodbank.org/event/mo-farm-distribution-south-iron-food-pantry-iron-county-mo/2024-10-18/
LOCATION:South Iron Food Pantry\, 201 South Front Street\, Des Arc\, Missouri\, 63636\, United States
GEO:37.2821899;-90.6367969
X-APPLE-STRUCTURED-LOCATION;VALUE=URI;X-ADDRESS=South Iron Food Pantry 201 South Front Street Des Arc Missouri 63636 United States;X-APPLE-RADIUS=500;X-TITLE=201 South Front Street:geo:-90.6367969,37.2821899
END:VEVENT
BEGIN:VEVENT
DTSTART;TZID=America/Chicago:20240920T110000
DTEND;TZID=America/Chicago:20240920T120000
DTSTAMP:20260419T090427
CREATED:20240617T193408Z
LAST-MODIFIED:20240617T193408Z
UID:10011914-1726830000-1726833600@stlfoodbank.org
SUMMARY:MO FARM Distribution | South Iron Food Pantry (Iron County\, MO)
DESCRIPTION:In partnership with the St. Louis Area Foodbank\, South Iron Food Pantry is hosting a drive-through Food Access and Resource Market. Neighbors will have the opportunity to get a mix of fresh and nonperishable food items at no cost. The distribution will end at the stated time or once all the food and other resources have been distributed. \nThis event is set up as a drive through distribution and volunteers and/or staff of the organization will put food directly into your car. We ask that you have space in your vehicle for the food items and that you do not leave your vehicle during the distribution. Please arrive at least 15 minutes prior to the start of the event. \nWe do not require any identification or verification of income – anyone is welcome. \n*Dates and times are subject to change. We recommend following the St. Louis Area Foodbank on all social media platforms for any changes in the schedule.
URL:https://stlfoodbank.org/event/mo-farm-distribution-south-iron-food-pantry-iron-county-mo/2024-09-20/
LOCATION:South Iron Food Pantry\, 201 South Front Street\, Des Arc\, Missouri\, 63636\, United States
GEO:37.2821899;-90.6367969
X-APPLE-STRUCTURED-LOCATION;VALUE=URI;X-ADDRESS=South Iron Food Pantry 201 South Front Street Des Arc Missouri 63636 United States;X-APPLE-RADIUS=500;X-TITLE=201 South Front Street:geo:-90.6367969,37.2821899
END:VEVENT
BEGIN:VEVENT
DTSTART;TZID=America/Chicago:20240816T110000
DTEND;TZID=America/Chicago:20240816T120000
DTSTAMP:20260419T090427
CREATED:20240617T193408Z
LAST-MODIFIED:20240617T193408Z
UID:10011913-1723806000-1723809600@stlfoodbank.org
SUMMARY:MO FARM Distribution | South Iron Food Pantry (Iron County\, MO)
DESCRIPTION:In partnership with the St. Louis Area Foodbank\, South Iron Food Pantry is hosting a drive-through Food Access and Resource Market. Neighbors will have the opportunity to get a mix of fresh and nonperishable food items at no cost. The distribution will end at the stated time or once all the food and other resources have been distributed. \nThis event is set up as a drive through distribution and volunteers and/or staff of the organization will put food directly into your car. We ask that you have space in your vehicle for the food items and that you do not leave your vehicle during the distribution. Please arrive at least 15 minutes prior to the start of the event. \nWe do not require any identification or verification of income – anyone is welcome. \n*Dates and times are subject to change. We recommend following the St. Louis Area Foodbank on all social media platforms for any changes in the schedule.
URL:https://stlfoodbank.org/event/mo-farm-distribution-south-iron-food-pantry-iron-county-mo/2024-08-16/
LOCATION:South Iron Food Pantry\, 201 South Front Street\, Des Arc\, Missouri\, 63636\, United States
GEO:37.2821899;-90.6367969
X-APPLE-STRUCTURED-LOCATION;VALUE=URI;X-ADDRESS=South Iron Food Pantry 201 South Front Street Des Arc Missouri 63636 United States;X-APPLE-RADIUS=500;X-TITLE=201 South Front Street:geo:-90.6367969,37.2821899
END:VEVENT
BEGIN:VEVENT
DTSTART;TZID=America/Chicago:20240719T110000
DTEND;TZID=America/Chicago:20240719T120000
DTSTAMP:20260419T090427
CREATED:20240617T193408Z
LAST-MODIFIED:20240617T193408Z
UID:10011912-1721386800-1721390400@stlfoodbank.org
SUMMARY:MO FARM Distribution | South Iron Food Pantry (Iron County\, MO)
DESCRIPTION:In partnership with the St. Louis Area Foodbank\, South Iron Food Pantry is hosting a drive-through Food Access and Resource Market. Neighbors will have the opportunity to get a mix of fresh and nonperishable food items at no cost. The distribution will end at the stated time or once all the food and other resources have been distributed. \nThis event is set up as a drive through distribution and volunteers and/or staff of the organization will put food directly into your car. We ask that you have space in your vehicle for the food items and that you do not leave your vehicle during the distribution. Please arrive at least 15 minutes prior to the start of the event. \nWe do not require any identification or verification of income – anyone is welcome. \n*Dates and times are subject to change. We recommend following the St. Louis Area Foodbank on all social media platforms for any changes in the schedule.
URL:https://stlfoodbank.org/event/mo-farm-distribution-south-iron-food-pantry-iron-county-mo/2024-07-19/
LOCATION:South Iron Food Pantry\, 201 South Front Street\, Des Arc\, Missouri\, 63636\, United States
GEO:37.2821899;-90.6367969
X-APPLE-STRUCTURED-LOCATION;VALUE=URI;X-ADDRESS=South Iron Food Pantry 201 South Front Street Des Arc Missouri 63636 United States;X-APPLE-RADIUS=500;X-TITLE=201 South Front Street:geo:-90.6367969,37.2821899
END:VEVENT
END:VCALENDAR