BEGIN:VCALENDAR
VERSION:2.0
PRODID:-//St. Louis Area Foodbank - ECPv6.15.20//NONSGML v1.0//EN
CALSCALE:GREGORIAN
METHOD:PUBLISH
X-WR-CALNAME:St. Louis Area Foodbank
X-ORIGINAL-URL:https://stlfoodbank.org
X-WR-CALDESC:Events for St. Louis Area Foodbank
REFRESH-INTERVAL;VALUE=DURATION:PT1H
X-Robots-Tag:noindex
X-PUBLISHED-TTL:PT1H
BEGIN:VTIMEZONE
TZID:UTC
BEGIN:STANDARD
TZOFFSETFROM:+0000
TZOFFSETTO:+0000
TZNAME:UTC
DTSTART:20210101T000000
END:STANDARD
END:VTIMEZONE
BEGIN:VEVENT
DTSTART;TZID=UTC:20221203T100000
DTEND;TZID=UTC:20221203T113000
DTSTAMP:20260420T023612
CREATED:20220708T165536Z
LAST-MODIFIED:20221013T004355Z
UID:10000083-1670061600-1670067000@stlfoodbank.org
SUMMARY:Food on the Move | Rock Road
DESCRIPTION:Food On The Move is a shopping style food distribution program for individuals living in areas of Illinois and Missouri with limited access to healthy food and resources. During these events\, neighbors are able to walk through the 28-foot trailer and choose the foods that they need. All are welcome to receive food while supplies last.   \nIf you have any questions\, please reach out to Jessica Murphy at JMurphy@stlfoodbank.org.  \n*Times and dates are subject to change due to holidays and inclement weather. Check our social media pages for any updates @STLFoodbank! 
URL:https://stlfoodbank.org/event/food-on-the-move-rock-road-4/
LOCATION:Rock Road Metrolink Station\, 7001 St. Charles Rock Rd.\, Pagedale\, MO\, 63133\, United States
CATEGORIES:Food On The Move
ATTACH;FMTTYPE=:
GEO:38.6854835;-90.3014469
X-APPLE-STRUCTURED-LOCATION;VALUE=URI;X-ADDRESS=Rock Road Metrolink Station 7001 St. Charles Rock Rd. Pagedale MO 63133 United States;X-APPLE-RADIUS=500;X-TITLE=7001 St. Charles Rock Rd.:geo:-90.3014469,38.6854835
END:VEVENT
END:VCALENDAR