BEGIN:VCALENDAR
VERSION:2.0
PRODID:-//St. Louis Area Foodbank - ECPv6.15.20//NONSGML v1.0//EN
CALSCALE:GREGORIAN
METHOD:PUBLISH
X-WR-CALNAME:St. Louis Area Foodbank
X-ORIGINAL-URL:https://stlfoodbank.org
X-WR-CALDESC:Events for St. Louis Area Foodbank
REFRESH-INTERVAL;VALUE=DURATION:PT1H
X-Robots-Tag:noindex
X-PUBLISHED-TTL:PT1H
BEGIN:VTIMEZONE
TZID:UTC
BEGIN:STANDARD
TZOFFSETFROM:+0000
TZOFFSETTO:+0000
TZNAME:UTC
DTSTART:20210101T000000
END:STANDARD
END:VTIMEZONE
BEGIN:VEVENT
DTSTART;TZID=UTC:20221118T090000
DTEND;TZID=UTC:20221118T120000
DTSTAMP:20260420T062616
CREATED:20220621T202046Z
LAST-MODIFIED:20221013T004228Z
UID:10000069-1668762000-1668772800@stlfoodbank.org
SUMMARY:Mobile Market | River Of Life Christian Church ROL
DESCRIPTION:In partnership with the St. Louis Area Food Bank\, River Of Life Christian Church ROL is hosting a drive-through Community Mobile Market. Neighbors have the opportunity to get a mix of fresh and nonperishable food items at no cost. The distribution will end at the stated time or once all of the food and other resources have been distributed.   \nThis event is set up as a drive through distribution and volunteers and/or staff of the organization will put food directly into your car. We ask that you have space in your vehicle for the food items and that you not leave your vehicle during the distribution. Please arrive at least 15 minutes prior to the start of the event.  \nWe do not require any identification or verification of income – anyone is welcome \n  \n If you have any questions\, please reach out to Valerie at 314-482-1197.  \n  \n*Dates and times are subject to change. We recommend checking in with the partner organization prior to the event to confirm dates/times.  
URL:https://stlfoodbank.org/event/mobile-market-river-of-life-christian-church-rol-5/
LOCATION:River of Life\, 12100 Larimore Rd.\, St. Louis\, MO\, 63138\, United States
CATEGORIES:Mobile Market
ATTACH;FMTTYPE=:
GEO:38.7905981;-90.1916867
X-APPLE-STRUCTURED-LOCATION;VALUE=URI;X-ADDRESS=River of Life 12100 Larimore Rd. St. Louis MO 63138 United States;X-APPLE-RADIUS=500;X-TITLE=12100 Larimore Rd.:geo:-90.1916867,38.7905981
END:VEVENT
BEGIN:VEVENT
DTSTART;TZID=UTC:20221021T090000
DTEND;TZID=UTC:20221021T120000
DTSTAMP:20260420T062616
CREATED:20220621T201917Z
LAST-MODIFIED:20221013T003449Z
UID:10000025-1666342800-1666353600@stlfoodbank.org
SUMMARY:Mobile Market | River Of Life Christian Church ROL
DESCRIPTION:In partnership with the St. Louis Area Food Bank\, River Of Life Christian Church ROL is hosting a drive-through Community Mobile Market. Neighbors have the opportunity to get a mix of fresh and nonperishable food items at no cost. The distribution will end at the stated time or once all of the food and other resources have been distributed.   \nThis event is set up as a drive through distribution and volunteers and/or staff of the organization will put food directly into your car. We ask that you have space in your vehicle for the food items and that you not leave your vehicle during the distribution. Please arrive at least 15 minutes prior to the start of the event.  \nWe do not require any identification or verification of income – anyone is welcome \n  \n If you have any questions\, please reach out to Valerie at 314-482-1197.  \n  \n*Dates and times are subject to change. We recommend checking in with the partner organization prior to the event to confirm dates/times.  
URL:https://stlfoodbank.org/event/mobile-market-river-of-life-christian-church-rol-4/
LOCATION:River of Life\, 12100 Larimore Rd.\, St. Louis\, MO\, 63138\, United States
CATEGORIES:Mobile Market
ATTACH;FMTTYPE=:
GEO:38.7905981;-90.1916867
X-APPLE-STRUCTURED-LOCATION;VALUE=URI;X-ADDRESS=River of Life 12100 Larimore Rd. St. Louis MO 63138 United States;X-APPLE-RADIUS=500;X-TITLE=12100 Larimore Rd.:geo:-90.1916867,38.7905981
END:VEVENT
END:VCALENDAR