BEGIN:VCALENDAR
VERSION:2.0
PRODID:-//St. Louis Area Foodbank - ECPv6.15.20//NONSGML v1.0//EN
CALSCALE:GREGORIAN
METHOD:PUBLISH
X-WR-CALNAME:St. Louis Area Foodbank
X-ORIGINAL-URL:https://stlfoodbank.org
X-WR-CALDESC:Events for St. Louis Area Foodbank
REFRESH-INTERVAL;VALUE=DURATION:PT1H
X-Robots-Tag:noindex
X-PUBLISHED-TTL:PT1H
BEGIN:VTIMEZONE
TZID:America/Chicago
BEGIN:DAYLIGHT
TZOFFSETFROM:-0600
TZOFFSETTO:-0500
TZNAME:CDT
DTSTART:20280312T080000
END:DAYLIGHT
BEGIN:STANDARD
TZOFFSETFROM:-0500
TZOFFSETTO:-0600
TZNAME:CST
DTSTART:20281105T070000
END:STANDARD
BEGIN:DAYLIGHT
TZOFFSETFROM:-0600
TZOFFSETTO:-0500
TZNAME:CDT
DTSTART:20290311T080000
END:DAYLIGHT
BEGIN:STANDARD
TZOFFSETFROM:-0500
TZOFFSETTO:-0600
TZNAME:CST
DTSTART:20291104T070000
END:STANDARD
BEGIN:DAYLIGHT
TZOFFSETFROM:-0600
TZOFFSETTO:-0500
TZNAME:CDT
DTSTART:20300310T080000
END:DAYLIGHT
BEGIN:STANDARD
TZOFFSETFROM:-0500
TZOFFSETTO:-0600
TZNAME:CST
DTSTART:20301103T070000
END:STANDARD
BEGIN:DAYLIGHT
TZOFFSETFROM:-0600
TZOFFSETTO:-0500
TZNAME:CDT
DTSTART:20310309T080000
END:DAYLIGHT
BEGIN:STANDARD
TZOFFSETFROM:-0500
TZOFFSETTO:-0600
TZNAME:CST
DTSTART:20311102T070000
END:STANDARD
END:VTIMEZONE
BEGIN:VEVENT
DTSTART;TZID=America/Chicago:20290514T080000
DTEND;TZID=America/Chicago:20290514T080000
DTSTAMP:20260419T173212
CREATED:20250203T194433Z
LAST-MODIFIED:20250203T194434Z
UID:10012459-1873440000-1873440000@stlfoodbank.org
SUMMARY:IL FARM Distribution | Jersey Food Pantry (Jersey County\, IL)
DESCRIPTION:In partnership with the St. Louis Area Foodbank\, Jersey Food Pantry is hosting a drive-through Food Access and Resource Market. Neighbors will have the opportunity to get a mix of fresh and nonperishable food items at no cost. The distribution will end at the stated time or once all the food and other resources have been distributed. \nThis event is set up as a drive through distribution and volunteers and/or staff of the organization will put food directly into your car. We ask that you have space in your vehicle for the food items and that you do not leave your vehicle during the distribution. Please arrive at least 15 minutes prior to the start of the event. \nWe do not require any identification or verification of income – anyone is welcome. \nIf you have any questions\, please reach out to programs@stlfoodbank.org. \n*Dates and times are subject to change. We recommend following the St. Louis Area Foodbank on all social media platforms for any changes in the schedule.
URL:https://stlfoodbank.org/event/il-farm-distribution-jersey-food-pantry-jersey-county-il-2-2/2029-05-14/
LOCATION:Jersey Food Pantry\, 720 State Highway 16\, Jerseyville\, Illinois\, 62052\, United States
GEO:39.117319;-90.3177228
X-APPLE-STRUCTURED-LOCATION;VALUE=URI;X-ADDRESS=Jersey Food Pantry 720 State Highway 16 Jerseyville Illinois 62052 United States;X-APPLE-RADIUS=500;X-TITLE=720 State Highway 16:geo:-90.3177228,39.117319
END:VEVENT
BEGIN:VEVENT
DTSTART;TZID=America/Chicago:20290611T080000
DTEND;TZID=America/Chicago:20290611T080000
DTSTAMP:20260419T173212
CREATED:20250203T194433Z
LAST-MODIFIED:20250203T194434Z
UID:10012460-1875859200-1875859200@stlfoodbank.org
SUMMARY:IL FARM Distribution | Jersey Food Pantry (Jersey County\, IL)
DESCRIPTION:In partnership with the St. Louis Area Foodbank\, Jersey Food Pantry is hosting a drive-through Food Access and Resource Market. Neighbors will have the opportunity to get a mix of fresh and nonperishable food items at no cost. The distribution will end at the stated time or once all the food and other resources have been distributed. \nThis event is set up as a drive through distribution and volunteers and/or staff of the organization will put food directly into your car. We ask that you have space in your vehicle for the food items and that you do not leave your vehicle during the distribution. Please arrive at least 15 minutes prior to the start of the event. \nWe do not require any identification or verification of income – anyone is welcome. \nIf you have any questions\, please reach out to programs@stlfoodbank.org. \n*Dates and times are subject to change. We recommend following the St. Louis Area Foodbank on all social media platforms for any changes in the schedule.
URL:https://stlfoodbank.org/event/il-farm-distribution-jersey-food-pantry-jersey-county-il-2-2/2029-06-11/
LOCATION:Jersey Food Pantry\, 720 State Highway 16\, Jerseyville\, Illinois\, 62052\, United States
GEO:39.117319;-90.3177228
X-APPLE-STRUCTURED-LOCATION;VALUE=URI;X-ADDRESS=Jersey Food Pantry 720 State Highway 16 Jerseyville Illinois 62052 United States;X-APPLE-RADIUS=500;X-TITLE=720 State Highway 16:geo:-90.3177228,39.117319
END:VEVENT
BEGIN:VEVENT
DTSTART;TZID=America/Chicago:20290709T080000
DTEND;TZID=America/Chicago:20290709T080000
DTSTAMP:20260419T173212
CREATED:20250203T194433Z
LAST-MODIFIED:20250203T194434Z
UID:10015615-1878278400-1878278400@stlfoodbank.org
SUMMARY:IL FARM Distribution | Jersey Food Pantry (Jersey County\, IL)
DESCRIPTION:In partnership with the St. Louis Area Foodbank\, Jersey Food Pantry is hosting a drive-through Food Access and Resource Market. Neighbors will have the opportunity to get a mix of fresh and nonperishable food items at no cost. The distribution will end at the stated time or once all the food and other resources have been distributed. \nThis event is set up as a drive through distribution and volunteers and/or staff of the organization will put food directly into your car. We ask that you have space in your vehicle for the food items and that you do not leave your vehicle during the distribution. Please arrive at least 15 minutes prior to the start of the event. \nWe do not require any identification or verification of income – anyone is welcome. \nIf you have any questions\, please reach out to programs@stlfoodbank.org. \n*Dates and times are subject to change. We recommend following the St. Louis Area Foodbank on all social media platforms for any changes in the schedule.
URL:https://stlfoodbank.org/event/il-farm-distribution-jersey-food-pantry-jersey-county-il-2-2/2029-07-09/
LOCATION:Jersey Food Pantry\, 720 State Highway 16\, Jerseyville\, Illinois\, 62052\, United States
GEO:39.117319;-90.3177228
X-APPLE-STRUCTURED-LOCATION;VALUE=URI;X-ADDRESS=Jersey Food Pantry 720 State Highway 16 Jerseyville Illinois 62052 United States;X-APPLE-RADIUS=500;X-TITLE=720 State Highway 16:geo:-90.3177228,39.117319
END:VEVENT
BEGIN:VEVENT
DTSTART;TZID=America/Chicago:20290813T080000
DTEND;TZID=America/Chicago:20290813T080000
DTSTAMP:20260419T173212
CREATED:20250203T194433Z
LAST-MODIFIED:20250203T194434Z
UID:10015616-1881302400-1881302400@stlfoodbank.org
SUMMARY:IL FARM Distribution | Jersey Food Pantry (Jersey County\, IL)
DESCRIPTION:In partnership with the St. Louis Area Foodbank\, Jersey Food Pantry is hosting a drive-through Food Access and Resource Market. Neighbors will have the opportunity to get a mix of fresh and nonperishable food items at no cost. The distribution will end at the stated time or once all the food and other resources have been distributed. \nThis event is set up as a drive through distribution and volunteers and/or staff of the organization will put food directly into your car. We ask that you have space in your vehicle for the food items and that you do not leave your vehicle during the distribution. Please arrive at least 15 minutes prior to the start of the event. \nWe do not require any identification or verification of income – anyone is welcome. \nIf you have any questions\, please reach out to programs@stlfoodbank.org. \n*Dates and times are subject to change. We recommend following the St. Louis Area Foodbank on all social media platforms for any changes in the schedule.
URL:https://stlfoodbank.org/event/il-farm-distribution-jersey-food-pantry-jersey-county-il-2-2/2029-08-13/
LOCATION:Jersey Food Pantry\, 720 State Highway 16\, Jerseyville\, Illinois\, 62052\, United States
GEO:39.117319;-90.3177228
X-APPLE-STRUCTURED-LOCATION;VALUE=URI;X-ADDRESS=Jersey Food Pantry 720 State Highway 16 Jerseyville Illinois 62052 United States;X-APPLE-RADIUS=500;X-TITLE=720 State Highway 16:geo:-90.3177228,39.117319
END:VEVENT
BEGIN:VEVENT
DTSTART;TZID=America/Chicago:20290910T080000
DTEND;TZID=America/Chicago:20290910T080000
DTSTAMP:20260419T173212
CREATED:20250203T194433Z
LAST-MODIFIED:20250203T194434Z
UID:10015617-1883721600-1883721600@stlfoodbank.org
SUMMARY:IL FARM Distribution | Jersey Food Pantry (Jersey County\, IL)
DESCRIPTION:In partnership with the St. Louis Area Foodbank\, Jersey Food Pantry is hosting a drive-through Food Access and Resource Market. Neighbors will have the opportunity to get a mix of fresh and nonperishable food items at no cost. The distribution will end at the stated time or once all the food and other resources have been distributed. \nThis event is set up as a drive through distribution and volunteers and/or staff of the organization will put food directly into your car. We ask that you have space in your vehicle for the food items and that you do not leave your vehicle during the distribution. Please arrive at least 15 minutes prior to the start of the event. \nWe do not require any identification or verification of income – anyone is welcome. \nIf you have any questions\, please reach out to programs@stlfoodbank.org. \n*Dates and times are subject to change. We recommend following the St. Louis Area Foodbank on all social media platforms for any changes in the schedule.
URL:https://stlfoodbank.org/event/il-farm-distribution-jersey-food-pantry-jersey-county-il-2-2/2029-09-10/
LOCATION:Jersey Food Pantry\, 720 State Highway 16\, Jerseyville\, Illinois\, 62052\, United States
GEO:39.117319;-90.3177228
X-APPLE-STRUCTURED-LOCATION;VALUE=URI;X-ADDRESS=Jersey Food Pantry 720 State Highway 16 Jerseyville Illinois 62052 United States;X-APPLE-RADIUS=500;X-TITLE=720 State Highway 16:geo:-90.3177228,39.117319
END:VEVENT
BEGIN:VEVENT
DTSTART;TZID=America/Chicago:20291008T080000
DTEND;TZID=America/Chicago:20291008T080000
DTSTAMP:20260419T173212
CREATED:20250203T194433Z
LAST-MODIFIED:20250203T194434Z
UID:10015618-1886140800-1886140800@stlfoodbank.org
SUMMARY:IL FARM Distribution | Jersey Food Pantry (Jersey County\, IL)
DESCRIPTION:In partnership with the St. Louis Area Foodbank\, Jersey Food Pantry is hosting a drive-through Food Access and Resource Market. Neighbors will have the opportunity to get a mix of fresh and nonperishable food items at no cost. The distribution will end at the stated time or once all the food and other resources have been distributed. \nThis event is set up as a drive through distribution and volunteers and/or staff of the organization will put food directly into your car. We ask that you have space in your vehicle for the food items and that you do not leave your vehicle during the distribution. Please arrive at least 15 minutes prior to the start of the event. \nWe do not require any identification or verification of income – anyone is welcome. \nIf you have any questions\, please reach out to programs@stlfoodbank.org. \n*Dates and times are subject to change. We recommend following the St. Louis Area Foodbank on all social media platforms for any changes in the schedule.
URL:https://stlfoodbank.org/event/il-farm-distribution-jersey-food-pantry-jersey-county-il-2-2/2029-10-08/
LOCATION:Jersey Food Pantry\, 720 State Highway 16\, Jerseyville\, Illinois\, 62052\, United States
GEO:39.117319;-90.3177228
X-APPLE-STRUCTURED-LOCATION;VALUE=URI;X-ADDRESS=Jersey Food Pantry 720 State Highway 16 Jerseyville Illinois 62052 United States;X-APPLE-RADIUS=500;X-TITLE=720 State Highway 16:geo:-90.3177228,39.117319
END:VEVENT
BEGIN:VEVENT
DTSTART;TZID=America/Chicago:20291112T080000
DTEND;TZID=America/Chicago:20291112T080000
DTSTAMP:20260419T173212
CREATED:20250203T194433Z
LAST-MODIFIED:20250203T194434Z
UID:10017807-1889164800-1889164800@stlfoodbank.org
SUMMARY:IL FARM Distribution | Jersey Food Pantry (Jersey County\, IL)
DESCRIPTION:In partnership with the St. Louis Area Foodbank\, Jersey Food Pantry is hosting a drive-through Food Access and Resource Market. Neighbors will have the opportunity to get a mix of fresh and nonperishable food items at no cost. The distribution will end at the stated time or once all the food and other resources have been distributed. \nThis event is set up as a drive through distribution and volunteers and/or staff of the organization will put food directly into your car. We ask that you have space in your vehicle for the food items and that you do not leave your vehicle during the distribution. Please arrive at least 15 minutes prior to the start of the event. \nWe do not require any identification or verification of income – anyone is welcome. \nIf you have any questions\, please reach out to programs@stlfoodbank.org. \n*Dates and times are subject to change. We recommend following the St. Louis Area Foodbank on all social media platforms for any changes in the schedule.
URL:https://stlfoodbank.org/event/il-farm-distribution-jersey-food-pantry-jersey-county-il-2-2/2029-11-12/
LOCATION:Jersey Food Pantry\, 720 State Highway 16\, Jerseyville\, Illinois\, 62052\, United States
GEO:39.117319;-90.3177228
X-APPLE-STRUCTURED-LOCATION;VALUE=URI;X-ADDRESS=Jersey Food Pantry 720 State Highway 16 Jerseyville Illinois 62052 United States;X-APPLE-RADIUS=500;X-TITLE=720 State Highway 16:geo:-90.3177228,39.117319
END:VEVENT
BEGIN:VEVENT
DTSTART;TZID=America/Chicago:20291210T080000
DTEND;TZID=America/Chicago:20291210T080000
DTSTAMP:20260419T173212
CREATED:20250203T194433Z
LAST-MODIFIED:20250203T194434Z
UID:10017808-1891584000-1891584000@stlfoodbank.org
SUMMARY:IL FARM Distribution | Jersey Food Pantry (Jersey County\, IL)
DESCRIPTION:In partnership with the St. Louis Area Foodbank\, Jersey Food Pantry is hosting a drive-through Food Access and Resource Market. Neighbors will have the opportunity to get a mix of fresh and nonperishable food items at no cost. The distribution will end at the stated time or once all the food and other resources have been distributed. \nThis event is set up as a drive through distribution and volunteers and/or staff of the organization will put food directly into your car. We ask that you have space in your vehicle for the food items and that you do not leave your vehicle during the distribution. Please arrive at least 15 minutes prior to the start of the event. \nWe do not require any identification or verification of income – anyone is welcome. \nIf you have any questions\, please reach out to programs@stlfoodbank.org. \n*Dates and times are subject to change. We recommend following the St. Louis Area Foodbank on all social media platforms for any changes in the schedule.
URL:https://stlfoodbank.org/event/il-farm-distribution-jersey-food-pantry-jersey-county-il-2-2/2029-12-10/
LOCATION:Jersey Food Pantry\, 720 State Highway 16\, Jerseyville\, Illinois\, 62052\, United States
GEO:39.117319;-90.3177228
X-APPLE-STRUCTURED-LOCATION;VALUE=URI;X-ADDRESS=Jersey Food Pantry 720 State Highway 16 Jerseyville Illinois 62052 United States;X-APPLE-RADIUS=500;X-TITLE=720 State Highway 16:geo:-90.3177228,39.117319
END:VEVENT
BEGIN:VEVENT
DTSTART;TZID=America/Chicago:20300114T080000
DTEND;TZID=America/Chicago:20300114T080000
DTSTAMP:20260419T173212
CREATED:20250203T194433Z
LAST-MODIFIED:20250203T194434Z
UID:10017809-1894608000-1894608000@stlfoodbank.org
SUMMARY:IL FARM Distribution | Jersey Food Pantry (Jersey County\, IL)
DESCRIPTION:In partnership with the St. Louis Area Foodbank\, Jersey Food Pantry is hosting a drive-through Food Access and Resource Market. Neighbors will have the opportunity to get a mix of fresh and nonperishable food items at no cost. The distribution will end at the stated time or once all the food and other resources have been distributed. \nThis event is set up as a drive through distribution and volunteers and/or staff of the organization will put food directly into your car. We ask that you have space in your vehicle for the food items and that you do not leave your vehicle during the distribution. Please arrive at least 15 minutes prior to the start of the event. \nWe do not require any identification or verification of income – anyone is welcome. \nIf you have any questions\, please reach out to programs@stlfoodbank.org. \n*Dates and times are subject to change. We recommend following the St. Louis Area Foodbank on all social media platforms for any changes in the schedule.
URL:https://stlfoodbank.org/event/il-farm-distribution-jersey-food-pantry-jersey-county-il-2-2/2030-01-14/
LOCATION:Jersey Food Pantry\, 720 State Highway 16\, Jerseyville\, Illinois\, 62052\, United States
GEO:39.117319;-90.3177228
X-APPLE-STRUCTURED-LOCATION;VALUE=URI;X-ADDRESS=Jersey Food Pantry 720 State Highway 16 Jerseyville Illinois 62052 United States;X-APPLE-RADIUS=500;X-TITLE=720 State Highway 16:geo:-90.3177228,39.117319
END:VEVENT
END:VCALENDAR