BEGIN:VCALENDAR
VERSION:2.0
PRODID:-//St. Louis Area Foodbank - ECPv6.15.20//NONSGML v1.0//EN
CALSCALE:GREGORIAN
METHOD:PUBLISH
X-WR-CALNAME:St. Louis Area Foodbank
X-ORIGINAL-URL:https://stlfoodbank.org
X-WR-CALDESC:Events for St. Louis Area Foodbank
REFRESH-INTERVAL;VALUE=DURATION:PT1H
X-Robots-Tag:noindex
X-PUBLISHED-TTL:PT1H
BEGIN:VTIMEZONE
TZID:UTC
BEGIN:STANDARD
TZOFFSETFROM:+0000
TZOFFSETTO:+0000
TZNAME:UTC
DTSTART:20210101T000000
END:STANDARD
END:VTIMEZONE
BEGIN:VEVENT
DTSTART;TZID=UTC:20221215T110000
DTEND;TZID=UTC:20221215T130000
DTSTAMP:20260420T023125
CREATED:20220331T193830Z
LAST-MODIFIED:20221013T004612Z
UID:10000108-1671102000-1671109200@stlfoodbank.org
SUMMARY:Drive Through - Community Mobile Market | Great Things Incorporated
DESCRIPTION:In partnership with the St. Louis Area Food Bank\, Great Things Incorporated is hosting a drive-through Community Mobile Market. Neighbors have the opportunity to get a mix of fresh and nonperishable food items at no cost. The distribution will end at the stated time or once all of the food and other resources have been distributed. \nThis event is set up as a drive through distribution and volunteers and/or staff of the organization will put food directly into your car. We ask that you have space in your vehicle for the food items and that you not leave your vehicle during the distribution. Please arrive at least 15 minutes prior to the start of the event. \nWe do not require any identification or verification of income – anyone is welcome. The website for Glen-Ed Pantry can be found HERE (Westsidembc.org). The address is 4675 Page Blvd at Marcus. \nIf you have any questions\, please reach out to West Side MB Church at 314-535-9002. \nWe welcome you to walk-up or drive through. Parking available. \n*Dates and times are subject to change. We recommend checking in with the partner organization prior to the event to confirm dates/times. \nThe Mobile Markets with Great Things Inc. are happening every first and third Thursday of the month unless otherwise noted.
URL:https://stlfoodbank.org/event/drive-through-community-mobile-market-great-things-incorporated-18/
LOCATION:Great Things Inc.\, 4675 Page Blvd\, Saint Louis\, MO\, 63113\, United States
CATEGORIES:Food Distribution,Mobile Market
ATTACH;FMTTYPE=:
GEO:38.6583197;-90.2545597
X-APPLE-STRUCTURED-LOCATION;VALUE=URI;X-ADDRESS=Great Things Inc. 4675 Page Blvd Saint Louis MO 63113 United States;X-APPLE-RADIUS=500;X-TITLE=4675 Page Blvd:geo:-90.2545597,38.6583197
END:VEVENT
BEGIN:VEVENT
DTSTART;TZID=UTC:20221201T110000
DTEND;TZID=UTC:20221201T130000
DTSTAMP:20260420T023125
CREATED:20220331T193657Z
LAST-MODIFIED:20221013T004351Z
UID:10000081-1669892400-1669899600@stlfoodbank.org
SUMMARY:Drive Through - Community Mobile Market | Great Things Incorporated
DESCRIPTION:In partnership with the St. Louis Area Food Bank\, Great Things Incorporated is hosting a drive-through Community Mobile Market. Neighbors have the opportunity to get a mix of fresh and nonperishable food items at no cost. The distribution will end at the stated time or once all of the food and other resources have been distributed. \nThis event is set up as a drive through distribution and volunteers and/or staff of the organization will put food directly into your car. We ask that you have space in your vehicle for the food items and that you not leave your vehicle during the distribution. Please arrive at least 15 minutes prior to the start of the event. \nWe do not require any identification or verification of income – anyone is welcome. The website for Glen-Ed Pantry can be found HERE (Westsidembc.org). The address is 4675 Page Blvd at Marcus. \nIf you have any questions\, please reach out to West Side MB Church at 314-535-9002. \nWe welcome you to walk-up or drive through. Parking available. \n*Dates and times are subject to change. We recommend checking in with the partner organization prior to the event to confirm dates/times. \nThe Mobile Markets with Great Things Inc. are happening every first and third Thursday of the month unless otherwise noted.
URL:https://stlfoodbank.org/event/drive-through-community-mobile-market-great-things-incorporated-17/
LOCATION:Great Things Inc.\, 4675 Page Blvd\, Saint Louis\, MO\, 63113\, United States
CATEGORIES:Food Distribution,Mobile Market
ATTACH;FMTTYPE=:
GEO:38.6583197;-90.2545597
X-APPLE-STRUCTURED-LOCATION;VALUE=URI;X-ADDRESS=Great Things Inc. 4675 Page Blvd Saint Louis MO 63113 United States;X-APPLE-RADIUS=500;X-TITLE=4675 Page Blvd:geo:-90.2545597,38.6583197
END:VEVENT
BEGIN:VEVENT
DTSTART;TZID=UTC:20221117T110000
DTEND;TZID=UTC:20221117T130000
DTSTAMP:20260420T023125
CREATED:20220331T193536Z
LAST-MODIFIED:20221013T004221Z
UID:10000066-1668682800-1668690000@stlfoodbank.org
SUMMARY:Drive Through - Community Mobile Market | Great Things Incorporated
DESCRIPTION:In partnership with the St. Louis Area Food Bank\, Great Things Incorporated is hosting a drive-through Community Mobile Market. Neighbors have the opportunity to get a mix of fresh and nonperishable food items at no cost. The distribution will end at the stated time or once all of the food and other resources have been distributed. \nThis event is set up as a drive through distribution and volunteers and/or staff of the organization will put food directly into your car. We ask that you have space in your vehicle for the food items and that you not leave your vehicle during the distribution. Please arrive at least 15 minutes prior to the start of the event. \nWe do not require any identification or verification of income – anyone is welcome. The website for Glen-Ed Pantry can be found HERE (Westsidembc.org). The address is 4675 Page Blvd at Marcus. \nIf you have any questions\, please reach out to West Side MB Church at 314-535-9002. \nWe welcome you to walk-up or drive through. Parking available. \n*Dates and times are subject to change. We recommend checking in with the partner organization prior to the event to confirm dates/times. \nThe Mobile Markets with Great Things Inc. are happening every first and third Thursday of the month unless otherwise noted.
URL:https://stlfoodbank.org/event/drive-through-community-mobile-market-great-things-incorporated-16/
LOCATION:Great Things Inc.\, 4675 Page Blvd\, Saint Louis\, MO\, 63113\, United States
CATEGORIES:Food Distribution,Mobile Market
ATTACH;FMTTYPE=:
GEO:38.6583197;-90.2545597
X-APPLE-STRUCTURED-LOCATION;VALUE=URI;X-ADDRESS=Great Things Inc. 4675 Page Blvd Saint Louis MO 63113 United States;X-APPLE-RADIUS=500;X-TITLE=4675 Page Blvd:geo:-90.2545597,38.6583197
END:VEVENT
BEGIN:VEVENT
DTSTART;TZID=UTC:20221103T110000
DTEND;TZID=UTC:20221103T130000
DTSTAMP:20260420T023125
CREATED:20220331T193406Z
LAST-MODIFIED:20221013T003517Z
UID:10000038-1667473200-1667480400@stlfoodbank.org
SUMMARY:Drive Through - Community Mobile Market | Great Things Incorporated
DESCRIPTION:In partnership with the St. Louis Area Food Bank\, Great Things Incorporated is hosting a drive-through Community Mobile Market. Neighbors have the opportunity to get a mix of fresh and nonperishable food items at no cost. The distribution will end at the stated time or once all of the food and other resources have been distributed. \nThis event is set up as a drive through distribution and volunteers and/or staff of the organization will put food directly into your car. We ask that you have space in your vehicle for the food items and that you not leave your vehicle during the distribution. Please arrive at least 15 minutes prior to the start of the event. \nWe do not require any identification or verification of income – anyone is welcome. The website for Glen-Ed Pantry can be found HERE (Westsidembc.org). The address is 4675 Page Blvd at Marcus. \nIf you have any questions\, please reach out to West Side MB Church at 314-535-9002. \nWe welcome you to walk-up or drive through. Parking available. \n*Dates and times are subject to change. We recommend checking in with the partner organization prior to the event to confirm dates/times. \nThe Mobile Markets with Great Things Inc. are happening every first and third Thursday of the month unless otherwise noted.
URL:https://stlfoodbank.org/event/drive-through-community-mobile-market-great-things-incorporated-15/
LOCATION:Great Things Inc.\, 4675 Page Blvd\, Saint Louis\, MO\, 63113\, United States
CATEGORIES:Food Distribution,Mobile Market
ATTACH;FMTTYPE=:
GEO:38.6583197;-90.2545597
X-APPLE-STRUCTURED-LOCATION;VALUE=URI;X-ADDRESS=Great Things Inc. 4675 Page Blvd Saint Louis MO 63113 United States;X-APPLE-RADIUS=500;X-TITLE=4675 Page Blvd:geo:-90.2545597,38.6583197
END:VEVENT
BEGIN:VEVENT
DTSTART;TZID=UTC:20221020T110000
DTEND;TZID=UTC:20221020T130000
DTSTAMP:20260420T023125
CREATED:20220331T193235Z
LAST-MODIFIED:20221013T003445Z
UID:10000023-1666263600-1666270800@stlfoodbank.org
SUMMARY:Drive Through - Community Mobile Market | Great Things Incorporated
DESCRIPTION:In partnership with the St. Louis Area Food Bank\, Great Things Incorporated is hosting a drive-through Community Mobile Market. Neighbors have the opportunity to get a mix of fresh and nonperishable food items at no cost. The distribution will end at the stated time or once all of the food and other resources have been distributed. \nThis event is set up as a drive through distribution and volunteers and/or staff of the organization will put food directly into your car. We ask that you have space in your vehicle for the food items and that you not leave your vehicle during the distribution. Please arrive at least 15 minutes prior to the start of the event. \nWe do not require any identification or verification of income – anyone is welcome. The website for Glen-Ed Pantry can be found HERE (Westsidembc.org). The address is 4675 Page Blvd at Marcus. \nIf you have any questions\, please reach out to West Side MB Church at 314-535-9002. \nWe welcome you to walk-up or drive through. Parking available. \n*Dates and times are subject to change. We recommend checking in with the partner organization prior to the event to confirm dates/times. \nThe Mobile Markets with Great Things Inc. are happening every first and third Thursday of the month unless otherwise noted.
URL:https://stlfoodbank.org/event/drive-through-community-mobile-market-great-things-incorporated-14/
LOCATION:Great Things Inc.\, 4675 Page Blvd\, Saint Louis\, MO\, 63113\, United States
CATEGORIES:Food Distribution,Mobile Market
ATTACH;FMTTYPE=:
GEO:38.6583197;-90.2545597
X-APPLE-STRUCTURED-LOCATION;VALUE=URI;X-ADDRESS=Great Things Inc. 4675 Page Blvd Saint Louis MO 63113 United States;X-APPLE-RADIUS=500;X-TITLE=4675 Page Blvd:geo:-90.2545597,38.6583197
END:VEVENT
END:VCALENDAR