BEGIN:VCALENDAR
VERSION:2.0
PRODID:-//St. Louis Area Foodbank - ECPv6.15.20//NONSGML v1.0//EN
CALSCALE:GREGORIAN
METHOD:PUBLISH
X-WR-CALNAME:St. Louis Area Foodbank
X-ORIGINAL-URL:https://stlfoodbank.org
X-WR-CALDESC:Events for St. Louis Area Foodbank
REFRESH-INTERVAL;VALUE=DURATION:PT1H
X-Robots-Tag:noindex
X-PUBLISHED-TTL:PT1H
BEGIN:VTIMEZONE
TZID:America/Chicago
BEGIN:DAYLIGHT
TZOFFSETFROM:-0600
TZOFFSETTO:-0500
TZNAME:CDT
DTSTART:20290311T080000
END:DAYLIGHT
BEGIN:STANDARD
TZOFFSETFROM:-0500
TZOFFSETTO:-0600
TZNAME:CST
DTSTART:20291104T070000
END:STANDARD
BEGIN:DAYLIGHT
TZOFFSETFROM:-0600
TZOFFSETTO:-0500
TZNAME:CDT
DTSTART:20300310T080000
END:DAYLIGHT
BEGIN:STANDARD
TZOFFSETFROM:-0500
TZOFFSETTO:-0600
TZNAME:CST
DTSTART:20301103T070000
END:STANDARD
BEGIN:DAYLIGHT
TZOFFSETFROM:-0600
TZOFFSETTO:-0500
TZNAME:CDT
DTSTART:20310309T080000
END:DAYLIGHT
BEGIN:STANDARD
TZOFFSETFROM:-0500
TZOFFSETTO:-0600
TZNAME:CST
DTSTART:20311102T070000
END:STANDARD
END:VTIMEZONE
BEGIN:VEVENT
DTSTART;TZID=America/Chicago:20300506T103000
DTEND;TZID=America/Chicago:20300506T113000
DTSTAMP:20260420T005649
CREATED:20250818T150422Z
LAST-MODIFIED:20250818T150424Z
UID:10019463-1904293800-1904297400@stlfoodbank.org
SUMMARY:IL FARM Distribution | Franklin County Extension (Franklin County\, IL)
DESCRIPTION:In partnership with the St. Louis Area Foodbank\, the Franklin County Extension is hosting a drive-through Food Access and Resource Market. Neighbors will have the opportunity to get a mix of fresh and nonperishable food items at no cost. The distribution will end at the stated time or once all the food and other resources have been distributed. \nThis event is set up as a drive through distribution and volunteers and/or staff of the organization will put food directly into your car. We ask that you have space in your vehicle for the food items and that you do not leave your vehicle during the distribution. Please arrive at least 15 minutes prior to the start of the event. \nWe do not require any identification or verification of income – anyone is welcome. \nIf you have any questions\, please reach out to programs@stlfoodbank.org. \n*Dates and times are subject to change. We recommend following the St. Louis Area Foodbank on all social media platforms for any changes in the schedule.
URL:https://stlfoodbank.org/event/mo-il-farm-distribution-franklin-county-extension-franklin-county-il-2-2/2030-05-06/
LOCATION:Franklin County Extension\, 300 South Park Street\, Sesser\, IL\, 62884\, United States
GEO:38.0890103;-89.0539158
X-APPLE-STRUCTURED-LOCATION;VALUE=URI;X-ADDRESS=Franklin County Extension 300 South Park Street Sesser IL 62884 United States;X-APPLE-RADIUS=500;X-TITLE=300 South Park Street:geo:-89.0539158,38.0890103
END:VEVENT
BEGIN:VEVENT
DTSTART;TZID=America/Chicago:20300603T103000
DTEND;TZID=America/Chicago:20300603T113000
DTSTAMP:20260420T005649
CREATED:20250818T150422Z
LAST-MODIFIED:20250818T150424Z
UID:10019464-1906713000-1906716600@stlfoodbank.org
SUMMARY:IL FARM Distribution | Franklin County Extension (Franklin County\, IL)
DESCRIPTION:In partnership with the St. Louis Area Foodbank\, the Franklin County Extension is hosting a drive-through Food Access and Resource Market. Neighbors will have the opportunity to get a mix of fresh and nonperishable food items at no cost. The distribution will end at the stated time or once all the food and other resources have been distributed. \nThis event is set up as a drive through distribution and volunteers and/or staff of the organization will put food directly into your car. We ask that you have space in your vehicle for the food items and that you do not leave your vehicle during the distribution. Please arrive at least 15 minutes prior to the start of the event. \nWe do not require any identification or verification of income – anyone is welcome. \nIf you have any questions\, please reach out to programs@stlfoodbank.org. \n*Dates and times are subject to change. We recommend following the St. Louis Area Foodbank on all social media platforms for any changes in the schedule.
URL:https://stlfoodbank.org/event/mo-il-farm-distribution-franklin-county-extension-franklin-county-il-2-2/2030-06-03/
LOCATION:Franklin County Extension\, 300 South Park Street\, Sesser\, IL\, 62884\, United States
GEO:38.0890103;-89.0539158
X-APPLE-STRUCTURED-LOCATION;VALUE=URI;X-ADDRESS=Franklin County Extension 300 South Park Street Sesser IL 62884 United States;X-APPLE-RADIUS=500;X-TITLE=300 South Park Street:geo:-89.0539158,38.0890103
END:VEVENT
BEGIN:VEVENT
DTSTART;TZID=America/Chicago:20300701T103000
DTEND;TZID=America/Chicago:20300701T113000
DTSTAMP:20260420T005649
CREATED:20250818T150422Z
LAST-MODIFIED:20250818T150424Z
UID:10019465-1909132200-1909135800@stlfoodbank.org
SUMMARY:IL FARM Distribution | Franklin County Extension (Franklin County\, IL)
DESCRIPTION:In partnership with the St. Louis Area Foodbank\, the Franklin County Extension is hosting a drive-through Food Access and Resource Market. Neighbors will have the opportunity to get a mix of fresh and nonperishable food items at no cost. The distribution will end at the stated time or once all the food and other resources have been distributed. \nThis event is set up as a drive through distribution and volunteers and/or staff of the organization will put food directly into your car. We ask that you have space in your vehicle for the food items and that you do not leave your vehicle during the distribution. Please arrive at least 15 minutes prior to the start of the event. \nWe do not require any identification or verification of income – anyone is welcome. \nIf you have any questions\, please reach out to programs@stlfoodbank.org. \n*Dates and times are subject to change. We recommend following the St. Louis Area Foodbank on all social media platforms for any changes in the schedule.
URL:https://stlfoodbank.org/event/mo-il-farm-distribution-franklin-county-extension-franklin-county-il-2-2/2030-07-01/
LOCATION:Franklin County Extension\, 300 South Park Street\, Sesser\, IL\, 62884\, United States
GEO:38.0890103;-89.0539158
X-APPLE-STRUCTURED-LOCATION;VALUE=URI;X-ADDRESS=Franklin County Extension 300 South Park Street Sesser IL 62884 United States;X-APPLE-RADIUS=500;X-TITLE=300 South Park Street:geo:-89.0539158,38.0890103
END:VEVENT
BEGIN:VEVENT
DTSTART;TZID=America/Chicago:20300805T103000
DTEND;TZID=America/Chicago:20300805T113000
DTSTAMP:20260420T005649
CREATED:20250818T150422Z
LAST-MODIFIED:20250818T150424Z
UID:10019466-1912156200-1912159800@stlfoodbank.org
SUMMARY:IL FARM Distribution | Franklin County Extension (Franklin County\, IL)
DESCRIPTION:In partnership with the St. Louis Area Foodbank\, the Franklin County Extension is hosting a drive-through Food Access and Resource Market. Neighbors will have the opportunity to get a mix of fresh and nonperishable food items at no cost. The distribution will end at the stated time or once all the food and other resources have been distributed. \nThis event is set up as a drive through distribution and volunteers and/or staff of the organization will put food directly into your car. We ask that you have space in your vehicle for the food items and that you do not leave your vehicle during the distribution. Please arrive at least 15 minutes prior to the start of the event. \nWe do not require any identification or verification of income – anyone is welcome. \nIf you have any questions\, please reach out to programs@stlfoodbank.org. \n*Dates and times are subject to change. We recommend following the St. Louis Area Foodbank on all social media platforms for any changes in the schedule.
URL:https://stlfoodbank.org/event/mo-il-farm-distribution-franklin-county-extension-franklin-county-il-2-2/2030-08-05/
LOCATION:Franklin County Extension\, 300 South Park Street\, Sesser\, IL\, 62884\, United States
GEO:38.0890103;-89.0539158
X-APPLE-STRUCTURED-LOCATION;VALUE=URI;X-ADDRESS=Franklin County Extension 300 South Park Street Sesser IL 62884 United States;X-APPLE-RADIUS=500;X-TITLE=300 South Park Street:geo:-89.0539158,38.0890103
END:VEVENT
END:VCALENDAR