BEGIN:VCALENDAR
VERSION:2.0
PRODID:-//St. Louis Area Foodbank - ECPv6.15.20//NONSGML v1.0//EN
CALSCALE:GREGORIAN
METHOD:PUBLISH
X-WR-CALNAME:St. Louis Area Foodbank
X-ORIGINAL-URL:https://stlfoodbank.org
X-WR-CALDESC:Events for St. Louis Area Foodbank
REFRESH-INTERVAL;VALUE=DURATION:PT1H
X-Robots-Tag:noindex
X-PUBLISHED-TTL:PT1H
BEGIN:VTIMEZONE
TZID:America/Chicago
BEGIN:DAYLIGHT
TZOFFSETFROM:-0600
TZOFFSETTO:-0500
TZNAME:CDT
DTSTART:20220313T080000
END:DAYLIGHT
BEGIN:STANDARD
TZOFFSETFROM:-0500
TZOFFSETTO:-0600
TZNAME:CST
DTSTART:20221106T070000
END:STANDARD
BEGIN:DAYLIGHT
TZOFFSETFROM:-0600
TZOFFSETTO:-0500
TZNAME:CDT
DTSTART:20230312T080000
END:DAYLIGHT
BEGIN:STANDARD
TZOFFSETFROM:-0500
TZOFFSETTO:-0600
TZNAME:CST
DTSTART:20231105T070000
END:STANDARD
BEGIN:DAYLIGHT
TZOFFSETFROM:-0600
TZOFFSETTO:-0500
TZNAME:CDT
DTSTART:20240310T080000
END:DAYLIGHT
BEGIN:STANDARD
TZOFFSETFROM:-0500
TZOFFSETTO:-0600
TZNAME:CST
DTSTART:20241103T070000
END:STANDARD
END:VTIMEZONE
BEGIN:VTIMEZONE
TZID:UTC
BEGIN:STANDARD
TZOFFSETFROM:+0000
TZOFFSETTO:+0000
TZNAME:UTC
DTSTART:20210101T000000
END:STANDARD
END:VTIMEZONE
BEGIN:VEVENT
DTSTART;TZID=America/Chicago:20230210T150000
DTEND;TZID=America/Chicago:20230210T150000
DTSTAMP:20260419T173120
CREATED:20230206T204433Z
LAST-MODIFIED:20230206T204458Z
UID:10000526-1676041200-1676041200@stlfoodbank.org
SUMMARY:Food on the Move | Fox Run Mobile Estates
DESCRIPTION:Food On The Move is a walk-through\, shopping style food distribution program for individuals living in areas of Illinois and Missouri with limited access to healthy food and resources. During these events\, neighbors are able to walk through the 28-foot trailer and choose the foods that they need. Verification of personal information is not required to participate.  All are welcome to receive food while supplies last. \nIf you have any questions\, please reach out to Jessica Murphy at JMurphy@stlfoodbank.org. \n*Times and dates are subject to change due to holidays and inclement weather. Check our social media pages for any updates @STLFoodbank!
URL:https://stlfoodbank.org/event/food-on-the-move-fox-run-mobile-estates-7-2/
LOCATION:Fox Run Mobile Estates\, 138 Brook Dr.\, St. Charles\, MO\, 63301
GEO:38.8203646;-90.4985243
X-APPLE-STRUCTURED-LOCATION;VALUE=URI;X-ADDRESS=Fox Run Mobile Estates 138 Brook Dr. St. Charles MO 63301;X-APPLE-RADIUS=500;X-TITLE=138 Brook Dr.:geo:-90.4985243,38.8203646
END:VEVENT
BEGIN:VEVENT
DTSTART;TZID=America/Chicago:20230113T150000
DTEND;TZID=America/Chicago:20230113T160000
DTSTAMP:20260419T173120
CREATED:20230113T151303Z
LAST-MODIFIED:20230113T193900Z
UID:10000525-1673622000-1673625600@stlfoodbank.org
SUMMARY:Food on the Move | Fox Run Mobile Estates
DESCRIPTION:Food On The Move is a walk-through\, shopping style food distribution program for individuals living in areas of Illinois and Missouri with limited access to healthy food and resources. During these events\, neighbors are able to walk through the 28-foot trailer and choose the foods that they need. Verification of personal information is not required to participate.  All are welcome to receive food while supplies last. \nIf you have any questions\, please reach out to Jessica Murphy at JMurphy@stlfoodbank.org. \n*Times and dates are subject to change due to holidays and inclement weather. Check our social media pages for any updates @STLFoodbank!
URL:https://stlfoodbank.org/event/food-on-the-move-fox-run-mobile-estates-7/
LOCATION:Fox Run Mobile Estates\, 138 Brook Dr.\, St. Charles\, MO\, 63301
GEO:38.8203646;-90.4985243
X-APPLE-STRUCTURED-LOCATION;VALUE=URI;X-ADDRESS=Fox Run Mobile Estates 138 Brook Dr. St. Charles MO 63301;X-APPLE-RADIUS=500;X-TITLE=138 Brook Dr.:geo:-90.4985243,38.8203646
END:VEVENT
BEGIN:VEVENT
DTSTART;TZID=UTC:20221209T150000
DTEND;TZID=UTC:20221209T160000
DTSTAMP:20260419T173120
CREATED:20220603T175014Z
LAST-MODIFIED:20221013T004415Z
UID:10000091-1670598000-1670601600@stlfoodbank.org
SUMMARY:Food on the Move | Fox Run Mobile Estates
DESCRIPTION:Food On The Move is a shopping style food distribution program for individuals living in areas of Illinois and Missouri with limited access to healthy food and resources. During these events\, neighbors are able to walk through the 28-foot trailer and choose the foods that they need. All are welcome to receive food while supplies last.   \nIf you have any questions\, please reach out to Jessica Murphy at JMurphy@stlfoodbank.org.  \n*Times and dates are subject to change due to holidays and inclement weather. Check our social media pages for any updates @STLFoodbank! 
URL:https://stlfoodbank.org/event/food-on-the-move-fox-run-mobile-estates-6/
LOCATION:Fox Run Mobile Estates\, 138 Brook Dr.\, St. Charles\, MO\, 63301
CATEGORIES:Food On The Move
ATTACH;FMTTYPE=:
GEO:38.8203646;-90.4985243
X-APPLE-STRUCTURED-LOCATION;VALUE=URI;X-ADDRESS=Fox Run Mobile Estates 138 Brook Dr. St. Charles MO 63301;X-APPLE-RADIUS=500;X-TITLE=138 Brook Dr.:geo:-90.4985243,38.8203646
END:VEVENT
BEGIN:VEVENT
DTSTART;TZID=UTC:20221111T150000
DTEND;TZID=UTC:20221111T160000
DTSTAMP:20260419T173120
CREATED:20220603T174910Z
LAST-MODIFIED:20221013T004107Z
UID:10000050-1668178800-1668182400@stlfoodbank.org
SUMMARY:Food on the Move | Fox Run Mobile Estates
DESCRIPTION:Food On The Move is a shopping style food distribution program for individuals living in areas of Illinois and Missouri with limited access to healthy food and resources. During these events\, neighbors are able to walk through the 28-foot trailer and choose the foods that they need. All are welcome to receive food while supplies last.   \nIf you have any questions\, please reach out to Jessica Murphy at JMurphy@stlfoodbank.org.  \n*Times and dates are subject to change due to holidays and inclement weather. Check our social media pages for any updates @STLFoodbank! 
URL:https://stlfoodbank.org/event/food-on-the-move-fox-run-mobile-estates-5/
LOCATION:Fox Run Mobile Estates\, 138 Brook Dr.\, St. Charles\, MO\, 63301
CATEGORIES:Food On The Move
GEO:38.8203646;-90.4985243
X-APPLE-STRUCTURED-LOCATION;VALUE=URI;X-ADDRESS=Fox Run Mobile Estates 138 Brook Dr. St. Charles MO 63301;X-APPLE-RADIUS=500;X-TITLE=138 Brook Dr.:geo:-90.4985243,38.8203646
END:VEVENT
BEGIN:VEVENT
DTSTART;TZID=UTC:20221014T150000
DTEND;TZID=UTC:20221014T160000
DTSTAMP:20260419T173120
CREATED:20220603T174203Z
LAST-MODIFIED:20221013T003301Z
UID:10000010-1665759600-1665763200@stlfoodbank.org
SUMMARY:Food on the Move | Fox Run Mobile Estates
DESCRIPTION:Food On The Move is a shopping style food distribution program for individuals living in areas of Illinois and Missouri with limited access to healthy food and resources. During these events\, neighbors are able to walk through the 28-foot trailer and choose the foods that they need. All are welcome to receive food while supplies last.   \nIf you have any questions\, please reach out to Jessica Murphy at JMurphy@stlfoodbank.org.  \n*Times and dates are subject to change due to holidays and inclement weather. Check our social media pages for any updates @STLFoodbank! 
URL:https://stlfoodbank.org/event/food-on-the-move-fox-run-mobile-estates-4/
LOCATION:Fox Run Mobile Estates\, 138 Brook Dr.\, St. Charles\, MO\, 63301
CATEGORIES:Food On The Move
ATTACH;FMTTYPE=:
GEO:38.8203646;-90.4985243
X-APPLE-STRUCTURED-LOCATION;VALUE=URI;X-ADDRESS=Fox Run Mobile Estates 138 Brook Dr. St. Charles MO 63301;X-APPLE-RADIUS=500;X-TITLE=138 Brook Dr.:geo:-90.4985243,38.8203646
END:VEVENT
END:VCALENDAR