BEGIN:VCALENDAR
VERSION:2.0
PRODID:-//St. Louis Area Foodbank - ECPv6.15.20//NONSGML v1.0//EN
CALSCALE:GREGORIAN
METHOD:PUBLISH
X-WR-CALNAME:St. Louis Area Foodbank
X-ORIGINAL-URL:https://stlfoodbank.org
X-WR-CALDESC:Events for St. Louis Area Foodbank
REFRESH-INTERVAL;VALUE=DURATION:PT1H
X-Robots-Tag:noindex
X-PUBLISHED-TTL:PT1H
BEGIN:VTIMEZONE
TZID:America/Chicago
BEGIN:DAYLIGHT
TZOFFSETFROM:-0600
TZOFFSETTO:-0500
TZNAME:CDT
DTSTART:20220313T080000
END:DAYLIGHT
BEGIN:STANDARD
TZOFFSETFROM:-0500
TZOFFSETTO:-0600
TZNAME:CST
DTSTART:20221106T070000
END:STANDARD
BEGIN:DAYLIGHT
TZOFFSETFROM:-0600
TZOFFSETTO:-0500
TZNAME:CDT
DTSTART:20230312T080000
END:DAYLIGHT
BEGIN:STANDARD
TZOFFSETFROM:-0500
TZOFFSETTO:-0600
TZNAME:CST
DTSTART:20231105T070000
END:STANDARD
BEGIN:DAYLIGHT
TZOFFSETFROM:-0600
TZOFFSETTO:-0500
TZNAME:CDT
DTSTART:20240310T080000
END:DAYLIGHT
BEGIN:STANDARD
TZOFFSETFROM:-0500
TZOFFSETTO:-0600
TZNAME:CST
DTSTART:20241103T070000
END:STANDARD
BEGIN:DAYLIGHT
TZOFFSETFROM:-0600
TZOFFSETTO:-0500
TZNAME:CDT
DTSTART:20250309T080000
END:DAYLIGHT
BEGIN:STANDARD
TZOFFSETFROM:-0500
TZOFFSETTO:-0600
TZNAME:CST
DTSTART:20251102T070000
END:STANDARD
END:VTIMEZONE
BEGIN:VEVENT
DTSTART;TZID=America/Chicago:20240618T090000
DTEND;TZID=America/Chicago:20240618T090000
DTSTAMP:20260419T140456
CREATED:20230822T143340Z
LAST-MODIFIED:20240611T160437Z
UID:10003995-1718701200-1718701200@stlfoodbank.org
SUMMARY:Mobile Market | Compass Health Network - Winfield
DESCRIPTION:If you or someone you know has a vehicle\, you can visit one of our Food Fair distribution events. These events are set up as a drive-through food distribution. Volunteers and staff will put food in your car. We ask that you have space in your vehicle for the food items and that you not leave your vehicle during the distribution. Please arrive 15 minutes prior to the start of the event. \nREGISTER HERE: https://forms.donorsnap.com/form?id=cf041978-d965-42fd-b0e4-259a47ac40fd \n*times are subject to change
URL:https://stlfoodbank.org/event/mobile-market-compass-health-network-winfield/2024-06-18/
LOCATION:First Baptist Church\, 3700 E. Highway 47\, Winfield\, 63389\, United States
CATEGORIES:Food Distribution
ATTACH;FMTTYPE=:
GEO:38.9908517;-90.7632709
X-APPLE-STRUCTURED-LOCATION;VALUE=URI;X-ADDRESS=First Baptist Church 3700 E. Highway 47 Winfield 63389 United States;X-APPLE-RADIUS=500;X-TITLE=3700 E. Highway 47:geo:-90.7632709,38.9908517
END:VEVENT
BEGIN:VEVENT
DTSTART;TZID=America/Chicago:20240521T090000
DTEND;TZID=America/Chicago:20240521T090000
DTSTAMP:20260419T140456
CREATED:20230822T143340Z
LAST-MODIFIED:20240611T160437Z
UID:10003994-1716282000-1716282000@stlfoodbank.org
SUMMARY:Mobile Market | Compass Health Network - Winfield
DESCRIPTION:If you or someone you know has a vehicle\, you can visit one of our Food Fair distribution events. These events are set up as a drive-through food distribution. Volunteers and staff will put food in your car. We ask that you have space in your vehicle for the food items and that you not leave your vehicle during the distribution. Please arrive 15 minutes prior to the start of the event. \nREGISTER HERE: https://forms.donorsnap.com/form?id=cf041978-d965-42fd-b0e4-259a47ac40fd \n*times are subject to change
URL:https://stlfoodbank.org/event/mobile-market-compass-health-network-winfield/2024-05-21/
LOCATION:First Baptist Church\, 3700 E. Highway 47\, Winfield\, 63389\, United States
CATEGORIES:Food Distribution
ATTACH;FMTTYPE=:
GEO:38.9908517;-90.7632709
X-APPLE-STRUCTURED-LOCATION;VALUE=URI;X-ADDRESS=First Baptist Church 3700 E. Highway 47 Winfield 63389 United States;X-APPLE-RADIUS=500;X-TITLE=3700 E. Highway 47:geo:-90.7632709,38.9908517
END:VEVENT
BEGIN:VEVENT
DTSTART;TZID=America/Chicago:20240416T090000
DTEND;TZID=America/Chicago:20240416T090000
DTSTAMP:20260419T140456
CREATED:20230822T143340Z
LAST-MODIFIED:20240611T160437Z
UID:10003993-1713258000-1713258000@stlfoodbank.org
SUMMARY:Mobile Market | Compass Health Network - Winfield
DESCRIPTION:If you or someone you know has a vehicle\, you can visit one of our Food Fair distribution events. These events are set up as a drive-through food distribution. Volunteers and staff will put food in your car. We ask that you have space in your vehicle for the food items and that you not leave your vehicle during the distribution. Please arrive 15 minutes prior to the start of the event. \nREGISTER HERE: https://forms.donorsnap.com/form?id=cf041978-d965-42fd-b0e4-259a47ac40fd \n*times are subject to change
URL:https://stlfoodbank.org/event/mobile-market-compass-health-network-winfield/2024-04-16/
LOCATION:First Baptist Church\, 3700 E. Highway 47\, Winfield\, 63389\, United States
CATEGORIES:Food Distribution
ATTACH;FMTTYPE=:
GEO:38.9908517;-90.7632709
X-APPLE-STRUCTURED-LOCATION;VALUE=URI;X-ADDRESS=First Baptist Church 3700 E. Highway 47 Winfield 63389 United States;X-APPLE-RADIUS=500;X-TITLE=3700 E. Highway 47:geo:-90.7632709,38.9908517
END:VEVENT
BEGIN:VEVENT
DTSTART;TZID=America/Chicago:20240319T090000
DTEND;TZID=America/Chicago:20240319T090000
DTSTAMP:20260419T140456
CREATED:20230822T143340Z
LAST-MODIFIED:20240611T160437Z
UID:10003992-1710838800-1710838800@stlfoodbank.org
SUMMARY:Mobile Market | Compass Health Network - Winfield
DESCRIPTION:If you or someone you know has a vehicle\, you can visit one of our Food Fair distribution events. These events are set up as a drive-through food distribution. Volunteers and staff will put food in your car. We ask that you have space in your vehicle for the food items and that you not leave your vehicle during the distribution. Please arrive 15 minutes prior to the start of the event. \nREGISTER HERE: https://forms.donorsnap.com/form?id=cf041978-d965-42fd-b0e4-259a47ac40fd \n*times are subject to change
URL:https://stlfoodbank.org/event/mobile-market-compass-health-network-winfield/2024-03-19/
LOCATION:First Baptist Church\, 3700 E. Highway 47\, Winfield\, 63389\, United States
CATEGORIES:Food Distribution
ATTACH;FMTTYPE=:
GEO:38.9908517;-90.7632709
X-APPLE-STRUCTURED-LOCATION;VALUE=URI;X-ADDRESS=First Baptist Church 3700 E. Highway 47 Winfield 63389 United States;X-APPLE-RADIUS=500;X-TITLE=3700 E. Highway 47:geo:-90.7632709,38.9908517
END:VEVENT
BEGIN:VEVENT
DTSTART;TZID=America/Chicago:20240220T090000
DTEND;TZID=America/Chicago:20240220T090000
DTSTAMP:20260419T140456
CREATED:20230822T143340Z
LAST-MODIFIED:20240611T160437Z
UID:10003991-1708419600-1708419600@stlfoodbank.org
SUMMARY:Mobile Market | Compass Health Network - Winfield
DESCRIPTION:If you or someone you know has a vehicle\, you can visit one of our Food Fair distribution events. These events are set up as a drive-through food distribution. Volunteers and staff will put food in your car. We ask that you have space in your vehicle for the food items and that you not leave your vehicle during the distribution. Please arrive 15 minutes prior to the start of the event. \nREGISTER HERE: https://forms.donorsnap.com/form?id=cf041978-d965-42fd-b0e4-259a47ac40fd \n*times are subject to change
URL:https://stlfoodbank.org/event/mobile-market-compass-health-network-winfield/2024-02-20/
LOCATION:First Baptist Church\, 3700 E. Highway 47\, Winfield\, 63389\, United States
CATEGORIES:Food Distribution
ATTACH;FMTTYPE=:
GEO:38.9908517;-90.7632709
X-APPLE-STRUCTURED-LOCATION;VALUE=URI;X-ADDRESS=First Baptist Church 3700 E. Highway 47 Winfield 63389 United States;X-APPLE-RADIUS=500;X-TITLE=3700 E. Highway 47:geo:-90.7632709,38.9908517
END:VEVENT
BEGIN:VEVENT
DTSTART;TZID=America/Chicago:20240116T090000
DTEND;TZID=America/Chicago:20240116T090000
DTSTAMP:20260419T140456
CREATED:20230822T143340Z
LAST-MODIFIED:20240611T160437Z
UID:10003990-1705395600-1705395600@stlfoodbank.org
SUMMARY:Mobile Market | Compass Health Network - Winfield
DESCRIPTION:If you or someone you know has a vehicle\, you can visit one of our Food Fair distribution events. These events are set up as a drive-through food distribution. Volunteers and staff will put food in your car. We ask that you have space in your vehicle for the food items and that you not leave your vehicle during the distribution. Please arrive 15 minutes prior to the start of the event. \nREGISTER HERE: https://forms.donorsnap.com/form?id=cf041978-d965-42fd-b0e4-259a47ac40fd \n*times are subject to change
URL:https://stlfoodbank.org/event/mobile-market-compass-health-network-winfield/2024-01-16/
LOCATION:First Baptist Church\, 3700 E. Highway 47\, Winfield\, 63389\, United States
CATEGORIES:Food Distribution
ATTACH;FMTTYPE=:
GEO:38.9908517;-90.7632709
X-APPLE-STRUCTURED-LOCATION;VALUE=URI;X-ADDRESS=First Baptist Church 3700 E. Highway 47 Winfield 63389 United States;X-APPLE-RADIUS=500;X-TITLE=3700 E. Highway 47:geo:-90.7632709,38.9908517
END:VEVENT
BEGIN:VEVENT
DTSTART;TZID=America/Chicago:20231219T090000
DTEND;TZID=America/Chicago:20231219T090000
DTSTAMP:20260419T140456
CREATED:20230822T143340Z
LAST-MODIFIED:20240611T160437Z
UID:10002646-1702976400-1702976400@stlfoodbank.org
SUMMARY:Mobile Market | Compass Health Network - Winfield
DESCRIPTION:If you or someone you know has a vehicle\, you can visit one of our Food Fair distribution events. These events are set up as a drive-through food distribution. Volunteers and staff will put food in your car. We ask that you have space in your vehicle for the food items and that you not leave your vehicle during the distribution. Please arrive 15 minutes prior to the start of the event. \nREGISTER HERE: https://forms.donorsnap.com/form?id=cf041978-d965-42fd-b0e4-259a47ac40fd \n*times are subject to change
URL:https://stlfoodbank.org/event/mobile-market-compass-health-network-winfield/2023-12-19/
LOCATION:First Baptist Church\, 3700 E. Highway 47\, Winfield\, 63389\, United States
CATEGORIES:Food Distribution
ATTACH;FMTTYPE=:
GEO:38.9908517;-90.7632709
X-APPLE-STRUCTURED-LOCATION;VALUE=URI;X-ADDRESS=First Baptist Church 3700 E. Highway 47 Winfield 63389 United States;X-APPLE-RADIUS=500;X-TITLE=3700 E. Highway 47:geo:-90.7632709,38.9908517
END:VEVENT
BEGIN:VEVENT
DTSTART;TZID=America/Chicago:20231121T090000
DTEND;TZID=America/Chicago:20231121T090000
DTSTAMP:20260419T140456
CREATED:20230822T143340Z
LAST-MODIFIED:20240611T160437Z
UID:10002645-1700557200-1700557200@stlfoodbank.org
SUMMARY:Mobile Market | Compass Health Network - Winfield
DESCRIPTION:If you or someone you know has a vehicle\, you can visit one of our Food Fair distribution events. These events are set up as a drive-through food distribution. Volunteers and staff will put food in your car. We ask that you have space in your vehicle for the food items and that you not leave your vehicle during the distribution. Please arrive 15 minutes prior to the start of the event. \nREGISTER HERE: https://forms.donorsnap.com/form?id=cf041978-d965-42fd-b0e4-259a47ac40fd \n*times are subject to change
URL:https://stlfoodbank.org/event/mobile-market-compass-health-network-winfield/2023-11-21/
LOCATION:First Baptist Church\, 3700 E. Highway 47\, Winfield\, 63389\, United States
CATEGORIES:Food Distribution
ATTACH;FMTTYPE=:
GEO:38.9908517;-90.7632709
X-APPLE-STRUCTURED-LOCATION;VALUE=URI;X-ADDRESS=First Baptist Church 3700 E. Highway 47 Winfield 63389 United States;X-APPLE-RADIUS=500;X-TITLE=3700 E. Highway 47:geo:-90.7632709,38.9908517
END:VEVENT
BEGIN:VEVENT
DTSTART;TZID=America/Chicago:20231017T090000
DTEND;TZID=America/Chicago:20231017T090000
DTSTAMP:20260419T140456
CREATED:20230822T143340Z
LAST-MODIFIED:20240611T160437Z
UID:10002644-1697533200-1697533200@stlfoodbank.org
SUMMARY:Mobile Market | Compass Health Network - Winfield
DESCRIPTION:If you or someone you know has a vehicle\, you can visit one of our Food Fair distribution events. These events are set up as a drive-through food distribution. Volunteers and staff will put food in your car. We ask that you have space in your vehicle for the food items and that you not leave your vehicle during the distribution. Please arrive 15 minutes prior to the start of the event. \nREGISTER HERE: https://forms.donorsnap.com/form?id=cf041978-d965-42fd-b0e4-259a47ac40fd \n*times are subject to change
URL:https://stlfoodbank.org/event/mobile-market-compass-health-network-winfield/2023-10-17/
LOCATION:First Baptist Church\, 3700 E. Highway 47\, Winfield\, 63389\, United States
CATEGORIES:Food Distribution
ATTACH;FMTTYPE=:
GEO:38.9908517;-90.7632709
X-APPLE-STRUCTURED-LOCATION;VALUE=URI;X-ADDRESS=First Baptist Church 3700 E. Highway 47 Winfield 63389 United States;X-APPLE-RADIUS=500;X-TITLE=3700 E. Highway 47:geo:-90.7632709,38.9908517
END:VEVENT
BEGIN:VEVENT
DTSTART;TZID=America/Chicago:20230919T090000
DTEND;TZID=America/Chicago:20230919T090000
DTSTAMP:20260419T140456
CREATED:20230822T143340Z
LAST-MODIFIED:20240611T160437Z
UID:10002643-1695114000-1695114000@stlfoodbank.org
SUMMARY:Mobile Market | Compass Health Network - Winfield
DESCRIPTION:If you or someone you know has a vehicle\, you can visit one of our Food Fair distribution events. These events are set up as a drive-through food distribution. Volunteers and staff will put food in your car. We ask that you have space in your vehicle for the food items and that you not leave your vehicle during the distribution. Please arrive 15 minutes prior to the start of the event. \nREGISTER HERE: https://forms.donorsnap.com/form?id=cf041978-d965-42fd-b0e4-259a47ac40fd \n*times are subject to change
URL:https://stlfoodbank.org/event/mobile-market-compass-health-network-winfield/2023-09-19/
LOCATION:First Baptist Church\, 3700 E. Highway 47\, Winfield\, 63389\, United States
CATEGORIES:Food Distribution
ATTACH;FMTTYPE=:
GEO:38.9908517;-90.7632709
X-APPLE-STRUCTURED-LOCATION;VALUE=URI;X-ADDRESS=First Baptist Church 3700 E. Highway 47 Winfield 63389 United States;X-APPLE-RADIUS=500;X-TITLE=3700 E. Highway 47:geo:-90.7632709,38.9908517
END:VEVENT
END:VCALENDAR