BEGIN:VCALENDAR
VERSION:2.0
PRODID:-//St. Louis Area Foodbank - ECPv6.15.20//NONSGML v1.0//EN
CALSCALE:GREGORIAN
METHOD:PUBLISH
X-ORIGINAL-URL:https://stlfoodbank.org
X-WR-CALDESC:Events for St. Louis Area Foodbank
REFRESH-INTERVAL;VALUE=DURATION:PT1H
X-Robots-Tag:noindex
X-PUBLISHED-TTL:PT1H
BEGIN:VTIMEZONE
TZID:America/Chicago
BEGIN:DAYLIGHT
TZOFFSETFROM:-0600
TZOFFSETTO:-0500
TZNAME:CDT
DTSTART:20220313T080000
END:DAYLIGHT
BEGIN:STANDARD
TZOFFSETFROM:-0500
TZOFFSETTO:-0600
TZNAME:CST
DTSTART:20221106T070000
END:STANDARD
BEGIN:DAYLIGHT
TZOFFSETFROM:-0600
TZOFFSETTO:-0500
TZNAME:CDT
DTSTART:20230312T080000
END:DAYLIGHT
BEGIN:STANDARD
TZOFFSETFROM:-0500
TZOFFSETTO:-0600
TZNAME:CST
DTSTART:20231105T070000
END:STANDARD
BEGIN:DAYLIGHT
TZOFFSETFROM:-0600
TZOFFSETTO:-0500
TZNAME:CDT
DTSTART:20240310T080000
END:DAYLIGHT
BEGIN:STANDARD
TZOFFSETFROM:-0500
TZOFFSETTO:-0600
TZNAME:CST
DTSTART:20241103T070000
END:STANDARD
END:VTIMEZONE
BEGIN:VTIMEZONE
TZID:UTC
BEGIN:STANDARD
TZOFFSETFROM:+0000
TZOFFSETTO:+0000
TZNAME:UTC
DTSTART:20210101T000000
END:STANDARD
END:VTIMEZONE
BEGIN:VEVENT
DTSTART;TZID=America/Chicago:20230313T100000
DTEND;TZID=America/Chicago:20230313T100000
DTSTAMP:20260419T173814
CREATED:20230110T212511Z
LAST-MODIFIED:20230110T212543Z
UID:10000445-1678701600-1678701600@stlfoodbank.org
SUMMARY:Community Mobile Market | Fee Fee Baptist Church
DESCRIPTION:In partnership with the St. Louis Area Foodbank\, Fee Fee Baptist Church  is hosting a drive-through Community Mobile Market. Neighbors have the opportunity to get a mix of fresh and nonperishable food items at no cost. The distribution will end at the stated time or once all of the food and other resources have been distributed.   \nThis event is set up as a drive through distribution and volunteers and/or staff of the organization will put food directly into your car. We ask that you have space in your vehicle for the food items and that you not leave your vehicle during the distribution. Please arrive at least 15 minutes prior to the start of the event.  \nWe do not require any identification or verification of income – anyone is welcome. \n  \n If you have any questions\, please reach out to Kathy Wenner at kathyw@feefeebc.org.   \n  \n*Dates and times are subject to change. We recommend checking in with the partner organization prior to the event to confirm dates/times.  
URL:https://stlfoodbank.org/event/community-mobile-market-fee-fee-baptist-church/2023-03-13/
LOCATION:Fee Fee Baptist Church\, 11330 St Charles Rock Rd\, Bridgeton\, MO\, 63044
GEO:38.7389073;-90.4035457
X-APPLE-STRUCTURED-LOCATION;VALUE=URI;X-ADDRESS=Fee Fee Baptist Church 11330 St Charles Rock Rd Bridgeton MO 63044;X-APPLE-RADIUS=500;X-TITLE=11330 St Charles Rock Rd:geo:-90.4035457,38.7389073
END:VEVENT
BEGIN:VEVENT
DTSTART;TZID=America/Chicago:20230213T100000
DTEND;TZID=America/Chicago:20230213T100000
DTSTAMP:20260419T173814
CREATED:20230110T212511Z
LAST-MODIFIED:20230110T212543Z
UID:10000444-1676282400-1676282400@stlfoodbank.org
SUMMARY:Community Mobile Market | Fee Fee Baptist Church
DESCRIPTION:In partnership with the St. Louis Area Foodbank\, Fee Fee Baptist Church  is hosting a drive-through Community Mobile Market. Neighbors have the opportunity to get a mix of fresh and nonperishable food items at no cost. The distribution will end at the stated time or once all of the food and other resources have been distributed.   \nThis event is set up as a drive through distribution and volunteers and/or staff of the organization will put food directly into your car. We ask that you have space in your vehicle for the food items and that you not leave your vehicle during the distribution. Please arrive at least 15 minutes prior to the start of the event.  \nWe do not require any identification or verification of income – anyone is welcome. \n  \n If you have any questions\, please reach out to Kathy Wenner at kathyw@feefeebc.org.   \n  \n*Dates and times are subject to change. We recommend checking in with the partner organization prior to the event to confirm dates/times.  
URL:https://stlfoodbank.org/event/community-mobile-market-fee-fee-baptist-church/2023-02-13/
LOCATION:Fee Fee Baptist Church\, 11330 St Charles Rock Rd\, Bridgeton\, MO\, 63044
GEO:38.7389073;-90.4035457
X-APPLE-STRUCTURED-LOCATION;VALUE=URI;X-ADDRESS=Fee Fee Baptist Church 11330 St Charles Rock Rd Bridgeton MO 63044;X-APPLE-RADIUS=500;X-TITLE=11330 St Charles Rock Rd:geo:-90.4035457,38.7389073
END:VEVENT
BEGIN:VEVENT
DTSTART;TZID=UTC:20221212T100000
DTEND;TZID=UTC:20221212T100000
DTSTAMP:20260419T173814
CREATED:20220613T155125Z
LAST-MODIFIED:20221013T004423Z
UID:10000095-1670839200-1670839200@stlfoodbank.org
SUMMARY:Mobile Market | Fee Fee Baptist Church
DESCRIPTION:In partnership with the St. Louis Area Food Bank\, Fee Fee Baptist Church  is hosting a drive-through Community Mobile Market. Neighbors have the opportunity to get a mix of fresh and nonperishable food items at no cost. The distribution will end at the stated time or once all of the food and other resources have been distributed.   \nThis event is set up as a drive through distribution and volunteers and/or staff of the organization will put food directly into your car. We ask that you have space in your vehicle for the food items and that you not leave your vehicle during the distribution. Please arrive at least 15 minutes prior to the start of the event.  \nWe do not require any identification or verification of income – anyone is welcome. \n  \n If you have any questions\, please reach out to Kathy Wenner at kathyw@feefeebc.org.   \n  \n*Dates and times are subject to change. We recommend checking in with the partner organization prior to the event to confirm dates/times.  
URL:https://stlfoodbank.org/event/mobile-market-fee-fee-baptist-church-11/
LOCATION:Fee Fee Baptist Church\, 11330 St Charles Rock Rd\, Bridgeton\, MO\, 63044
CATEGORIES:Mobile Market
ATTACH;FMTTYPE=:
GEO:38.7389073;-90.4035457
X-APPLE-STRUCTURED-LOCATION;VALUE=URI;X-ADDRESS=Fee Fee Baptist Church 11330 St Charles Rock Rd Bridgeton MO 63044;X-APPLE-RADIUS=500;X-TITLE=11330 St Charles Rock Rd:geo:-90.4035457,38.7389073
END:VEVENT
BEGIN:VEVENT
DTSTART;TZID=UTC:20221114T100000
DTEND;TZID=UTC:20221114T100000
DTSTAMP:20260419T173814
CREATED:20220613T154924Z
LAST-MODIFIED:20221013T004114Z
UID:10000053-1668420000-1668420000@stlfoodbank.org
SUMMARY:Mobile Market | Fee Fee Baptist Church
DESCRIPTION:In partnership with the St. Louis Area Food Bank\, Fee Fee Baptist Church  is hosting a drive-through Community Mobile Market. Neighbors have the opportunity to get a mix of fresh and nonperishable food items at no cost. The distribution will end at the stated time or once all of the food and other resources have been distributed.   \nThis event is set up as a drive through distribution and volunteers and/or staff of the organization will put food directly into your car. We ask that you have space in your vehicle for the food items and that you not leave your vehicle during the distribution. Please arrive at least 15 minutes prior to the start of the event.  \nWe do not require any identification or verification of income – anyone is welcome. \n  \n If you have any questions\, please reach out to Kathy Wenner at kathyw@feefeebc.org.   \n  \n*Dates and times are subject to change. We recommend checking in with the partner organization prior to the event to confirm dates/times.  
URL:https://stlfoodbank.org/event/mobile-market-fee-fee-baptist-church-10/
LOCATION:Fee Fee Baptist Church\, 11330 St Charles Rock Rd\, Bridgeton\, MO\, 63044
CATEGORIES:Mobile Market
ATTACH;FMTTYPE=:
GEO:38.7389073;-90.4035457
X-APPLE-STRUCTURED-LOCATION;VALUE=URI;X-ADDRESS=Fee Fee Baptist Church 11330 St Charles Rock Rd Bridgeton MO 63044;X-APPLE-RADIUS=500;X-TITLE=11330 St Charles Rock Rd:geo:-90.4035457,38.7389073
END:VEVENT
END:VCALENDAR