BEGIN:VCALENDAR
VERSION:2.0
PRODID:-//St. Louis Area Foodbank - ECPv6.15.20//NONSGML v1.0//EN
CALSCALE:GREGORIAN
METHOD:PUBLISH
X-ORIGINAL-URL:https://stlfoodbank.org
X-WR-CALDESC:Events for St. Louis Area Foodbank
REFRESH-INTERVAL;VALUE=DURATION:PT1H
X-Robots-Tag:noindex
X-PUBLISHED-TTL:PT1H
BEGIN:VTIMEZONE
TZID:America/Chicago
BEGIN:DAYLIGHT
TZOFFSETFROM:-0600
TZOFFSETTO:-0500
TZNAME:CDT
DTSTART:20280312T080000
END:DAYLIGHT
BEGIN:STANDARD
TZOFFSETFROM:-0500
TZOFFSETTO:-0600
TZNAME:CST
DTSTART:20281105T070000
END:STANDARD
BEGIN:DAYLIGHT
TZOFFSETFROM:-0600
TZOFFSETTO:-0500
TZNAME:CDT
DTSTART:20290311T080000
END:DAYLIGHT
BEGIN:STANDARD
TZOFFSETFROM:-0500
TZOFFSETTO:-0600
TZNAME:CST
DTSTART:20291104T070000
END:STANDARD
BEGIN:DAYLIGHT
TZOFFSETFROM:-0600
TZOFFSETTO:-0500
TZNAME:CDT
DTSTART:20300310T080000
END:DAYLIGHT
BEGIN:STANDARD
TZOFFSETFROM:-0500
TZOFFSETTO:-0600
TZNAME:CST
DTSTART:20301103T070000
END:STANDARD
BEGIN:DAYLIGHT
TZOFFSETFROM:-0600
TZOFFSETTO:-0500
TZNAME:CDT
DTSTART:20310309T080000
END:DAYLIGHT
BEGIN:STANDARD
TZOFFSETFROM:-0500
TZOFFSETTO:-0600
TZNAME:CST
DTSTART:20311102T070000
END:STANDARD
END:VTIMEZONE
BEGIN:VEVENT
DTSTART;TZID=America/Chicago:20290511T153000
DTEND;TZID=America/Chicago:20290511T163000
DTSTAMP:20260419T231943
CREATED:20250110T141626Z
LAST-MODIFIED:20250205T150819Z
UID:10013703-1873207800-1873211400@stlfoodbank.org
SUMMARY:Food on the Move | Faith UMC (St. Charles\, MO)
DESCRIPTION:Food On The Move is a walk-through\, shopping style food distribution program for individuals living in areas of Illinois and Missouri with limited access to healthy food and resources. During these events\, neighbors are able to walk through the 28-foot trailer and choose the foods that they need. Verification of personal information is not required to participate.  All are welcome to receive food while supplies last. \nIf you have any questions\, please reach out to programs@stlfoodbank.org. \n*Times and dates are subject to change due to holidays and inclement weather. Check our social media pages for any updates @STLFoodbank!
URL:https://stlfoodbank.org/event/food-on-the-move-faith-umc-st-charles-mo-2/2029-05-11/
LOCATION:Faith UMC\, 2950 Droste Rd\, St Charles\, MO\, 63301\, United States
GEO:38.7942542;-90.521758
X-APPLE-STRUCTURED-LOCATION;VALUE=URI;X-ADDRESS=Faith UMC 2950 Droste Rd St Charles MO 63301 United States;X-APPLE-RADIUS=500;X-TITLE=2950 Droste Rd:geo:-90.521758,38.7942542
END:VEVENT
BEGIN:VEVENT
DTSTART;TZID=America/Chicago:20290608T153000
DTEND;TZID=America/Chicago:20290608T163000
DTSTAMP:20260419T231943
CREATED:20250110T141626Z
LAST-MODIFIED:20250205T150819Z
UID:10013704-1875627000-1875630600@stlfoodbank.org
SUMMARY:Food on the Move | Faith UMC (St. Charles\, MO)
DESCRIPTION:Food On The Move is a walk-through\, shopping style food distribution program for individuals living in areas of Illinois and Missouri with limited access to healthy food and resources. During these events\, neighbors are able to walk through the 28-foot trailer and choose the foods that they need. Verification of personal information is not required to participate.  All are welcome to receive food while supplies last. \nIf you have any questions\, please reach out to programs@stlfoodbank.org. \n*Times and dates are subject to change due to holidays and inclement weather. Check our social media pages for any updates @STLFoodbank!
URL:https://stlfoodbank.org/event/food-on-the-move-faith-umc-st-charles-mo-2/2029-06-08/
LOCATION:Faith UMC\, 2950 Droste Rd\, St Charles\, MO\, 63301\, United States
GEO:38.7942542;-90.521758
X-APPLE-STRUCTURED-LOCATION;VALUE=URI;X-ADDRESS=Faith UMC 2950 Droste Rd St Charles MO 63301 United States;X-APPLE-RADIUS=500;X-TITLE=2950 Droste Rd:geo:-90.521758,38.7942542
END:VEVENT
BEGIN:VEVENT
DTSTART;TZID=America/Chicago:20290713T153000
DTEND;TZID=America/Chicago:20290713T163000
DTSTAMP:20260419T231943
CREATED:20250110T141626Z
LAST-MODIFIED:20250205T150819Z
UID:10013705-1878651000-1878654600@stlfoodbank.org
SUMMARY:Food on the Move | Faith UMC (St. Charles\, MO)
DESCRIPTION:Food On The Move is a walk-through\, shopping style food distribution program for individuals living in areas of Illinois and Missouri with limited access to healthy food and resources. During these events\, neighbors are able to walk through the 28-foot trailer and choose the foods that they need. Verification of personal information is not required to participate.  All are welcome to receive food while supplies last. \nIf you have any questions\, please reach out to programs@stlfoodbank.org. \n*Times and dates are subject to change due to holidays and inclement weather. Check our social media pages for any updates @STLFoodbank!
URL:https://stlfoodbank.org/event/food-on-the-move-faith-umc-st-charles-mo-2/2029-07-13/
LOCATION:Faith UMC\, 2950 Droste Rd\, St Charles\, MO\, 63301\, United States
GEO:38.7942542;-90.521758
X-APPLE-STRUCTURED-LOCATION;VALUE=URI;X-ADDRESS=Faith UMC 2950 Droste Rd St Charles MO 63301 United States;X-APPLE-RADIUS=500;X-TITLE=2950 Droste Rd:geo:-90.521758,38.7942542
END:VEVENT
BEGIN:VEVENT
DTSTART;TZID=America/Chicago:20290810T153000
DTEND;TZID=America/Chicago:20290810T163000
DTSTAMP:20260419T231943
CREATED:20250110T141626Z
LAST-MODIFIED:20250205T150819Z
UID:10016778-1881070200-1881073800@stlfoodbank.org
SUMMARY:Food on the Move | Faith UMC (St. Charles\, MO)
DESCRIPTION:Food On The Move is a walk-through\, shopping style food distribution program for individuals living in areas of Illinois and Missouri with limited access to healthy food and resources. During these events\, neighbors are able to walk through the 28-foot trailer and choose the foods that they need. Verification of personal information is not required to participate.  All are welcome to receive food while supplies last. \nIf you have any questions\, please reach out to programs@stlfoodbank.org. \n*Times and dates are subject to change due to holidays and inclement weather. Check our social media pages for any updates @STLFoodbank!
URL:https://stlfoodbank.org/event/food-on-the-move-faith-umc-st-charles-mo-2/2029-08-10/
LOCATION:Faith UMC\, 2950 Droste Rd\, St Charles\, MO\, 63301\, United States
GEO:38.7942542;-90.521758
X-APPLE-STRUCTURED-LOCATION;VALUE=URI;X-ADDRESS=Faith UMC 2950 Droste Rd St Charles MO 63301 United States;X-APPLE-RADIUS=500;X-TITLE=2950 Droste Rd:geo:-90.521758,38.7942542
END:VEVENT
BEGIN:VEVENT
DTSTART;TZID=America/Chicago:20290914T153000
DTEND;TZID=America/Chicago:20290914T163000
DTSTAMP:20260419T231943
CREATED:20250110T141626Z
LAST-MODIFIED:20250205T150819Z
UID:10016779-1884094200-1884097800@stlfoodbank.org
SUMMARY:Food on the Move | Faith UMC (St. Charles\, MO)
DESCRIPTION:Food On The Move is a walk-through\, shopping style food distribution program for individuals living in areas of Illinois and Missouri with limited access to healthy food and resources. During these events\, neighbors are able to walk through the 28-foot trailer and choose the foods that they need. Verification of personal information is not required to participate.  All are welcome to receive food while supplies last. \nIf you have any questions\, please reach out to programs@stlfoodbank.org. \n*Times and dates are subject to change due to holidays and inclement weather. Check our social media pages for any updates @STLFoodbank!
URL:https://stlfoodbank.org/event/food-on-the-move-faith-umc-st-charles-mo-2/2029-09-14/
LOCATION:Faith UMC\, 2950 Droste Rd\, St Charles\, MO\, 63301\, United States
GEO:38.7942542;-90.521758
X-APPLE-STRUCTURED-LOCATION;VALUE=URI;X-ADDRESS=Faith UMC 2950 Droste Rd St Charles MO 63301 United States;X-APPLE-RADIUS=500;X-TITLE=2950 Droste Rd:geo:-90.521758,38.7942542
END:VEVENT
BEGIN:VEVENT
DTSTART;TZID=America/Chicago:20291012T153000
DTEND;TZID=America/Chicago:20291012T163000
DTSTAMP:20260419T231943
CREATED:20250110T141626Z
LAST-MODIFIED:20250205T150819Z
UID:10016780-1886513400-1886517000@stlfoodbank.org
SUMMARY:Food on the Move | Faith UMC (St. Charles\, MO)
DESCRIPTION:Food On The Move is a walk-through\, shopping style food distribution program for individuals living in areas of Illinois and Missouri with limited access to healthy food and resources. During these events\, neighbors are able to walk through the 28-foot trailer and choose the foods that they need. Verification of personal information is not required to participate.  All are welcome to receive food while supplies last. \nIf you have any questions\, please reach out to programs@stlfoodbank.org. \n*Times and dates are subject to change due to holidays and inclement weather. Check our social media pages for any updates @STLFoodbank!
URL:https://stlfoodbank.org/event/food-on-the-move-faith-umc-st-charles-mo-2/2029-10-12/
LOCATION:Faith UMC\, 2950 Droste Rd\, St Charles\, MO\, 63301\, United States
GEO:38.7942542;-90.521758
X-APPLE-STRUCTURED-LOCATION;VALUE=URI;X-ADDRESS=Faith UMC 2950 Droste Rd St Charles MO 63301 United States;X-APPLE-RADIUS=500;X-TITLE=2950 Droste Rd:geo:-90.521758,38.7942542
END:VEVENT
BEGIN:VEVENT
DTSTART;TZID=America/Chicago:20291109T153000
DTEND;TZID=America/Chicago:20291109T163000
DTSTAMP:20260419T231943
CREATED:20250110T141626Z
LAST-MODIFIED:20250205T150819Z
UID:10016781-1888932600-1888936200@stlfoodbank.org
SUMMARY:Food on the Move | Faith UMC (St. Charles\, MO)
DESCRIPTION:Food On The Move is a walk-through\, shopping style food distribution program for individuals living in areas of Illinois and Missouri with limited access to healthy food and resources. During these events\, neighbors are able to walk through the 28-foot trailer and choose the foods that they need. Verification of personal information is not required to participate.  All are welcome to receive food while supplies last. \nIf you have any questions\, please reach out to programs@stlfoodbank.org. \n*Times and dates are subject to change due to holidays and inclement weather. Check our social media pages for any updates @STLFoodbank!
URL:https://stlfoodbank.org/event/food-on-the-move-faith-umc-st-charles-mo-2/2029-11-09/
LOCATION:Faith UMC\, 2950 Droste Rd\, St Charles\, MO\, 63301\, United States
GEO:38.7942542;-90.521758
X-APPLE-STRUCTURED-LOCATION;VALUE=URI;X-ADDRESS=Faith UMC 2950 Droste Rd St Charles MO 63301 United States;X-APPLE-RADIUS=500;X-TITLE=2950 Droste Rd:geo:-90.521758,38.7942542
END:VEVENT
BEGIN:VEVENT
DTSTART;TZID=America/Chicago:20291214T153000
DTEND;TZID=America/Chicago:20291214T163000
DTSTAMP:20260419T231943
CREATED:20250110T141626Z
LAST-MODIFIED:20250205T150819Z
UID:10016782-1891956600-1891960200@stlfoodbank.org
SUMMARY:Food on the Move | Faith UMC (St. Charles\, MO)
DESCRIPTION:Food On The Move is a walk-through\, shopping style food distribution program for individuals living in areas of Illinois and Missouri with limited access to healthy food and resources. During these events\, neighbors are able to walk through the 28-foot trailer and choose the foods that they need. Verification of personal information is not required to participate.  All are welcome to receive food while supplies last. \nIf you have any questions\, please reach out to programs@stlfoodbank.org. \n*Times and dates are subject to change due to holidays and inclement weather. Check our social media pages for any updates @STLFoodbank!
URL:https://stlfoodbank.org/event/food-on-the-move-faith-umc-st-charles-mo-2/2029-12-14/
LOCATION:Faith UMC\, 2950 Droste Rd\, St Charles\, MO\, 63301\, United States
GEO:38.7942542;-90.521758
X-APPLE-STRUCTURED-LOCATION;VALUE=URI;X-ADDRESS=Faith UMC 2950 Droste Rd St Charles MO 63301 United States;X-APPLE-RADIUS=500;X-TITLE=2950 Droste Rd:geo:-90.521758,38.7942542
END:VEVENT
BEGIN:VEVENT
DTSTART;TZID=America/Chicago:20300111T153000
DTEND;TZID=America/Chicago:20300111T163000
DTSTAMP:20260419T231943
CREATED:20250110T141626Z
LAST-MODIFIED:20250205T150819Z
UID:10017898-1894375800-1894379400@stlfoodbank.org
SUMMARY:Food on the Move | Faith UMC (St. Charles\, MO)
DESCRIPTION:Food On The Move is a walk-through\, shopping style food distribution program for individuals living in areas of Illinois and Missouri with limited access to healthy food and resources. During these events\, neighbors are able to walk through the 28-foot trailer and choose the foods that they need. Verification of personal information is not required to participate.  All are welcome to receive food while supplies last. \nIf you have any questions\, please reach out to programs@stlfoodbank.org. \n*Times and dates are subject to change due to holidays and inclement weather. Check our social media pages for any updates @STLFoodbank!
URL:https://stlfoodbank.org/event/food-on-the-move-faith-umc-st-charles-mo-2/2030-01-11/
LOCATION:Faith UMC\, 2950 Droste Rd\, St Charles\, MO\, 63301\, United States
GEO:38.7942542;-90.521758
X-APPLE-STRUCTURED-LOCATION;VALUE=URI;X-ADDRESS=Faith UMC 2950 Droste Rd St Charles MO 63301 United States;X-APPLE-RADIUS=500;X-TITLE=2950 Droste Rd:geo:-90.521758,38.7942542
END:VEVENT
END:VCALENDAR