BEGIN:VCALENDAR
VERSION:2.0
PRODID:-//St. Louis Area Foodbank - ECPv6.15.20//NONSGML v1.0//EN
CALSCALE:GREGORIAN
METHOD:PUBLISH
X-ORIGINAL-URL:https://stlfoodbank.org
X-WR-CALDESC:Events for St. Louis Area Foodbank
REFRESH-INTERVAL;VALUE=DURATION:PT1H
X-Robots-Tag:noindex
X-PUBLISHED-TTL:PT1H
BEGIN:VTIMEZONE
TZID:America/Chicago
BEGIN:DAYLIGHT
TZOFFSETFROM:-0600
TZOFFSETTO:-0500
TZNAME:CDT
DTSTART:20230312T080000
END:DAYLIGHT
BEGIN:STANDARD
TZOFFSETFROM:-0500
TZOFFSETTO:-0600
TZNAME:CST
DTSTART:20231105T070000
END:STANDARD
BEGIN:DAYLIGHT
TZOFFSETFROM:-0600
TZOFFSETTO:-0500
TZNAME:CDT
DTSTART:20240310T080000
END:DAYLIGHT
BEGIN:STANDARD
TZOFFSETFROM:-0500
TZOFFSETTO:-0600
TZNAME:CST
DTSTART:20241103T070000
END:STANDARD
BEGIN:DAYLIGHT
TZOFFSETFROM:-0600
TZOFFSETTO:-0500
TZNAME:CDT
DTSTART:20250309T080000
END:DAYLIGHT
BEGIN:STANDARD
TZOFFSETFROM:-0500
TZOFFSETTO:-0600
TZNAME:CST
DTSTART:20251102T070000
END:STANDARD
END:VTIMEZONE
BEGIN:VEVENT
DTSTART;TZID=America/Chicago:20240625T100000
DTEND;TZID=America/Chicago:20240625T230000
DTSTAMP:20260420T095024
CREATED:20240621T164611Z
LAST-MODIFIED:20240621T164625Z
UID:10011978-1719309600-1719356400@stlfoodbank.org
SUMMARY:Food On The Move | Eastern MO First Jurisdiction (St. Louis\, MO) | June 25\, 2024
DESCRIPTION:Food On The Move is a walk-through\, shopping style food distribution program for individuals living in areas of Illinois and Missouri with limited access to healthy food and resources. During these events\, neighbors are able to walk through the 28-foot trailer and choose the foods that they need. Verification of personal information is not required to participate.  All are welcome to receive food while supplies last. \nIf you have any questions\, please reach out to Jessica Murphy at JMurphy@stlfoodbank.org. \n*Times and dates are subject to change due to holidays and inclement weather. Check our social media pages for any updates @STLFoodbank! \n  \nFood On The Move | Eastern MO First Jurisdiction (St. Louis\, MO)
URL:https://stlfoodbank.org/event/food-on-the-move-eastern-mo-first-jurisdiction-st-louis-mo-june-25-2024/
LOCATION:Eastern MO First Jurisdiction\, 3500 Norwood Ave\, St. Louis\, MO\, 63115\, United States
GEO:38.6383767;-90.3033783
X-APPLE-STRUCTURED-LOCATION;VALUE=URI;X-ADDRESS=Eastern MO First Jurisdiction 3500 Norwood Ave St. Louis MO 63115 United States;X-APPLE-RADIUS=500;X-TITLE=3500 Norwood Ave:geo:-90.3033783,38.6383767
END:VEVENT
END:VCALENDAR