BEGIN:VCALENDAR
VERSION:2.0
PRODID:-//St. Louis Area Foodbank - ECPv6.15.20//NONSGML v1.0//EN
CALSCALE:GREGORIAN
METHOD:PUBLISH
X-ORIGINAL-URL:https://stlfoodbank.org
X-WR-CALDESC:Events for St. Louis Area Foodbank
REFRESH-INTERVAL;VALUE=DURATION:PT1H
X-Robots-Tag:noindex
X-PUBLISHED-TTL:PT1H
BEGIN:VTIMEZONE
TZID:America/Chicago
BEGIN:DAYLIGHT
TZOFFSETFROM:-0600
TZOFFSETTO:-0500
TZNAME:CDT
DTSTART:20230312T080000
END:DAYLIGHT
BEGIN:STANDARD
TZOFFSETFROM:-0500
TZOFFSETTO:-0600
TZNAME:CST
DTSTART:20231105T070000
END:STANDARD
BEGIN:DAYLIGHT
TZOFFSETFROM:-0600
TZOFFSETTO:-0500
TZNAME:CDT
DTSTART:20240310T080000
END:DAYLIGHT
BEGIN:STANDARD
TZOFFSETFROM:-0500
TZOFFSETTO:-0600
TZNAME:CST
DTSTART:20241103T070000
END:STANDARD
BEGIN:DAYLIGHT
TZOFFSETFROM:-0600
TZOFFSETTO:-0500
TZNAME:CDT
DTSTART:20250309T080000
END:DAYLIGHT
BEGIN:STANDARD
TZOFFSETFROM:-0500
TZOFFSETTO:-0600
TZNAME:CST
DTSTART:20251102T070000
END:STANDARD
BEGIN:DAYLIGHT
TZOFFSETFROM:-0600
TZOFFSETTO:-0500
TZNAME:CDT
DTSTART:20260308T080000
END:DAYLIGHT
BEGIN:STANDARD
TZOFFSETFROM:-0500
TZOFFSETTO:-0600
TZNAME:CST
DTSTART:20261101T070000
END:STANDARD
END:VTIMEZONE
BEGIN:VEVENT
DTSTART;TZID=America/Chicago:20250407T100000
DTEND;TZID=America/Chicago:20250407T100000
DTSTAMP:20260419T093519
CREATED:20250103T151309Z
LAST-MODIFIED:20250203T162650Z
UID:10012535-1744020000-1744020000@stlfoodbank.org
SUMMARY:IL FARM Distribution | Crosspoint Church of Fieldon (Jersey County\, IL)
DESCRIPTION:In partnership with the St. Louis Area Foodbank\, Crosspoint Church of Fieldon is hosting a drive-through Food Access and Resource Market. Neighbors will have the opportunity to get a mix of fresh and nonperishable food items at no cost. The distribution will end at the stated time or once all the food and other resources have been distributed. \nThis event is set up as a drive through distribution and volunteers and/or staff of the organization will put food directly into your car. We ask that you have space in your vehicle for the food items and that you do not leave your vehicle during the distribution. Please arrive at least 15 minutes prior to the start of the event. \nWe do not require any identification or verification of income – anyone is welcome. \nIf you have any questions\, please reach out to programs@stlfoodbank.org. \n*Dates and times are subject to change. We recommend following the St. Louis Area Foodbank on all social media platforms for any changes in the schedule.
URL:https://stlfoodbank.org/event/il-farm-distribution-crosspoint-church-of-fieldon-jersey-county-il-2/2025-04-07/
LOCATION:Crosspoint Church of Fieldon\, 104 Public Rd\, Fieldon\, IL\, 62031\, United States
GEO:39.108036;-90.5027124
X-APPLE-STRUCTURED-LOCATION;VALUE=URI;X-ADDRESS=Crosspoint Church of Fieldon 104 Public Rd Fieldon IL 62031 United States;X-APPLE-RADIUS=500;X-TITLE=104 Public Rd:geo:-90.5027124,39.108036
END:VEVENT
BEGIN:VEVENT
DTSTART;TZID=America/Chicago:20250303T100000
DTEND;TZID=America/Chicago:20250303T100000
DTSTAMP:20260419T093519
CREATED:20250103T151309Z
LAST-MODIFIED:20250203T162650Z
UID:10012534-1740996000-1740996000@stlfoodbank.org
SUMMARY:IL FARM Distribution | Crosspoint Church of Fieldon (Jersey County\, IL)
DESCRIPTION:In partnership with the St. Louis Area Foodbank\, Crosspoint Church of Fieldon is hosting a drive-through Food Access and Resource Market. Neighbors will have the opportunity to get a mix of fresh and nonperishable food items at no cost. The distribution will end at the stated time or once all the food and other resources have been distributed. \nThis event is set up as a drive through distribution and volunteers and/or staff of the organization will put food directly into your car. We ask that you have space in your vehicle for the food items and that you do not leave your vehicle during the distribution. Please arrive at least 15 minutes prior to the start of the event. \nWe do not require any identification or verification of income – anyone is welcome. \nIf you have any questions\, please reach out to programs@stlfoodbank.org. \n*Dates and times are subject to change. We recommend following the St. Louis Area Foodbank on all social media platforms for any changes in the schedule.
URL:https://stlfoodbank.org/event/il-farm-distribution-crosspoint-church-of-fieldon-jersey-county-il-2/2025-03-03/
LOCATION:Crosspoint Church of Fieldon\, 104 Public Rd\, Fieldon\, IL\, 62031\, United States
GEO:39.108036;-90.5027124
X-APPLE-STRUCTURED-LOCATION;VALUE=URI;X-ADDRESS=Crosspoint Church of Fieldon 104 Public Rd Fieldon IL 62031 United States;X-APPLE-RADIUS=500;X-TITLE=104 Public Rd:geo:-90.5027124,39.108036
END:VEVENT
BEGIN:VEVENT
DTSTART;TZID=America/Chicago:20241202T100000
DTEND;TZID=America/Chicago:20241202T100000
DTSTAMP:20260419T093519
CREATED:20240703T180532Z
LAST-MODIFIED:20240725T180944Z
UID:10012531-1733133600-1733133600@stlfoodbank.org
SUMMARY:IL FARM Distribution | Crosspoint Church of Fieldon (Jersey County\, IL)
DESCRIPTION:In partnership with the St. Louis Area Foodbank\, Crosspoint Church of Fieldon is hosting a drive-through Food Access and Resource Market. Neighbors will have the opportunity to get a mix of fresh and nonperishable food items at no cost. The distribution will end at the stated time or once all the food and other resources have been distributed. \nThis event is set up as a drive through distribution and volunteers and/or staff of the organization will put food directly into your car. We ask that you have space in your vehicle for the food items and that you do not leave your vehicle during the distribution. Please arrive at least 15 minutes prior to the start of the event. \nWe do not require any identification or verification of income – anyone is welcome. \n*Dates and times are subject to change. We recommend following the St. Louis Area Foodbank on all social media platforms for any changes in the schedule.
URL:https://stlfoodbank.org/event/il-farm-distribution-crosspoint-church-of-fieldon-jersey-county-il/2024-12-02/
LOCATION:Crosspoint Church of Fieldon\, 104 Public Rd\, Fieldon\, IL\, 62031\, United States
GEO:39.108036;-90.5027124
X-APPLE-STRUCTURED-LOCATION;VALUE=URI;X-ADDRESS=Crosspoint Church of Fieldon 104 Public Rd Fieldon IL 62031 United States;X-APPLE-RADIUS=500;X-TITLE=104 Public Rd:geo:-90.5027124,39.108036
END:VEVENT
BEGIN:VEVENT
DTSTART;TZID=America/Chicago:20241104T100000
DTEND;TZID=America/Chicago:20241104T100000
DTSTAMP:20260419T093519
CREATED:20240703T180532Z
LAST-MODIFIED:20240725T180944Z
UID:10012530-1730714400-1730714400@stlfoodbank.org
SUMMARY:IL FARM Distribution | Crosspoint Church of Fieldon (Jersey County\, IL)
DESCRIPTION:In partnership with the St. Louis Area Foodbank\, Crosspoint Church of Fieldon is hosting a drive-through Food Access and Resource Market. Neighbors will have the opportunity to get a mix of fresh and nonperishable food items at no cost. The distribution will end at the stated time or once all the food and other resources have been distributed. \nThis event is set up as a drive through distribution and volunteers and/or staff of the organization will put food directly into your car. We ask that you have space in your vehicle for the food items and that you do not leave your vehicle during the distribution. Please arrive at least 15 minutes prior to the start of the event. \nWe do not require any identification or verification of income – anyone is welcome. \n*Dates and times are subject to change. We recommend following the St. Louis Area Foodbank on all social media platforms for any changes in the schedule.
URL:https://stlfoodbank.org/event/il-farm-distribution-crosspoint-church-of-fieldon-jersey-county-il/2024-11-04/
LOCATION:Crosspoint Church of Fieldon\, 104 Public Rd\, Fieldon\, IL\, 62031\, United States
GEO:39.108036;-90.5027124
X-APPLE-STRUCTURED-LOCATION;VALUE=URI;X-ADDRESS=Crosspoint Church of Fieldon 104 Public Rd Fieldon IL 62031 United States;X-APPLE-RADIUS=500;X-TITLE=104 Public Rd:geo:-90.5027124,39.108036
END:VEVENT
BEGIN:VEVENT
DTSTART;TZID=America/Chicago:20241007T100000
DTEND;TZID=America/Chicago:20241007T100000
DTSTAMP:20260419T093519
CREATED:20240703T180532Z
LAST-MODIFIED:20240725T180944Z
UID:10012529-1728295200-1728295200@stlfoodbank.org
SUMMARY:IL FARM Distribution | Crosspoint Church of Fieldon (Jersey County\, IL)
DESCRIPTION:In partnership with the St. Louis Area Foodbank\, Crosspoint Church of Fieldon is hosting a drive-through Food Access and Resource Market. Neighbors will have the opportunity to get a mix of fresh and nonperishable food items at no cost. The distribution will end at the stated time or once all the food and other resources have been distributed. \nThis event is set up as a drive through distribution and volunteers and/or staff of the organization will put food directly into your car. We ask that you have space in your vehicle for the food items and that you do not leave your vehicle during the distribution. Please arrive at least 15 minutes prior to the start of the event. \nWe do not require any identification or verification of income – anyone is welcome. \n*Dates and times are subject to change. We recommend following the St. Louis Area Foodbank on all social media platforms for any changes in the schedule.
URL:https://stlfoodbank.org/event/il-farm-distribution-crosspoint-church-of-fieldon-jersey-county-il/2024-10-07/
LOCATION:Crosspoint Church of Fieldon\, 104 Public Rd\, Fieldon\, IL\, 62031\, United States
GEO:39.108036;-90.5027124
X-APPLE-STRUCTURED-LOCATION;VALUE=URI;X-ADDRESS=Crosspoint Church of Fieldon 104 Public Rd Fieldon IL 62031 United States;X-APPLE-RADIUS=500;X-TITLE=104 Public Rd:geo:-90.5027124,39.108036
END:VEVENT
BEGIN:VEVENT
DTSTART;TZID=America/Chicago:20240805T100000
DTEND;TZID=America/Chicago:20240805T100000
DTSTAMP:20260419T093519
CREATED:20240703T180532Z
LAST-MODIFIED:20240725T180944Z
UID:10012527-1722852000-1722852000@stlfoodbank.org
SUMMARY:IL FARM Distribution | Crosspoint Church of Fieldon (Jersey County\, IL)
DESCRIPTION:In partnership with the St. Louis Area Foodbank\, Crosspoint Church of Fieldon is hosting a drive-through Food Access and Resource Market. Neighbors will have the opportunity to get a mix of fresh and nonperishable food items at no cost. The distribution will end at the stated time or once all the food and other resources have been distributed. \nThis event is set up as a drive through distribution and volunteers and/or staff of the organization will put food directly into your car. We ask that you have space in your vehicle for the food items and that you do not leave your vehicle during the distribution. Please arrive at least 15 minutes prior to the start of the event. \nWe do not require any identification or verification of income – anyone is welcome. \n*Dates and times are subject to change. We recommend following the St. Louis Area Foodbank on all social media platforms for any changes in the schedule.
URL:https://stlfoodbank.org/event/il-farm-distribution-crosspoint-church-of-fieldon-jersey-county-il/2024-08-05/
LOCATION:Crosspoint Church of Fieldon\, 104 Public Rd\, Fieldon\, IL\, 62031\, United States
GEO:39.108036;-90.5027124
X-APPLE-STRUCTURED-LOCATION;VALUE=URI;X-ADDRESS=Crosspoint Church of Fieldon 104 Public Rd Fieldon IL 62031 United States;X-APPLE-RADIUS=500;X-TITLE=104 Public Rd:geo:-90.5027124,39.108036
END:VEVENT
END:VCALENDAR