BEGIN:VCALENDAR
VERSION:2.0
PRODID:-//St. Louis Area Foodbank - ECPv6.15.20//NONSGML v1.0//EN
CALSCALE:GREGORIAN
METHOD:PUBLISH
X-ORIGINAL-URL:https://stlfoodbank.org
X-WR-CALDESC:Events for St. Louis Area Foodbank
REFRESH-INTERVAL;VALUE=DURATION:PT1H
X-Robots-Tag:noindex
X-PUBLISHED-TTL:PT1H
BEGIN:VTIMEZONE
TZID:America/Chicago
BEGIN:DAYLIGHT
TZOFFSETFROM:-0600
TZOFFSETTO:-0500
TZNAME:CDT
DTSTART:20280312T080000
END:DAYLIGHT
BEGIN:STANDARD
TZOFFSETFROM:-0500
TZOFFSETTO:-0600
TZNAME:CST
DTSTART:20281105T070000
END:STANDARD
BEGIN:DAYLIGHT
TZOFFSETFROM:-0600
TZOFFSETTO:-0500
TZNAME:CDT
DTSTART:20290311T080000
END:DAYLIGHT
BEGIN:STANDARD
TZOFFSETFROM:-0500
TZOFFSETTO:-0600
TZNAME:CST
DTSTART:20291104T070000
END:STANDARD
BEGIN:DAYLIGHT
TZOFFSETFROM:-0600
TZOFFSETTO:-0500
TZNAME:CDT
DTSTART:20300310T080000
END:DAYLIGHT
BEGIN:STANDARD
TZOFFSETFROM:-0500
TZOFFSETTO:-0600
TZNAME:CST
DTSTART:20301103T070000
END:STANDARD
BEGIN:DAYLIGHT
TZOFFSETFROM:-0600
TZOFFSETTO:-0500
TZNAME:CDT
DTSTART:20310309T080000
END:DAYLIGHT
BEGIN:STANDARD
TZOFFSETFROM:-0500
TZOFFSETTO:-0600
TZNAME:CST
DTSTART:20311102T070000
END:STANDARD
END:VTIMEZONE
BEGIN:VEVENT
DTSTART;TZID=America/Chicago:20290510T130000
DTEND;TZID=America/Chicago:20290510T140000
DTSTAMP:20260419T153801
CREATED:20250205T150615Z
LAST-MODIFIED:20250205T150616Z
UID:10011374-1873112400-1873116000@stlfoodbank.org
SUMMARY:IL FARM Distribution | Clinton County Extension (Clinton County\, IL)
DESCRIPTION:In partnership with the St. Louis Area Foodbank\, the Clinton County Extension is hosting a drive-through Food Access and Resource Market at Fairview Park. Neighbors will have the opportunity to get a mix of fresh and nonperishable food items at no cost. The distribution will end at the stated time or once all the food and other resources have been distributed. \nThis event is set up as a drive through distribution and volunteers and/or staff of the organization will put food directly into your car. We ask that you have space in your vehicle for the food items and that you do not leave your vehicle during the distribution. Please arrive at least 15 minutes prior to the start of the event. \nWe do not require any identification or verification of income – anyone is welcome. \nIf you have any questions\, please reach out to programs@stlfoodbank.org. \n*Dates and times are subject to change. We recommend following the St. Louis Area Foodbank on all social media platforms for any changes in the schedule.
URL:https://stlfoodbank.org/event/il-farm-distribution-clinton-county-extension-clinton-county-il-2/2029-05-10/
LOCATION:Clinton County Extension\, 1035 W McCord St\, Centralia\, IL\, 62801\, United States
GEO:38.5318852;-89.1509893
X-APPLE-STRUCTURED-LOCATION;VALUE=URI;X-ADDRESS=Clinton County Extension 1035 W McCord St Centralia IL 62801 United States;X-APPLE-RADIUS=500;X-TITLE=1035 W McCord St:geo:-89.1509893,38.5318852
END:VEVENT
BEGIN:VEVENT
DTSTART;TZID=America/Chicago:20290614T130000
DTEND;TZID=America/Chicago:20290614T140000
DTSTAMP:20260419T153801
CREATED:20250205T150615Z
LAST-MODIFIED:20250205T150616Z
UID:10011375-1876136400-1876140000@stlfoodbank.org
SUMMARY:IL FARM Distribution | Clinton County Extension (Clinton County\, IL)
DESCRIPTION:In partnership with the St. Louis Area Foodbank\, the Clinton County Extension is hosting a drive-through Food Access and Resource Market at Fairview Park. Neighbors will have the opportunity to get a mix of fresh and nonperishable food items at no cost. The distribution will end at the stated time or once all the food and other resources have been distributed. \nThis event is set up as a drive through distribution and volunteers and/or staff of the organization will put food directly into your car. We ask that you have space in your vehicle for the food items and that you do not leave your vehicle during the distribution. Please arrive at least 15 minutes prior to the start of the event. \nWe do not require any identification or verification of income – anyone is welcome. \nIf you have any questions\, please reach out to programs@stlfoodbank.org. \n*Dates and times are subject to change. We recommend following the St. Louis Area Foodbank on all social media platforms for any changes in the schedule.
URL:https://stlfoodbank.org/event/il-farm-distribution-clinton-county-extension-clinton-county-il-2/2029-06-14/
LOCATION:Clinton County Extension\, 1035 W McCord St\, Centralia\, IL\, 62801\, United States
GEO:38.5318852;-89.1509893
X-APPLE-STRUCTURED-LOCATION;VALUE=URI;X-ADDRESS=Clinton County Extension 1035 W McCord St Centralia IL 62801 United States;X-APPLE-RADIUS=500;X-TITLE=1035 W McCord St:geo:-89.1509893,38.5318852
END:VEVENT
BEGIN:VEVENT
DTSTART;TZID=America/Chicago:20290712T130000
DTEND;TZID=America/Chicago:20290712T140000
DTSTAMP:20260419T153801
CREATED:20250205T150615Z
LAST-MODIFIED:20250205T150616Z
UID:10017889-1878555600-1878559200@stlfoodbank.org
SUMMARY:IL FARM Distribution | Clinton County Extension (Clinton County\, IL)
DESCRIPTION:In partnership with the St. Louis Area Foodbank\, the Clinton County Extension is hosting a drive-through Food Access and Resource Market at Fairview Park. Neighbors will have the opportunity to get a mix of fresh and nonperishable food items at no cost. The distribution will end at the stated time or once all the food and other resources have been distributed. \nThis event is set up as a drive through distribution and volunteers and/or staff of the organization will put food directly into your car. We ask that you have space in your vehicle for the food items and that you do not leave your vehicle during the distribution. Please arrive at least 15 minutes prior to the start of the event. \nWe do not require any identification or verification of income – anyone is welcome. \nIf you have any questions\, please reach out to programs@stlfoodbank.org. \n*Dates and times are subject to change. We recommend following the St. Louis Area Foodbank on all social media platforms for any changes in the schedule.
URL:https://stlfoodbank.org/event/il-farm-distribution-clinton-county-extension-clinton-county-il-2/2029-07-12/
LOCATION:Clinton County Extension\, 1035 W McCord St\, Centralia\, IL\, 62801\, United States
GEO:38.5318852;-89.1509893
X-APPLE-STRUCTURED-LOCATION;VALUE=URI;X-ADDRESS=Clinton County Extension 1035 W McCord St Centralia IL 62801 United States;X-APPLE-RADIUS=500;X-TITLE=1035 W McCord St:geo:-89.1509893,38.5318852
END:VEVENT
BEGIN:VEVENT
DTSTART;TZID=America/Chicago:20290809T130000
DTEND;TZID=America/Chicago:20290809T140000
DTSTAMP:20260419T153801
CREATED:20250205T150615Z
LAST-MODIFIED:20250205T150616Z
UID:10017890-1880974800-1880978400@stlfoodbank.org
SUMMARY:IL FARM Distribution | Clinton County Extension (Clinton County\, IL)
DESCRIPTION:In partnership with the St. Louis Area Foodbank\, the Clinton County Extension is hosting a drive-through Food Access and Resource Market at Fairview Park. Neighbors will have the opportunity to get a mix of fresh and nonperishable food items at no cost. The distribution will end at the stated time or once all the food and other resources have been distributed. \nThis event is set up as a drive through distribution and volunteers and/or staff of the organization will put food directly into your car. We ask that you have space in your vehicle for the food items and that you do not leave your vehicle during the distribution. Please arrive at least 15 minutes prior to the start of the event. \nWe do not require any identification or verification of income – anyone is welcome. \nIf you have any questions\, please reach out to programs@stlfoodbank.org. \n*Dates and times are subject to change. We recommend following the St. Louis Area Foodbank on all social media platforms for any changes in the schedule.
URL:https://stlfoodbank.org/event/il-farm-distribution-clinton-county-extension-clinton-county-il-2/2029-08-09/
LOCATION:Clinton County Extension\, 1035 W McCord St\, Centralia\, IL\, 62801\, United States
GEO:38.5318852;-89.1509893
X-APPLE-STRUCTURED-LOCATION;VALUE=URI;X-ADDRESS=Clinton County Extension 1035 W McCord St Centralia IL 62801 United States;X-APPLE-RADIUS=500;X-TITLE=1035 W McCord St:geo:-89.1509893,38.5318852
END:VEVENT
BEGIN:VEVENT
DTSTART;TZID=America/Chicago:20290913T130000
DTEND;TZID=America/Chicago:20290913T140000
DTSTAMP:20260419T153801
CREATED:20250205T150615Z
LAST-MODIFIED:20250205T150616Z
UID:10017891-1883998800-1884002400@stlfoodbank.org
SUMMARY:IL FARM Distribution | Clinton County Extension (Clinton County\, IL)
DESCRIPTION:In partnership with the St. Louis Area Foodbank\, the Clinton County Extension is hosting a drive-through Food Access and Resource Market at Fairview Park. Neighbors will have the opportunity to get a mix of fresh and nonperishable food items at no cost. The distribution will end at the stated time or once all the food and other resources have been distributed. \nThis event is set up as a drive through distribution and volunteers and/or staff of the organization will put food directly into your car. We ask that you have space in your vehicle for the food items and that you do not leave your vehicle during the distribution. Please arrive at least 15 minutes prior to the start of the event. \nWe do not require any identification or verification of income – anyone is welcome. \nIf you have any questions\, please reach out to programs@stlfoodbank.org. \n*Dates and times are subject to change. We recommend following the St. Louis Area Foodbank on all social media platforms for any changes in the schedule.
URL:https://stlfoodbank.org/event/il-farm-distribution-clinton-county-extension-clinton-county-il-2/2029-09-13/
LOCATION:Clinton County Extension\, 1035 W McCord St\, Centralia\, IL\, 62801\, United States
GEO:38.5318852;-89.1509893
X-APPLE-STRUCTURED-LOCATION;VALUE=URI;X-ADDRESS=Clinton County Extension 1035 W McCord St Centralia IL 62801 United States;X-APPLE-RADIUS=500;X-TITLE=1035 W McCord St:geo:-89.1509893,38.5318852
END:VEVENT
BEGIN:VEVENT
DTSTART;TZID=America/Chicago:20291011T130000
DTEND;TZID=America/Chicago:20291011T140000
DTSTAMP:20260419T153801
CREATED:20250205T150615Z
LAST-MODIFIED:20250205T150616Z
UID:10017892-1886418000-1886421600@stlfoodbank.org
SUMMARY:IL FARM Distribution | Clinton County Extension (Clinton County\, IL)
DESCRIPTION:In partnership with the St. Louis Area Foodbank\, the Clinton County Extension is hosting a drive-through Food Access and Resource Market at Fairview Park. Neighbors will have the opportunity to get a mix of fresh and nonperishable food items at no cost. The distribution will end at the stated time or once all the food and other resources have been distributed. \nThis event is set up as a drive through distribution and volunteers and/or staff of the organization will put food directly into your car. We ask that you have space in your vehicle for the food items and that you do not leave your vehicle during the distribution. Please arrive at least 15 minutes prior to the start of the event. \nWe do not require any identification or verification of income – anyone is welcome. \nIf you have any questions\, please reach out to programs@stlfoodbank.org. \n*Dates and times are subject to change. We recommend following the St. Louis Area Foodbank on all social media platforms for any changes in the schedule.
URL:https://stlfoodbank.org/event/il-farm-distribution-clinton-county-extension-clinton-county-il-2/2029-10-11/
LOCATION:Clinton County Extension\, 1035 W McCord St\, Centralia\, IL\, 62801\, United States
GEO:38.5318852;-89.1509893
X-APPLE-STRUCTURED-LOCATION;VALUE=URI;X-ADDRESS=Clinton County Extension 1035 W McCord St Centralia IL 62801 United States;X-APPLE-RADIUS=500;X-TITLE=1035 W McCord St:geo:-89.1509893,38.5318852
END:VEVENT
BEGIN:VEVENT
DTSTART;TZID=America/Chicago:20291108T130000
DTEND;TZID=America/Chicago:20291108T140000
DTSTAMP:20260419T153801
CREATED:20250205T150615Z
LAST-MODIFIED:20250205T150616Z
UID:10017893-1888837200-1888840800@stlfoodbank.org
SUMMARY:IL FARM Distribution | Clinton County Extension (Clinton County\, IL)
DESCRIPTION:In partnership with the St. Louis Area Foodbank\, the Clinton County Extension is hosting a drive-through Food Access and Resource Market at Fairview Park. Neighbors will have the opportunity to get a mix of fresh and nonperishable food items at no cost. The distribution will end at the stated time or once all the food and other resources have been distributed. \nThis event is set up as a drive through distribution and volunteers and/or staff of the organization will put food directly into your car. We ask that you have space in your vehicle for the food items and that you do not leave your vehicle during the distribution. Please arrive at least 15 minutes prior to the start of the event. \nWe do not require any identification or verification of income – anyone is welcome. \nIf you have any questions\, please reach out to programs@stlfoodbank.org. \n*Dates and times are subject to change. We recommend following the St. Louis Area Foodbank on all social media platforms for any changes in the schedule.
URL:https://stlfoodbank.org/event/il-farm-distribution-clinton-county-extension-clinton-county-il-2/2029-11-08/
LOCATION:Clinton County Extension\, 1035 W McCord St\, Centralia\, IL\, 62801\, United States
GEO:38.5318852;-89.1509893
X-APPLE-STRUCTURED-LOCATION;VALUE=URI;X-ADDRESS=Clinton County Extension 1035 W McCord St Centralia IL 62801 United States;X-APPLE-RADIUS=500;X-TITLE=1035 W McCord St:geo:-89.1509893,38.5318852
END:VEVENT
BEGIN:VEVENT
DTSTART;TZID=America/Chicago:20291213T130000
DTEND;TZID=America/Chicago:20291213T140000
DTSTAMP:20260419T153801
CREATED:20250205T150615Z
LAST-MODIFIED:20250205T150616Z
UID:10017894-1891861200-1891864800@stlfoodbank.org
SUMMARY:IL FARM Distribution | Clinton County Extension (Clinton County\, IL)
DESCRIPTION:In partnership with the St. Louis Area Foodbank\, the Clinton County Extension is hosting a drive-through Food Access and Resource Market at Fairview Park. Neighbors will have the opportunity to get a mix of fresh and nonperishable food items at no cost. The distribution will end at the stated time or once all the food and other resources have been distributed. \nThis event is set up as a drive through distribution and volunteers and/or staff of the organization will put food directly into your car. We ask that you have space in your vehicle for the food items and that you do not leave your vehicle during the distribution. Please arrive at least 15 minutes prior to the start of the event. \nWe do not require any identification or verification of income – anyone is welcome. \nIf you have any questions\, please reach out to programs@stlfoodbank.org. \n*Dates and times are subject to change. We recommend following the St. Louis Area Foodbank on all social media platforms for any changes in the schedule.
URL:https://stlfoodbank.org/event/il-farm-distribution-clinton-county-extension-clinton-county-il-2/2029-12-13/
LOCATION:Clinton County Extension\, 1035 W McCord St\, Centralia\, IL\, 62801\, United States
GEO:38.5318852;-89.1509893
X-APPLE-STRUCTURED-LOCATION;VALUE=URI;X-ADDRESS=Clinton County Extension 1035 W McCord St Centralia IL 62801 United States;X-APPLE-RADIUS=500;X-TITLE=1035 W McCord St:geo:-89.1509893,38.5318852
END:VEVENT
BEGIN:VEVENT
DTSTART;TZID=America/Chicago:20300110T130000
DTEND;TZID=America/Chicago:20300110T140000
DTSTAMP:20260419T153801
CREATED:20250205T150615Z
LAST-MODIFIED:20250205T150616Z
UID:10017895-1894280400-1894284000@stlfoodbank.org
SUMMARY:IL FARM Distribution | Clinton County Extension (Clinton County\, IL)
DESCRIPTION:In partnership with the St. Louis Area Foodbank\, the Clinton County Extension is hosting a drive-through Food Access and Resource Market at Fairview Park. Neighbors will have the opportunity to get a mix of fresh and nonperishable food items at no cost. The distribution will end at the stated time or once all the food and other resources have been distributed. \nThis event is set up as a drive through distribution and volunteers and/or staff of the organization will put food directly into your car. We ask that you have space in your vehicle for the food items and that you do not leave your vehicle during the distribution. Please arrive at least 15 minutes prior to the start of the event. \nWe do not require any identification or verification of income – anyone is welcome. \nIf you have any questions\, please reach out to programs@stlfoodbank.org. \n*Dates and times are subject to change. We recommend following the St. Louis Area Foodbank on all social media platforms for any changes in the schedule.
URL:https://stlfoodbank.org/event/il-farm-distribution-clinton-county-extension-clinton-county-il-2/2030-01-10/
LOCATION:Clinton County Extension\, 1035 W McCord St\, Centralia\, IL\, 62801\, United States
GEO:38.5318852;-89.1509893
X-APPLE-STRUCTURED-LOCATION;VALUE=URI;X-ADDRESS=Clinton County Extension 1035 W McCord St Centralia IL 62801 United States;X-APPLE-RADIUS=500;X-TITLE=1035 W McCord St:geo:-89.1509893,38.5318852
END:VEVENT
END:VCALENDAR