BEGIN:VCALENDAR
VERSION:2.0
PRODID:-//St. Louis Area Foodbank - ECPv6.15.20//NONSGML v1.0//EN
CALSCALE:GREGORIAN
METHOD:PUBLISH
X-WR-CALNAME:St. Louis Area Foodbank
X-ORIGINAL-URL:https://stlfoodbank.org
X-WR-CALDESC:Events for St. Louis Area Foodbank
REFRESH-INTERVAL;VALUE=DURATION:PT1H
X-Robots-Tag:noindex
X-PUBLISHED-TTL:PT1H
BEGIN:VTIMEZONE
TZID:America/Chicago
BEGIN:DAYLIGHT
TZOFFSETFROM:-0600
TZOFFSETTO:-0500
TZNAME:CDT
DTSTART:20220313T080000
END:DAYLIGHT
BEGIN:STANDARD
TZOFFSETFROM:-0500
TZOFFSETTO:-0600
TZNAME:CST
DTSTART:20221106T070000
END:STANDARD
BEGIN:DAYLIGHT
TZOFFSETFROM:-0600
TZOFFSETTO:-0500
TZNAME:CDT
DTSTART:20230312T080000
END:DAYLIGHT
BEGIN:STANDARD
TZOFFSETFROM:-0500
TZOFFSETTO:-0600
TZNAME:CST
DTSTART:20231105T070000
END:STANDARD
BEGIN:DAYLIGHT
TZOFFSETFROM:-0600
TZOFFSETTO:-0500
TZNAME:CDT
DTSTART:20240310T080000
END:DAYLIGHT
BEGIN:STANDARD
TZOFFSETFROM:-0500
TZOFFSETTO:-0600
TZNAME:CST
DTSTART:20241103T070000
END:STANDARD
END:VTIMEZONE
BEGIN:VTIMEZONE
TZID:UTC
BEGIN:STANDARD
TZOFFSETFROM:+0000
TZOFFSETTO:+0000
TZNAME:UTC
DTSTART:20210101T000000
END:STANDARD
END:VTIMEZONE
BEGIN:VEVENT
DTSTART;TZID=America/Chicago:20230615T090000
DTEND;TZID=America/Chicago:20230615T110000
DTSTAMP:20260419T140109
CREATED:20230110T205251Z
LAST-MODIFIED:20240611T163228Z
UID:10000303-1686819600-1686826800@stlfoodbank.org
SUMMARY:Community Mobile Market | City of Pine Lawn
DESCRIPTION:In partnership with the St. Louis Area Foodbank\, the City of Pine Lawn is hosting a drive-through Community Mobile Market. Neighbors have the opportunity to get a mix of fresh and nonperishable food items at no cost. The distribution will end at the stated time or once all of the food and other resources have been distributed.   \nThis event is set up as a drive through distribution and volunteers and/or staff of the organization will put food directly into your car. We ask that you have space in your vehicle for the food items and that you not leave your vehicle during the distribution. Please arrive at least 15 minutes prior to the start of the event.  \nWe do not require any identification or verification of income – anyone is welcome. \n  \n If you have any questions\, please reach out to Mayor Epps at 314-261-5500 or tepps@pinelawn.org.   \n  \n*Dates and times are subject to change. We recommend checking in with the partner organization prior to the event to confirm dates/times.  
URL:https://stlfoodbank.org/event/community-mobile-market-city-of-pine-lawn/2023-06-15/
LOCATION:City of Pine Lawn\, 6100 Natural Bridge Rd\, SAINT LOUIS\, MO\, 63121\, United States
GEO:38.6913247;-90.2776472
X-APPLE-STRUCTURED-LOCATION;VALUE=URI;X-ADDRESS=City of Pine Lawn 6100 Natural Bridge Rd SAINT LOUIS MO 63121 United States;X-APPLE-RADIUS=500;X-TITLE=6100 Natural Bridge Rd:geo:-90.2776472,38.6913247
END:VEVENT
BEGIN:VEVENT
DTSTART;TZID=America/Chicago:20230518T090000
DTEND;TZID=America/Chicago:20230518T110000
DTSTAMP:20260419T140109
CREATED:20230110T205251Z
LAST-MODIFIED:20240611T163228Z
UID:10000302-1684400400-1684407600@stlfoodbank.org
SUMMARY:Community Mobile Market | City of Pine Lawn
DESCRIPTION:In partnership with the St. Louis Area Foodbank\, the City of Pine Lawn is hosting a drive-through Community Mobile Market. Neighbors have the opportunity to get a mix of fresh and nonperishable food items at no cost. The distribution will end at the stated time or once all of the food and other resources have been distributed.   \nThis event is set up as a drive through distribution and volunteers and/or staff of the organization will put food directly into your car. We ask that you have space in your vehicle for the food items and that you not leave your vehicle during the distribution. Please arrive at least 15 minutes prior to the start of the event.  \nWe do not require any identification or verification of income – anyone is welcome. \n  \n If you have any questions\, please reach out to Mayor Epps at 314-261-5500 or tepps@pinelawn.org.   \n  \n*Dates and times are subject to change. We recommend checking in with the partner organization prior to the event to confirm dates/times.  
URL:https://stlfoodbank.org/event/community-mobile-market-city-of-pine-lawn/2023-05-18/
LOCATION:City of Pine Lawn\, 6100 Natural Bridge Rd\, SAINT LOUIS\, MO\, 63121\, United States
GEO:38.6913247;-90.2776472
X-APPLE-STRUCTURED-LOCATION;VALUE=URI;X-ADDRESS=City of Pine Lawn 6100 Natural Bridge Rd SAINT LOUIS MO 63121 United States;X-APPLE-RADIUS=500;X-TITLE=6100 Natural Bridge Rd:geo:-90.2776472,38.6913247
END:VEVENT
BEGIN:VEVENT
DTSTART;TZID=America/Chicago:20230420T090000
DTEND;TZID=America/Chicago:20230420T110000
DTSTAMP:20260419T140109
CREATED:20230110T205251Z
LAST-MODIFIED:20240611T163228Z
UID:10000301-1681981200-1681988400@stlfoodbank.org
SUMMARY:Community Mobile Market | City of Pine Lawn
DESCRIPTION:In partnership with the St. Louis Area Foodbank\, the City of Pine Lawn is hosting a drive-through Community Mobile Market. Neighbors have the opportunity to get a mix of fresh and nonperishable food items at no cost. The distribution will end at the stated time or once all of the food and other resources have been distributed.   \nThis event is set up as a drive through distribution and volunteers and/or staff of the organization will put food directly into your car. We ask that you have space in your vehicle for the food items and that you not leave your vehicle during the distribution. Please arrive at least 15 minutes prior to the start of the event.  \nWe do not require any identification or verification of income – anyone is welcome. \n  \n If you have any questions\, please reach out to Mayor Epps at 314-261-5500 or tepps@pinelawn.org.   \n  \n*Dates and times are subject to change. We recommend checking in with the partner organization prior to the event to confirm dates/times.  
URL:https://stlfoodbank.org/event/community-mobile-market-city-of-pine-lawn/2023-04-20/
LOCATION:City of Pine Lawn\, 6100 Natural Bridge Rd\, SAINT LOUIS\, MO\, 63121\, United States
GEO:38.6913247;-90.2776472
X-APPLE-STRUCTURED-LOCATION;VALUE=URI;X-ADDRESS=City of Pine Lawn 6100 Natural Bridge Rd SAINT LOUIS MO 63121 United States;X-APPLE-RADIUS=500;X-TITLE=6100 Natural Bridge Rd:geo:-90.2776472,38.6913247
END:VEVENT
BEGIN:VEVENT
DTSTART;TZID=America/Chicago:20230316T090000
DTEND;TZID=America/Chicago:20230316T110000
DTSTAMP:20260419T140109
CREATED:20230110T205251Z
LAST-MODIFIED:20240611T163228Z
UID:10000300-1678957200-1678964400@stlfoodbank.org
SUMMARY:Community Mobile Market | City of Pine Lawn
DESCRIPTION:In partnership with the St. Louis Area Foodbank\, the City of Pine Lawn is hosting a drive-through Community Mobile Market. Neighbors have the opportunity to get a mix of fresh and nonperishable food items at no cost. The distribution will end at the stated time or once all of the food and other resources have been distributed.   \nThis event is set up as a drive through distribution and volunteers and/or staff of the organization will put food directly into your car. We ask that you have space in your vehicle for the food items and that you not leave your vehicle during the distribution. Please arrive at least 15 minutes prior to the start of the event.  \nWe do not require any identification or verification of income – anyone is welcome. \n  \n If you have any questions\, please reach out to Mayor Epps at 314-261-5500 or tepps@pinelawn.org.   \n  \n*Dates and times are subject to change. We recommend checking in with the partner organization prior to the event to confirm dates/times.  
URL:https://stlfoodbank.org/event/community-mobile-market-city-of-pine-lawn/2023-03-16/
LOCATION:City of Pine Lawn\, 6100 Natural Bridge Rd\, SAINT LOUIS\, MO\, 63121\, United States
GEO:38.6913247;-90.2776472
X-APPLE-STRUCTURED-LOCATION;VALUE=URI;X-ADDRESS=City of Pine Lawn 6100 Natural Bridge Rd SAINT LOUIS MO 63121 United States;X-APPLE-RADIUS=500;X-TITLE=6100 Natural Bridge Rd:geo:-90.2776472,38.6913247
END:VEVENT
BEGIN:VEVENT
DTSTART;TZID=America/Chicago:20230216T090000
DTEND;TZID=America/Chicago:20230216T110000
DTSTAMP:20260419T140109
CREATED:20230110T205251Z
LAST-MODIFIED:20240611T163228Z
UID:10000299-1676538000-1676545200@stlfoodbank.org
SUMMARY:Community Mobile Market | City of Pine Lawn
DESCRIPTION:In partnership with the St. Louis Area Foodbank\, the City of Pine Lawn is hosting a drive-through Community Mobile Market. Neighbors have the opportunity to get a mix of fresh and nonperishable food items at no cost. The distribution will end at the stated time or once all of the food and other resources have been distributed.   \nThis event is set up as a drive through distribution and volunteers and/or staff of the organization will put food directly into your car. We ask that you have space in your vehicle for the food items and that you not leave your vehicle during the distribution. Please arrive at least 15 minutes prior to the start of the event.  \nWe do not require any identification or verification of income – anyone is welcome. \n  \n If you have any questions\, please reach out to Mayor Epps at 314-261-5500 or tepps@pinelawn.org.   \n  \n*Dates and times are subject to change. We recommend checking in with the partner organization prior to the event to confirm dates/times.  
URL:https://stlfoodbank.org/event/community-mobile-market-city-of-pine-lawn/2023-02-16/
LOCATION:City of Pine Lawn\, 6100 Natural Bridge Rd\, SAINT LOUIS\, MO\, 63121\, United States
GEO:38.6913247;-90.2776472
X-APPLE-STRUCTURED-LOCATION;VALUE=URI;X-ADDRESS=City of Pine Lawn 6100 Natural Bridge Rd SAINT LOUIS MO 63121 United States;X-APPLE-RADIUS=500;X-TITLE=6100 Natural Bridge Rd:geo:-90.2776472,38.6913247
END:VEVENT
BEGIN:VEVENT
DTSTART;TZID=America/Chicago:20230119T090000
DTEND;TZID=America/Chicago:20230119T110000
DTSTAMP:20260419T140109
CREATED:20230110T205251Z
LAST-MODIFIED:20240611T163228Z
UID:10000298-1674118800-1674126000@stlfoodbank.org
SUMMARY:Community Mobile Market | City of Pine Lawn
DESCRIPTION:In partnership with the St. Louis Area Foodbank\, the City of Pine Lawn is hosting a drive-through Community Mobile Market. Neighbors have the opportunity to get a mix of fresh and nonperishable food items at no cost. The distribution will end at the stated time or once all of the food and other resources have been distributed.   \nThis event is set up as a drive through distribution and volunteers and/or staff of the organization will put food directly into your car. We ask that you have space in your vehicle for the food items and that you not leave your vehicle during the distribution. Please arrive at least 15 minutes prior to the start of the event.  \nWe do not require any identification or verification of income – anyone is welcome. \n  \n If you have any questions\, please reach out to Mayor Epps at 314-261-5500 or tepps@pinelawn.org.   \n  \n*Dates and times are subject to change. We recommend checking in with the partner organization prior to the event to confirm dates/times.  
URL:https://stlfoodbank.org/event/community-mobile-market-city-of-pine-lawn/2023-01-19/
LOCATION:City of Pine Lawn\, 6100 Natural Bridge Rd\, SAINT LOUIS\, MO\, 63121\, United States
GEO:38.6913247;-90.2776472
X-APPLE-STRUCTURED-LOCATION;VALUE=URI;X-ADDRESS=City of Pine Lawn 6100 Natural Bridge Rd SAINT LOUIS MO 63121 United States;X-APPLE-RADIUS=500;X-TITLE=6100 Natural Bridge Rd:geo:-90.2776472,38.6913247
END:VEVENT
BEGIN:VEVENT
DTSTART;TZID=UTC:20221215T090000
DTEND;TZID=UTC:20221215T110000
DTSTAMP:20260419T140109
CREATED:20220614T182647Z
LAST-MODIFIED:20221013T004608Z
UID:10000106-1671094800-1671102000@stlfoodbank.org
SUMMARY:Mobile Market | City of Pine Lawn
DESCRIPTION:In partnership with the St. Louis Area Food Bank\, the City of Pine Lawn is hosting a drive-through Community Mobile Market. Neighbors have the opportunity to get a mix of fresh and nonperishable food items at no cost. The distribution will end at the stated time or once all of the food and other resources have been distributed.   \nThis event is set up as a drive through distribution and volunteers and/or staff of the organization will put food directly into your car. We ask that you have space in your vehicle for the food items and that you not leave your vehicle during the distribution. Please arrive at least 15 minutes prior to the start of the event.  \nWe do not require any identification or verification of income – anyone is welcome. \n  \n If you have any questions\, please reach out to Mayor Epps at 314-261-5500 or tepps@pinelawn.org.   \n  \n*Dates and times are subject to change. We recommend checking in with the partner organization prior to the event to confirm dates/times.  
URL:https://stlfoodbank.org/event/mobile-market-city-of-pine-lawn-11/
LOCATION:City of Pine Lawn\, 6100 Natural Bridge Rd\, SAINT LOUIS\, MO\, 63121\, United States
CATEGORIES:Mobile Market
ATTACH;FMTTYPE=:
GEO:38.6913247;-90.2776472
X-APPLE-STRUCTURED-LOCATION;VALUE=URI;X-ADDRESS=City of Pine Lawn 6100 Natural Bridge Rd SAINT LOUIS MO 63121 United States;X-APPLE-RADIUS=500;X-TITLE=6100 Natural Bridge Rd:geo:-90.2776472,38.6913247
END:VEVENT
BEGIN:VEVENT
DTSTART;TZID=UTC:20221117T090000
DTEND;TZID=UTC:20221117T110000
DTSTAMP:20260419T140109
CREATED:20220614T182521Z
LAST-MODIFIED:20221013T004215Z
UID:10000063-1668675600-1668682800@stlfoodbank.org
SUMMARY:Mobile Market | City of Pine Lawn
DESCRIPTION:In partnership with the St. Louis Area Food Bank\, the City of Pine Lawn is hosting a drive-through Community Mobile Market. Neighbors have the opportunity to get a mix of fresh and nonperishable food items at no cost. The distribution will end at the stated time or once all of the food and other resources have been distributed.   \nThis event is set up as a drive through distribution and volunteers and/or staff of the organization will put food directly into your car. We ask that you have space in your vehicle for the food items and that you not leave your vehicle during the distribution. Please arrive at least 15 minutes prior to the start of the event.  \nWe do not require any identification or verification of income – anyone is welcome. \n  \n If you have any questions\, please reach out to Mayor Epps at 314-261-5500 or tepps@pinelawn.org.   \n  \n*Dates and times are subject to change. We recommend checking in with the partner organization prior to the event to confirm dates/times.  
URL:https://stlfoodbank.org/event/mobile-market-city-of-pine-lawn-10/
LOCATION:City of Pine Lawn\, 6100 Natural Bridge Rd\, SAINT LOUIS\, MO\, 63121\, United States
CATEGORIES:Mobile Market
ATTACH;FMTTYPE=:
GEO:38.6913247;-90.2776472
X-APPLE-STRUCTURED-LOCATION;VALUE=URI;X-ADDRESS=City of Pine Lawn 6100 Natural Bridge Rd SAINT LOUIS MO 63121 United States;X-APPLE-RADIUS=500;X-TITLE=6100 Natural Bridge Rd:geo:-90.2776472,38.6913247
END:VEVENT
BEGIN:VEVENT
DTSTART;TZID=UTC:20221020T090000
DTEND;TZID=UTC:20221020T110000
DTSTAMP:20260419T140109
CREATED:20220614T181246Z
LAST-MODIFIED:20221013T003438Z
UID:10000020-1666256400-1666263600@stlfoodbank.org
SUMMARY:Mobile Market | City of Pine Lawn
DESCRIPTION:In partnership with the St. Louis Area Food Bank\, the City of Pine Lawn is hosting a drive-through Community Mobile Market. Neighbors have the opportunity to get a mix of fresh and nonperishable food items at no cost. The distribution will end at the stated time or once all of the food and other resources have been distributed.   \nThis event is set up as a drive through distribution and volunteers and/or staff of the organization will put food directly into your car. We ask that you have space in your vehicle for the food items and that you not leave your vehicle during the distribution. Please arrive at least 15 minutes prior to the start of the event.  \nWe do not require any identification or verification of income – anyone is welcome. \n  \n If you have any questions\, please reach out to Mayor Epps at 314-261-5500 or tepps@pinelawn.org.   \n  \n*Dates and times are subject to change. We recommend checking in with the partner organization prior to the event to confirm dates/times.  
URL:https://stlfoodbank.org/event/mobile-market-city-of-pine-lawn-9/
LOCATION:City of Pine Lawn\, 6100 Natural Bridge Rd\, SAINT LOUIS\, MO\, 63121\, United States
CATEGORIES:Mobile Market
ATTACH;FMTTYPE=:
GEO:38.6913247;-90.2776472
X-APPLE-STRUCTURED-LOCATION;VALUE=URI;X-ADDRESS=City of Pine Lawn 6100 Natural Bridge Rd SAINT LOUIS MO 63121 United States;X-APPLE-RADIUS=500;X-TITLE=6100 Natural Bridge Rd:geo:-90.2776472,38.6913247
END:VEVENT
END:VCALENDAR