BEGIN:VCALENDAR
VERSION:2.0
PRODID:-//St. Louis Area Foodbank - ECPv6.15.20//NONSGML v1.0//EN
CALSCALE:GREGORIAN
METHOD:PUBLISH
X-ORIGINAL-URL:https://stlfoodbank.org
X-WR-CALDESC:Events for St. Louis Area Foodbank
REFRESH-INTERVAL;VALUE=DURATION:PT1H
X-Robots-Tag:noindex
X-PUBLISHED-TTL:PT1H
BEGIN:VTIMEZONE
TZID:America/Chicago
BEGIN:DAYLIGHT
TZOFFSETFROM:-0600
TZOFFSETTO:-0500
TZNAME:CDT
DTSTART:20220313T080000
END:DAYLIGHT
BEGIN:STANDARD
TZOFFSETFROM:-0500
TZOFFSETTO:-0600
TZNAME:CST
DTSTART:20221106T070000
END:STANDARD
BEGIN:DAYLIGHT
TZOFFSETFROM:-0600
TZOFFSETTO:-0500
TZNAME:CDT
DTSTART:20230312T080000
END:DAYLIGHT
BEGIN:STANDARD
TZOFFSETFROM:-0500
TZOFFSETTO:-0600
TZNAME:CST
DTSTART:20231105T070000
END:STANDARD
BEGIN:DAYLIGHT
TZOFFSETFROM:-0600
TZOFFSETTO:-0500
TZNAME:CDT
DTSTART:20240310T080000
END:DAYLIGHT
BEGIN:STANDARD
TZOFFSETFROM:-0500
TZOFFSETTO:-0600
TZNAME:CST
DTSTART:20241103T070000
END:STANDARD
END:VTIMEZONE
BEGIN:VTIMEZONE
TZID:UTC
BEGIN:STANDARD
TZOFFSETFROM:+0000
TZOFFSETTO:+0000
TZNAME:UTC
DTSTART:20210101T000000
END:STANDARD
END:VTIMEZONE
BEGIN:VEVENT
DTSTART;TZID=America/Chicago:20230310T100000
DTEND;TZID=America/Chicago:20230310T100000
DTSTAMP:20260414T110912
CREATED:20230306T145755Z
LAST-MODIFIED:20230306T145756Z
UID:10000457-1678442400-1678442400@stlfoodbank.org
SUMMARY:Community Mobile Market | Church House Ministries
DESCRIPTION:In partnership with the St. Louis Area Foodbank\, Church House Ministries is hosting a drive-through Community Mobile Market. Neighbors have the opportunity to get a mix of fresh and nonperishable food items at no cost. The distribution will end at the stated time or once all of the food and other resources have been distributed.   \nThis event is set up as a drive through distribution and volunteers and/or staff of the organization will put food directly into your car. We ask that you have space in your vehicle for the food items and that you not leave your vehicle during the distribution. Please arrive at least 15 minutes prior to the start of the event.  \nWe do not require any identification or verification of income – anyone is welcome \n  \n If you have any questions\, please reach out to Pastor McKinney at 314-585-4318. \n  \n*Dates and times are subject to change. We recommend checking in with the partner organization prior to the event to confirm dates/times.
URL:https://stlfoodbank.org/event/community-mobile-market-church-house-ministries-2-2/
LOCATION:Church House Ministries\, 6070 HARNEY AVE\, Saint Louis\, MO\, 63136\, United States
GEO:38.7068544;-90.2556781
X-APPLE-STRUCTURED-LOCATION;VALUE=URI;X-ADDRESS=Church House Ministries 6070 HARNEY AVE Saint Louis MO 63136 United States;X-APPLE-RADIUS=500;X-TITLE=6070 HARNEY AVE:geo:-90.2556781,38.7068544
END:VEVENT
BEGIN:VEVENT
DTSTART;TZID=America/Chicago:20230210T100000
DTEND;TZID=America/Chicago:20230210T100000
DTSTAMP:20260414T110912
CREATED:20230206T203626Z
LAST-MODIFIED:20230206T203627Z
UID:10000456-1676023200-1676023200@stlfoodbank.org
SUMMARY:Community Mobile Market | Church House Ministries
DESCRIPTION:In partnership with the St. Louis Area Foodbank\, Church House Ministries is hosting a drive-through Community Mobile Market. Neighbors have the opportunity to get a mix of fresh and nonperishable food items at no cost. The distribution will end at the stated time or once all of the food and other resources have been distributed.   \nThis event is set up as a drive through distribution and volunteers and/or staff of the organization will put food directly into your car. We ask that you have space in your vehicle for the food items and that you not leave your vehicle during the distribution. Please arrive at least 15 minutes prior to the start of the event.  \nWe do not require any identification or verification of income – anyone is welcome \n  \n If you have any questions\, please reach out to Pastor McKinney at 314-585-4318. \n  \n*Dates and times are subject to change. We recommend checking in with the partner organization prior to the event to confirm dates/times.
URL:https://stlfoodbank.org/event/community-mobile-market-church-house-ministries-2/2023-02-10/
LOCATION:Church House Ministries\, 6070 HARNEY AVE\, Saint Louis\, MO\, 63136\, United States
GEO:38.7068544;-90.2556781
X-APPLE-STRUCTURED-LOCATION;VALUE=URI;X-ADDRESS=Church House Ministries 6070 HARNEY AVE Saint Louis MO 63136 United States;X-APPLE-RADIUS=500;X-TITLE=6070 HARNEY AVE:geo:-90.2556781,38.7068544
END:VEVENT
BEGIN:VEVENT
DTSTART;TZID=America/Chicago:20230206T080000
DTEND;TZID=America/Chicago:20230206T170000
DTSTAMP:20260414T110912
CREATED:20230206T203626Z
LAST-MODIFIED:20230206T203627Z
UID:10000802-1675670400-1675702800@stlfoodbank.org
SUMMARY:Community Mobile Market | Church House Ministries
DESCRIPTION:In partnership with the St. Louis Area Foodbank\, Church House Ministries is hosting a drive-through Community Mobile Market. Neighbors have the opportunity to get a mix of fresh and nonperishable food items at no cost. The distribution will end at the stated time or once all of the food and other resources have been distributed.   \nThis event is set up as a drive through distribution and volunteers and/or staff of the organization will put food directly into your car. We ask that you have space in your vehicle for the food items and that you not leave your vehicle during the distribution. Please arrive at least 15 minutes prior to the start of the event.  \nWe do not require any identification or verification of income – anyone is welcome \n  \n If you have any questions\, please reach out to Pastor McKinney at 314-585-4318. \n  \n*Dates and times are subject to change. We recommend checking in with the partner organization prior to the event to confirm dates/times.
URL:https://stlfoodbank.org/event/community-mobile-market-church-house-ministries-2/2023-02-06/
LOCATION:Church House Ministries\, 6070 HARNEY AVE\, Saint Louis\, MO\, 63136\, United States
GEO:38.7068544;-90.2556781
X-APPLE-STRUCTURED-LOCATION;VALUE=URI;X-ADDRESS=Church House Ministries 6070 HARNEY AVE Saint Louis MO 63136 United States;X-APPLE-RADIUS=500;X-TITLE=6070 HARNEY AVE:geo:-90.2556781,38.7068544
END:VEVENT
BEGIN:VEVENT
DTSTART;TZID=America/Chicago:20230113T100000
DTEND;TZID=America/Chicago:20230113T100000
DTSTAMP:20260414T110912
CREATED:20230110T212659Z
LAST-MODIFIED:20230110T212659Z
UID:10000455-1673604000-1673604000@stlfoodbank.org
SUMMARY:Community Mobile Market | Church House Ministries
DESCRIPTION:In partnership with the St. Louis Area Foodbank\, Church House Ministries is hosting a drive-through Community Mobile Market. Neighbors have the opportunity to get a mix of fresh and nonperishable food items at no cost. The distribution will end at the stated time or once all of the food and other resources have been distributed.   \nThis event is set up as a drive through distribution and volunteers and/or staff of the organization will put food directly into your car. We ask that you have space in your vehicle for the food items and that you not leave your vehicle during the distribution. Please arrive at least 15 minutes prior to the start of the event.  \nWe do not require any identification or verification of income – anyone is welcome \n  \n If you have any questions\, please reach out to Pastor McKinney at 314-585-4318. \n  \n*Dates and times are subject to change. We recommend checking in with the partner organization prior to the event to confirm dates/times.
URL:https://stlfoodbank.org/event/community-mobile-market-church-house-ministries/
LOCATION:Church House Ministries\, 6070 HARNEY AVE\, Saint Louis\, MO\, 63136\, United States
GEO:38.7068544;-90.2556781
X-APPLE-STRUCTURED-LOCATION;VALUE=URI;X-ADDRESS=Church House Ministries 6070 HARNEY AVE Saint Louis MO 63136 United States;X-APPLE-RADIUS=500;X-TITLE=6070 HARNEY AVE:geo:-90.2556781,38.7068544
END:VEVENT
BEGIN:VEVENT
DTSTART;TZID=UTC:20221209T100000
DTEND;TZID=UTC:20221209T100000
DTSTAMP:20260414T110912
CREATED:20220621T170029Z
LAST-MODIFIED:20221013T004408Z
UID:10000089-1670580000-1670580000@stlfoodbank.org
SUMMARY:Mobile Market | Church House Ministries
DESCRIPTION:In partnership with the St. Louis Area Food Bank\, Church House Ministries is hosting a drive-through Community Mobile Market. Neighbors have the opportunity to get a mix of fresh and nonperishable food items at no cost. The distribution will end at the stated time or once all of the food and other resources have been distributed.   \nThis event is set up as a drive through distribution and volunteers and/or staff of the organization will put food directly into your car. We ask that you have space in your vehicle for the food items and that you not leave your vehicle during the distribution. Please arrive at least 15 minutes prior to the start of the event.  \nWe do not require any identification or verification of income – anyone is welcome \n  \n If you have any questions\, please reach out to Pastor McKinney at 314-585-4318.  \n  \n*Dates and times are subject to change. We recommend checking in with the partner organization prior to the event to confirm dates/times.  
URL:https://stlfoodbank.org/event/mobile-market-church-house-ministries-8/
LOCATION:Church House Ministries\, 6070 HARNEY AVE\, Saint Louis\, MO\, 63136\, United States
CATEGORIES:Mobile Market
ATTACH;FMTTYPE=:
GEO:38.7068544;-90.2556781
X-APPLE-STRUCTURED-LOCATION;VALUE=URI;X-ADDRESS=Church House Ministries 6070 HARNEY AVE Saint Louis MO 63136 United States;X-APPLE-RADIUS=500;X-TITLE=6070 HARNEY AVE:geo:-90.2556781,38.7068544
END:VEVENT
BEGIN:VEVENT
DTSTART;TZID=UTC:20221111T100000
DTEND;TZID=UTC:20221111T100000
DTSTAMP:20260414T110912
CREATED:20220621T165839Z
LAST-MODIFIED:20221013T004103Z
UID:10000048-1668160800-1668160800@stlfoodbank.org
SUMMARY:Mobile Market | Church House Ministries
DESCRIPTION:In partnership with the St. Louis Area Food Bank\, Church House Ministries is hosting a drive-through Community Mobile Market. Neighbors have the opportunity to get a mix of fresh and nonperishable food items at no cost. The distribution will end at the stated time or once all of the food and other resources have been distributed.   \nThis event is set up as a drive through distribution and volunteers and/or staff of the organization will put food directly into your car. We ask that you have space in your vehicle for the food items and that you not leave your vehicle during the distribution. Please arrive at least 15 minutes prior to the start of the event.  \nWe do not require any identification or verification of income – anyone is welcome \n  \n If you have any questions\, please reach out to Pastor McKinney at 314-585-4318.  \n  \n*Dates and times are subject to change. We recommend checking in with the partner organization prior to the event to confirm dates/times.  
URL:https://stlfoodbank.org/event/mobile-market-church-house-ministries-7/
LOCATION:Church House Ministries\, 6070 HARNEY AVE\, Saint Louis\, MO\, 63136\, United States
CATEGORIES:Mobile Market
ATTACH;FMTTYPE=:
GEO:38.7068544;-90.2556781
X-APPLE-STRUCTURED-LOCATION;VALUE=URI;X-ADDRESS=Church House Ministries 6070 HARNEY AVE Saint Louis MO 63136 United States;X-APPLE-RADIUS=500;X-TITLE=6070 HARNEY AVE:geo:-90.2556781,38.7068544
END:VEVENT
END:VCALENDAR