BEGIN:VCALENDAR
VERSION:2.0
PRODID:-//St. Louis Area Foodbank - ECPv6.15.20//NONSGML v1.0//EN
CALSCALE:GREGORIAN
METHOD:PUBLISH
X-ORIGINAL-URL:https://stlfoodbank.org
X-WR-CALDESC:Events for St. Louis Area Foodbank
REFRESH-INTERVAL;VALUE=DURATION:PT1H
X-Robots-Tag:noindex
X-PUBLISHED-TTL:PT1H
BEGIN:VTIMEZONE
TZID:America/Chicago
BEGIN:DAYLIGHT
TZOFFSETFROM:-0600
TZOFFSETTO:-0500
TZNAME:CDT
DTSTART:20220313T080000
END:DAYLIGHT
BEGIN:STANDARD
TZOFFSETFROM:-0500
TZOFFSETTO:-0600
TZNAME:CST
DTSTART:20221106T070000
END:STANDARD
BEGIN:DAYLIGHT
TZOFFSETFROM:-0600
TZOFFSETTO:-0500
TZNAME:CDT
DTSTART:20230312T080000
END:DAYLIGHT
BEGIN:STANDARD
TZOFFSETFROM:-0500
TZOFFSETTO:-0600
TZNAME:CST
DTSTART:20231105T070000
END:STANDARD
BEGIN:DAYLIGHT
TZOFFSETFROM:-0600
TZOFFSETTO:-0500
TZNAME:CDT
DTSTART:20240310T080000
END:DAYLIGHT
BEGIN:STANDARD
TZOFFSETFROM:-0500
TZOFFSETTO:-0600
TZNAME:CST
DTSTART:20241103T070000
END:STANDARD
END:VTIMEZONE
BEGIN:VEVENT
DTSTART;TZID=America/Chicago:20230313T090000
DTEND;TZID=America/Chicago:20230313T090000
DTSTAMP:20260416T055558
CREATED:20230223T195455Z
LAST-MODIFIED:20231205T210904Z
UID:10000759-1678698000-1678698000@stlfoodbank.org
SUMMARY:Community Mobile Market | Christ's Church
DESCRIPTION:In partnership with the St. Louis Area Foodbank\, Christ’s Church is hosting a drive-through Community Mobile Market. Neighbors have the opportunity to get a mix of fresh and nonperishable food items at no cost. The distribution will end at the stated time or once all of the food and other resources have been distributed.   \nThis event is set up as a drive through distribution and volunteers and/or staff of the organization will put food directly into your car. We ask that you have space in your vehicle for the food items and that you not leave your vehicle during the distribution. Please arrive at least 15 minutes prior to the start of the event.  \nWe do not require any identification or verification of income – anyone is welcome. \n If you have any questions\, please reach out to Keith Ackerman at 636-397-6303.  \n*Dates and times are subject to change. We recommend checking in with the partner organization prior to the event to confirm dates/times.  
URL:https://stlfoodbank.org/event/community-mobile-market-christs-church-3-2/2023-03-13/
LOCATION:Christ’s Church\, 6930 Mexico Road\, St. Peters\, MO\, 63376\, United States
END:VEVENT
BEGIN:VEVENT
DTSTART;TZID=America/Chicago:20230213T080000
DTEND;TZID=America/Chicago:20230213T080000
DTSTAMP:20260416T055558
CREATED:20230209T172123Z
LAST-MODIFIED:20230209T173410Z
UID:10000758-1676275200-1676275200@stlfoodbank.org
SUMMARY:Community Mobile Market | Christ's Church
DESCRIPTION:In partnership with the St. Louis Area Foodbank\, Christ’s Church is hosting a drive-through Community Mobile Market. Neighbors have the opportunity to get a mix of fresh and nonperishable food items at no cost. The distribution will end at the stated time or once all of the food and other resources have been distributed.   \nThis event is set up as a drive through distribution and volunteers and/or staff of the organization will put food directly into your car. We ask that you have space in your vehicle for the food items and that you not leave your vehicle during the distribution. Please arrive at least 15 minutes prior to the start of the event.  \nWe do not require any identification or verification of income – anyone is welcome. \n If you have any questions\, please reach out to Keith Ackerman at 636-397-6303.  \n*Dates and times are subject to change. We recommend checking in with the partner organization prior to the event to confirm dates/times.  
URL:https://stlfoodbank.org/event/community-mobile-market-christs-church-3/
LOCATION:Christ’s Church\, 6930 Mexico Road\, St. Peters\, MO\, 63376\, United States
END:VEVENT
END:VCALENDAR