BEGIN:VCALENDAR
VERSION:2.0
PRODID:-//St. Louis Area Foodbank - ECPv6.15.20//NONSGML v1.0//EN
CALSCALE:GREGORIAN
METHOD:PUBLISH
X-WR-CALNAME:St. Louis Area Foodbank
X-ORIGINAL-URL:https://stlfoodbank.org
X-WR-CALDESC:Events for St. Louis Area Foodbank
REFRESH-INTERVAL;VALUE=DURATION:PT1H
X-Robots-Tag:noindex
X-PUBLISHED-TTL:PT1H
BEGIN:VTIMEZONE
TZID:America/Chicago
BEGIN:DAYLIGHT
TZOFFSETFROM:-0600
TZOFFSETTO:-0500
TZNAME:CDT
DTSTART:20220313T080000
END:DAYLIGHT
BEGIN:STANDARD
TZOFFSETFROM:-0500
TZOFFSETTO:-0600
TZNAME:CST
DTSTART:20221106T070000
END:STANDARD
BEGIN:DAYLIGHT
TZOFFSETFROM:-0600
TZOFFSETTO:-0500
TZNAME:CDT
DTSTART:20230312T080000
END:DAYLIGHT
BEGIN:STANDARD
TZOFFSETFROM:-0500
TZOFFSETTO:-0600
TZNAME:CST
DTSTART:20231105T070000
END:STANDARD
BEGIN:DAYLIGHT
TZOFFSETFROM:-0600
TZOFFSETTO:-0500
TZNAME:CDT
DTSTART:20240310T080000
END:DAYLIGHT
BEGIN:STANDARD
TZOFFSETFROM:-0500
TZOFFSETTO:-0600
TZNAME:CST
DTSTART:20241103T070000
END:STANDARD
BEGIN:DAYLIGHT
TZOFFSETFROM:-0600
TZOFFSETTO:-0500
TZNAME:CDT
DTSTART:20250309T080000
END:DAYLIGHT
BEGIN:STANDARD
TZOFFSETFROM:-0500
TZOFFSETTO:-0600
TZNAME:CST
DTSTART:20251102T070000
END:STANDARD
END:VTIMEZONE
BEGIN:VEVENT
DTSTART;TZID=America/Chicago:20240313T090000
DTEND;TZID=America/Chicago:20240313T103000
DTSTAMP:20260421T051757
CREATED:20230607T132720Z
LAST-MODIFIED:20240708T140739Z
UID:10003125-1710320400-1710325800@stlfoodbank.org
SUMMARY:Food on the Move | Centennial Church (St. Louis\, MO)
DESCRIPTION:Food On The Move is a walk-through\, shopping style food distribution program for individuals living in areas of Illinois and Missouri with limited access to healthy food and resources. During these events\, neighbors are able to walk through the 28-foot trailer and choose the foods that they need. Verification of personal information is not required to participate.  All are welcome to receive food while supplies last. \nIf you have any questions\, please reach out to Jessica Murphy at JMurphy@stlfoodbank.org. \n*Times and dates are subject to change due to holidays and inclement weather. Check our social media pages for any updates @STLFoodbank!
URL:https://stlfoodbank.org/event/food-on-the-move-centennial-church-st-louis-mo/2024-03-13/
LOCATION:Centennial Church\, 4950 FOUNTAIN AVE\, Saint Louis\, MO\, 63113\, United States
GEO:38.655238;-90.2617953
X-APPLE-STRUCTURED-LOCATION;VALUE=URI;X-ADDRESS=Centennial Church 4950 FOUNTAIN AVE Saint Louis MO 63113 United States;X-APPLE-RADIUS=500;X-TITLE=4950 FOUNTAIN AVE:geo:-90.2617953,38.655238
END:VEVENT
BEGIN:VEVENT
DTSTART;TZID=America/Chicago:20240214T090000
DTEND;TZID=America/Chicago:20240214T103000
DTSTAMP:20260421T051757
CREATED:20230607T132720Z
LAST-MODIFIED:20240708T140739Z
UID:10003124-1707901200-1707906600@stlfoodbank.org
SUMMARY:Food on the Move | Centennial Church (St. Louis\, MO)
DESCRIPTION:Food On The Move is a walk-through\, shopping style food distribution program for individuals living in areas of Illinois and Missouri with limited access to healthy food and resources. During these events\, neighbors are able to walk through the 28-foot trailer and choose the foods that they need. Verification of personal information is not required to participate.  All are welcome to receive food while supplies last. \nIf you have any questions\, please reach out to Jessica Murphy at JMurphy@stlfoodbank.org. \n*Times and dates are subject to change due to holidays and inclement weather. Check our social media pages for any updates @STLFoodbank!
URL:https://stlfoodbank.org/event/food-on-the-move-centennial-church-st-louis-mo/2024-02-14/
LOCATION:Centennial Church\, 4950 FOUNTAIN AVE\, Saint Louis\, MO\, 63113\, United States
GEO:38.655238;-90.2617953
X-APPLE-STRUCTURED-LOCATION;VALUE=URI;X-ADDRESS=Centennial Church 4950 FOUNTAIN AVE Saint Louis MO 63113 United States;X-APPLE-RADIUS=500;X-TITLE=4950 FOUNTAIN AVE:geo:-90.2617953,38.655238
END:VEVENT
BEGIN:VEVENT
DTSTART;TZID=America/Chicago:20240110T090000
DTEND;TZID=America/Chicago:20240110T103000
DTSTAMP:20260421T051757
CREATED:20230607T132720Z
LAST-MODIFIED:20240708T140739Z
UID:10003123-1704877200-1704882600@stlfoodbank.org
SUMMARY:Food on the Move | Centennial Church (St. Louis\, MO)
DESCRIPTION:Food On The Move is a walk-through\, shopping style food distribution program for individuals living in areas of Illinois and Missouri with limited access to healthy food and resources. During these events\, neighbors are able to walk through the 28-foot trailer and choose the foods that they need. Verification of personal information is not required to participate.  All are welcome to receive food while supplies last. \nIf you have any questions\, please reach out to Jessica Murphy at JMurphy@stlfoodbank.org. \n*Times and dates are subject to change due to holidays and inclement weather. Check our social media pages for any updates @STLFoodbank!
URL:https://stlfoodbank.org/event/food-on-the-move-centennial-church-st-louis-mo/2024-01-10/
LOCATION:Centennial Church\, 4950 FOUNTAIN AVE\, Saint Louis\, MO\, 63113\, United States
GEO:38.655238;-90.2617953
X-APPLE-STRUCTURED-LOCATION;VALUE=URI;X-ADDRESS=Centennial Church 4950 FOUNTAIN AVE Saint Louis MO 63113 United States;X-APPLE-RADIUS=500;X-TITLE=4950 FOUNTAIN AVE:geo:-90.2617953,38.655238
END:VEVENT
BEGIN:VEVENT
DTSTART;TZID=America/Chicago:20231213T090000
DTEND;TZID=America/Chicago:20231213T103000
DTSTAMP:20260421T051757
CREATED:20230607T132720Z
LAST-MODIFIED:20240708T140739Z
UID:10000888-1702458000-1702463400@stlfoodbank.org
SUMMARY:Food on the Move | Centennial Church (St. Louis\, MO)
DESCRIPTION:Food On The Move is a walk-through\, shopping style food distribution program for individuals living in areas of Illinois and Missouri with limited access to healthy food and resources. During these events\, neighbors are able to walk through the 28-foot trailer and choose the foods that they need. Verification of personal information is not required to participate.  All are welcome to receive food while supplies last. \nIf you have any questions\, please reach out to Jessica Murphy at JMurphy@stlfoodbank.org. \n*Times and dates are subject to change due to holidays and inclement weather. Check our social media pages for any updates @STLFoodbank!
URL:https://stlfoodbank.org/event/food-on-the-move-centennial-church-st-louis-mo/2023-12-13/
LOCATION:Centennial Church\, 4950 FOUNTAIN AVE\, Saint Louis\, MO\, 63113\, United States
GEO:38.655238;-90.2617953
X-APPLE-STRUCTURED-LOCATION;VALUE=URI;X-ADDRESS=Centennial Church 4950 FOUNTAIN AVE Saint Louis MO 63113 United States;X-APPLE-RADIUS=500;X-TITLE=4950 FOUNTAIN AVE:geo:-90.2617953,38.655238
END:VEVENT
BEGIN:VEVENT
DTSTART;TZID=America/Chicago:20231108T090000
DTEND;TZID=America/Chicago:20231108T103000
DTSTAMP:20260421T051757
CREATED:20230607T132720Z
LAST-MODIFIED:20240708T140739Z
UID:10000887-1699434000-1699439400@stlfoodbank.org
SUMMARY:Food on the Move | Centennial Church (St. Louis\, MO)
DESCRIPTION:Food On The Move is a walk-through\, shopping style food distribution program for individuals living in areas of Illinois and Missouri with limited access to healthy food and resources. During these events\, neighbors are able to walk through the 28-foot trailer and choose the foods that they need. Verification of personal information is not required to participate.  All are welcome to receive food while supplies last. \nIf you have any questions\, please reach out to Jessica Murphy at JMurphy@stlfoodbank.org. \n*Times and dates are subject to change due to holidays and inclement weather. Check our social media pages for any updates @STLFoodbank!
URL:https://stlfoodbank.org/event/food-on-the-move-centennial-church-st-louis-mo/2023-11-08/
LOCATION:Centennial Church\, 4950 FOUNTAIN AVE\, Saint Louis\, MO\, 63113\, United States
GEO:38.655238;-90.2617953
X-APPLE-STRUCTURED-LOCATION;VALUE=URI;X-ADDRESS=Centennial Church 4950 FOUNTAIN AVE Saint Louis MO 63113 United States;X-APPLE-RADIUS=500;X-TITLE=4950 FOUNTAIN AVE:geo:-90.2617953,38.655238
END:VEVENT
BEGIN:VEVENT
DTSTART;TZID=America/Chicago:20231011T090000
DTEND;TZID=America/Chicago:20231011T103000
DTSTAMP:20260421T051757
CREATED:20230607T132720Z
LAST-MODIFIED:20240708T140739Z
UID:10000886-1697014800-1697020200@stlfoodbank.org
SUMMARY:Food on the Move | Centennial Church (St. Louis\, MO)
DESCRIPTION:Food On The Move is a walk-through\, shopping style food distribution program for individuals living in areas of Illinois and Missouri with limited access to healthy food and resources. During these events\, neighbors are able to walk through the 28-foot trailer and choose the foods that they need. Verification of personal information is not required to participate.  All are welcome to receive food while supplies last. \nIf you have any questions\, please reach out to Jessica Murphy at JMurphy@stlfoodbank.org. \n*Times and dates are subject to change due to holidays and inclement weather. Check our social media pages for any updates @STLFoodbank!
URL:https://stlfoodbank.org/event/food-on-the-move-centennial-church-st-louis-mo/2023-10-11/
LOCATION:Centennial Church\, 4950 FOUNTAIN AVE\, Saint Louis\, MO\, 63113\, United States
GEO:38.655238;-90.2617953
X-APPLE-STRUCTURED-LOCATION;VALUE=URI;X-ADDRESS=Centennial Church 4950 FOUNTAIN AVE Saint Louis MO 63113 United States;X-APPLE-RADIUS=500;X-TITLE=4950 FOUNTAIN AVE:geo:-90.2617953,38.655238
END:VEVENT
BEGIN:VEVENT
DTSTART;TZID=America/Chicago:20230913T090000
DTEND;TZID=America/Chicago:20230913T103000
DTSTAMP:20260421T051757
CREATED:20230607T132720Z
LAST-MODIFIED:20240708T140739Z
UID:10000885-1694595600-1694601000@stlfoodbank.org
SUMMARY:Food on the Move | Centennial Church (St. Louis\, MO)
DESCRIPTION:Food On The Move is a walk-through\, shopping style food distribution program for individuals living in areas of Illinois and Missouri with limited access to healthy food and resources. During these events\, neighbors are able to walk through the 28-foot trailer and choose the foods that they need. Verification of personal information is not required to participate.  All are welcome to receive food while supplies last. \nIf you have any questions\, please reach out to Jessica Murphy at JMurphy@stlfoodbank.org. \n*Times and dates are subject to change due to holidays and inclement weather. Check our social media pages for any updates @STLFoodbank!
URL:https://stlfoodbank.org/event/food-on-the-move-centennial-church-st-louis-mo/2023-09-13/
LOCATION:Centennial Church\, 4950 FOUNTAIN AVE\, Saint Louis\, MO\, 63113\, United States
GEO:38.655238;-90.2617953
X-APPLE-STRUCTURED-LOCATION;VALUE=URI;X-ADDRESS=Centennial Church 4950 FOUNTAIN AVE Saint Louis MO 63113 United States;X-APPLE-RADIUS=500;X-TITLE=4950 FOUNTAIN AVE:geo:-90.2617953,38.655238
END:VEVENT
BEGIN:VEVENT
DTSTART;TZID=America/Chicago:20230809T090000
DTEND;TZID=America/Chicago:20230809T103000
DTSTAMP:20260421T051757
CREATED:20230607T132720Z
LAST-MODIFIED:20240708T140739Z
UID:10000884-1691571600-1691577000@stlfoodbank.org
SUMMARY:Food on the Move | Centennial Church (St. Louis\, MO)
DESCRIPTION:Food On The Move is a walk-through\, shopping style food distribution program for individuals living in areas of Illinois and Missouri with limited access to healthy food and resources. During these events\, neighbors are able to walk through the 28-foot trailer and choose the foods that they need. Verification of personal information is not required to participate.  All are welcome to receive food while supplies last. \nIf you have any questions\, please reach out to Jessica Murphy at JMurphy@stlfoodbank.org. \n*Times and dates are subject to change due to holidays and inclement weather. Check our social media pages for any updates @STLFoodbank!
URL:https://stlfoodbank.org/event/food-on-the-move-centennial-church-st-louis-mo/2023-08-09/
LOCATION:Centennial Church\, 4950 FOUNTAIN AVE\, Saint Louis\, MO\, 63113\, United States
GEO:38.655238;-90.2617953
X-APPLE-STRUCTURED-LOCATION;VALUE=URI;X-ADDRESS=Centennial Church 4950 FOUNTAIN AVE Saint Louis MO 63113 United States;X-APPLE-RADIUS=500;X-TITLE=4950 FOUNTAIN AVE:geo:-90.2617953,38.655238
END:VEVENT
BEGIN:VEVENT
DTSTART;TZID=America/Chicago:20230712T090000
DTEND;TZID=America/Chicago:20230712T103000
DTSTAMP:20260421T051757
CREATED:20230607T132720Z
LAST-MODIFIED:20240708T140739Z
UID:10000883-1689152400-1689157800@stlfoodbank.org
SUMMARY:Food on the Move | Centennial Church (St. Louis\, MO)
DESCRIPTION:Food On The Move is a walk-through\, shopping style food distribution program for individuals living in areas of Illinois and Missouri with limited access to healthy food and resources. During these events\, neighbors are able to walk through the 28-foot trailer and choose the foods that they need. Verification of personal information is not required to participate.  All are welcome to receive food while supplies last. \nIf you have any questions\, please reach out to Jessica Murphy at JMurphy@stlfoodbank.org. \n*Times and dates are subject to change due to holidays and inclement weather. Check our social media pages for any updates @STLFoodbank!
URL:https://stlfoodbank.org/event/food-on-the-move-centennial-church-st-louis-mo/2023-07-12/
LOCATION:Centennial Church\, 4950 FOUNTAIN AVE\, Saint Louis\, MO\, 63113\, United States
GEO:38.655238;-90.2617953
X-APPLE-STRUCTURED-LOCATION;VALUE=URI;X-ADDRESS=Centennial Church 4950 FOUNTAIN AVE Saint Louis MO 63113 United States;X-APPLE-RADIUS=500;X-TITLE=4950 FOUNTAIN AVE:geo:-90.2617953,38.655238
END:VEVENT
BEGIN:VEVENT
DTSTART;TZID=America/Chicago:20230208T090000
DTEND;TZID=America/Chicago:20230208T130000
DTSTAMP:20260421T051757
CREATED:20230206T203419Z
LAST-MODIFIED:20230206T203420Z
UID:10000317-1675846800-1675861200@stlfoodbank.org
SUMMARY:Community Mobile Market | Centennial Church
DESCRIPTION:In partnership with the St. Louis Area Foodbank\, Centennial Christian Church is hosting a drive-through Community Mobile Market. Neighbors have the opportunity to get a mix of fresh and nonperishable food items at no cost. The distribution will end at the stated time or once all of the food and other resources have been distributed.   \nThis event is set up as a drive through distribution and volunteers and/or staff of the organization will put food directly into your car. We ask that you have space in your vehicle for the food items and that you not leave your vehicle during the distribution. Please arrive at least 15 minutes prior to the start of the event.  \nWe do not require any identification or verification of income – anyone is welcome.  \n If you have any questions\, please reach out to Pat Penelton at 636-730-8161.  \n*Dates and times are subject to change. We recommend checking in with the partner organization prior to the event to confirm dates/times.
URL:https://stlfoodbank.org/event/community-mobile-market-centennial-church-2/2023-02-08/
LOCATION:Centennial Church\, 4950 FOUNTAIN AVE\, Saint Louis\, MO\, 63113\, United States
GEO:38.655238;-90.2617953
X-APPLE-STRUCTURED-LOCATION;VALUE=URI;X-ADDRESS=Centennial Church 4950 FOUNTAIN AVE Saint Louis MO 63113 United States;X-APPLE-RADIUS=500;X-TITLE=4950 FOUNTAIN AVE:geo:-90.2617953,38.655238
END:VEVENT
BEGIN:VEVENT
DTSTART;TZID=America/Chicago:20230206T080000
DTEND;TZID=America/Chicago:20230206T170000
DTSTAMP:20260421T051757
CREATED:20230206T203419Z
LAST-MODIFIED:20230206T203420Z
UID:10000733-1675670400-1675702800@stlfoodbank.org
SUMMARY:Community Mobile Market | Centennial Church
DESCRIPTION:In partnership with the St. Louis Area Foodbank\, Centennial Christian Church is hosting a drive-through Community Mobile Market. Neighbors have the opportunity to get a mix of fresh and nonperishable food items at no cost. The distribution will end at the stated time or once all of the food and other resources have been distributed.   \nThis event is set up as a drive through distribution and volunteers and/or staff of the organization will put food directly into your car. We ask that you have space in your vehicle for the food items and that you not leave your vehicle during the distribution. Please arrive at least 15 minutes prior to the start of the event.  \nWe do not require any identification or verification of income – anyone is welcome.  \n If you have any questions\, please reach out to Pat Penelton at 636-730-8161.  \n*Dates and times are subject to change. We recommend checking in with the partner organization prior to the event to confirm dates/times.
URL:https://stlfoodbank.org/event/community-mobile-market-centennial-church-2/2023-02-06/
LOCATION:Centennial Church\, 4950 FOUNTAIN AVE\, Saint Louis\, MO\, 63113\, United States
GEO:38.655238;-90.2617953
X-APPLE-STRUCTURED-LOCATION;VALUE=URI;X-ADDRESS=Centennial Church 4950 FOUNTAIN AVE Saint Louis MO 63113 United States;X-APPLE-RADIUS=500;X-TITLE=4950 FOUNTAIN AVE:geo:-90.2617953,38.655238
END:VEVENT
BEGIN:VEVENT
DTSTART;TZID=America/Chicago:20230111T090000
DTEND;TZID=America/Chicago:20230111T130000
DTSTAMP:20260421T051757
CREATED:20230110T205727Z
LAST-MODIFIED:20230110T212149Z
UID:10000316-1673427600-1673442000@stlfoodbank.org
SUMMARY:Community Mobile Market | Centennial Church
DESCRIPTION:In partnership with the St. Louis Area Foodbank\, Centennial Christian Church is hosting a drive-through Community Mobile Market. Neighbors have the opportunity to get a mix of fresh and nonperishable food items at no cost. The distribution will end at the stated time or once all of the food and other resources have been distributed.   \nThis event is set up as a drive through distribution and volunteers and/or staff of the organization will put food directly into your car. We ask that you have space in your vehicle for the food items and that you not leave your vehicle during the distribution. Please arrive at least 15 minutes prior to the start of the event.  \nWe do not require any identification or verification of income – anyone is welcome.  \n If you have any questions\, please reach out to Pat Penelton at 636-730-8161.  \n*Dates and times are subject to change. We recommend checking in with the partner organization prior to the event to confirm dates/times.
URL:https://stlfoodbank.org/event/community-mobile-market-centennial-church/
LOCATION:Centennial Church\, 4950 FOUNTAIN AVE\, Saint Louis\, MO\, 63113\, United States
GEO:38.655238;-90.2617953
X-APPLE-STRUCTURED-LOCATION;VALUE=URI;X-ADDRESS=Centennial Church 4950 FOUNTAIN AVE Saint Louis MO 63113 United States;X-APPLE-RADIUS=500;X-TITLE=4950 FOUNTAIN AVE:geo:-90.2617953,38.655238
END:VEVENT
END:VCALENDAR