BEGIN:VCALENDAR
VERSION:2.0
PRODID:-//St. Louis Area Foodbank - ECPv6.15.20//NONSGML v1.0//EN
CALSCALE:GREGORIAN
METHOD:PUBLISH
X-ORIGINAL-URL:https://stlfoodbank.org
X-WR-CALDESC:Events for St. Louis Area Foodbank
REFRESH-INTERVAL;VALUE=DURATION:PT1H
X-Robots-Tag:noindex
X-PUBLISHED-TTL:PT1H
BEGIN:VTIMEZONE
TZID:America/Chicago
BEGIN:DAYLIGHT
TZOFFSETFROM:-0600
TZOFFSETTO:-0500
TZNAME:CDT
DTSTART:20230312T080000
END:DAYLIGHT
BEGIN:STANDARD
TZOFFSETFROM:-0500
TZOFFSETTO:-0600
TZNAME:CST
DTSTART:20231105T070000
END:STANDARD
BEGIN:DAYLIGHT
TZOFFSETFROM:-0600
TZOFFSETTO:-0500
TZNAME:CDT
DTSTART:20240310T080000
END:DAYLIGHT
BEGIN:STANDARD
TZOFFSETFROM:-0500
TZOFFSETTO:-0600
TZNAME:CST
DTSTART:20241103T070000
END:STANDARD
BEGIN:DAYLIGHT
TZOFFSETFROM:-0600
TZOFFSETTO:-0500
TZNAME:CDT
DTSTART:20250309T080000
END:DAYLIGHT
BEGIN:STANDARD
TZOFFSETFROM:-0500
TZOFFSETTO:-0600
TZNAME:CST
DTSTART:20251102T070000
END:STANDARD
END:VTIMEZONE
BEGIN:VEVENT
DTSTART;TZID=America/Chicago:20240523T090000
DTEND;TZID=America/Chicago:20240523T090000
DTSTAMP:20260420T093556
CREATED:20240425T183952Z
LAST-MODIFIED:20240425T183952Z
UID:10005913-1716454800-1716454800@stlfoodbank.org
SUMMARY:Purina Cares Day 2024 Food Distribution
DESCRIPTION:• There will be food for 300 families and we anticipate more people showing up than food available. Food will be distributed on a first come\, first served basis.\n• Dog and Cat Food will be passed out.\n• The distribution will start at 9am. DO NOT arrive at the location before 8am.\n• The distribution line will start at Clark Ave and 8th Street and line up down 8th Street so please follow the directions of security directing traffic.\n• You WILL NOT be able to pick-up for any additional families. Anyone receiving food will need to attend the event.\n• You will not have to show proof of income or an ID at check-in.\n• Volunteers will place items in your trunk or backseat so please make sure you have plenty of room. Please stay in your vehicle at all times. \nIf you have any questions\, please reach out to Jessica Murphy at JMurphy@stlfoodbank.org. \n*Times and dates are subject to change due to holidays and inclement weather. Check our social media pages for any updates @STLFoodbank!
URL:https://stlfoodbank.org/event/purina-cares-day-2024-food-distribution-2/
LOCATION:Ball Park Village\, 601 Clark Ave\, St. Louis\, MO\, 63102\, United States
GEO:38.6237065;-90.1918757
X-APPLE-STRUCTURED-LOCATION;VALUE=URI;X-ADDRESS=Ball Park Village 601 Clark Ave St. Louis MO 63102 United States;X-APPLE-RADIUS=500;X-TITLE=601 Clark Ave:geo:-90.1918757,38.6237065
END:VEVENT
END:VCALENDAR