BEGIN:VCALENDAR
VERSION:2.0
PRODID:-//St. Louis Area Foodbank - ECPv6.15.20//NONSGML v1.0//EN
CALSCALE:GREGORIAN
METHOD:PUBLISH
X-WR-CALNAME:St. Louis Area Foodbank
X-ORIGINAL-URL:https://stlfoodbank.org
X-WR-CALDESC:Events for St. Louis Area Foodbank
REFRESH-INTERVAL;VALUE=DURATION:PT1H
X-Robots-Tag:noindex
X-PUBLISHED-TTL:PT1H
BEGIN:VTIMEZONE
TZID:America/Chicago
BEGIN:DAYLIGHT
TZOFFSETFROM:-0600
TZOFFSETTO:-0500
TZNAME:CDT
DTSTART:20240310T080000
END:DAYLIGHT
BEGIN:STANDARD
TZOFFSETFROM:-0500
TZOFFSETTO:-0600
TZNAME:CST
DTSTART:20241103T070000
END:STANDARD
BEGIN:DAYLIGHT
TZOFFSETFROM:-0600
TZOFFSETTO:-0500
TZNAME:CDT
DTSTART:20250309T080000
END:DAYLIGHT
BEGIN:STANDARD
TZOFFSETFROM:-0500
TZOFFSETTO:-0600
TZNAME:CST
DTSTART:20251102T070000
END:STANDARD
BEGIN:DAYLIGHT
TZOFFSETFROM:-0600
TZOFFSETTO:-0500
TZNAME:CDT
DTSTART:20260308T080000
END:DAYLIGHT
BEGIN:STANDARD
TZOFFSETFROM:-0500
TZOFFSETTO:-0600
TZNAME:CST
DTSTART:20261101T070000
END:STANDARD
BEGIN:DAYLIGHT
TZOFFSETFROM:-0600
TZOFFSETTO:-0500
TZNAME:CDT
DTSTART:20270314T080000
END:DAYLIGHT
BEGIN:STANDARD
TZOFFSETFROM:-0500
TZOFFSETTO:-0600
TZNAME:CST
DTSTART:20271107T070000
END:STANDARD
END:VTIMEZONE
BEGIN:VEVENT
DTSTART;TZID=America/Chicago:20260327T100000
DTEND;TZID=America/Chicago:20260327T120000
DTSTAMP:20260420T023157
CREATED:20251013T191731Z
LAST-MODIFIED:20251124T143505Z
UID:10018500-1774605600-1774612800@stlfoodbank.org
SUMMARY:MO FARM Distribution | Agape (Warrenton\, MO)
DESCRIPTION:In partnership with the St. Louis Area Foodbank\, Agape in Warrenton\, Missouri is hosting a drive-through Food Access and Resource Market. Neighbors will have the opportunity to get a mix of fresh and nonperishable food items at no cost. The distribution will end at the stated time or once all the food and other resources have been distributed. \nThis event is set up as a drive through distribution and volunteers and/or staff of the organization will put food directly into your car. We ask that you have space in your vehicle for the food items and that you do not leave your vehicle during the distribution. Please arrive at least 15 minutes prior to the start of the event. \nWe do not require any identification or verification of income – anyone is welcome. \nIf you have any questions\, please reach out to programs@stlfoodbank.org or contact Phil Marshall at (636) 456-4545. \n*Dates and times are subject to change. We recommend following the St. Louis Area Foodbank on all social media platforms for any changes in the schedule.
URL:https://stlfoodbank.org/event/mo-farm-distribution-agape-warrenton-mo-2-3/2026-03-27/
LOCATION:Agape Warrenton\, 28855 Legion Trail Dr\, Warrenton\, 63383\, United States
GEO:38.8316566;-91.14105
X-APPLE-STRUCTURED-LOCATION;VALUE=URI;X-ADDRESS=Agape Warrenton 28855 Legion Trail Dr Warrenton 63383 United States;X-APPLE-RADIUS=500;X-TITLE=28855 Legion Trail Dr:geo:-91.14105,38.8316566
END:VEVENT
BEGIN:VEVENT
DTSTART;TZID=America/Chicago:20260227T100000
DTEND;TZID=America/Chicago:20260227T120000
DTSTAMP:20260420T023157
CREATED:20251013T191731Z
LAST-MODIFIED:20251124T143505Z
UID:10018499-1772186400-1772193600@stlfoodbank.org
SUMMARY:MO FARM Distribution | Agape (Warrenton\, MO)
DESCRIPTION:In partnership with the St. Louis Area Foodbank\, Agape in Warrenton\, Missouri is hosting a drive-through Food Access and Resource Market. Neighbors will have the opportunity to get a mix of fresh and nonperishable food items at no cost. The distribution will end at the stated time or once all the food and other resources have been distributed. \nThis event is set up as a drive through distribution and volunteers and/or staff of the organization will put food directly into your car. We ask that you have space in your vehicle for the food items and that you do not leave your vehicle during the distribution. Please arrive at least 15 minutes prior to the start of the event. \nWe do not require any identification or verification of income – anyone is welcome. \nIf you have any questions\, please reach out to programs@stlfoodbank.org or contact Phil Marshall at (636) 456-4545. \n*Dates and times are subject to change. We recommend following the St. Louis Area Foodbank on all social media platforms for any changes in the schedule.
URL:https://stlfoodbank.org/event/mo-farm-distribution-agape-warrenton-mo-2-3/2026-02-27/
LOCATION:Agape Warrenton\, 28855 Legion Trail Dr\, Warrenton\, 63383\, United States
GEO:38.8316566;-91.14105
X-APPLE-STRUCTURED-LOCATION;VALUE=URI;X-ADDRESS=Agape Warrenton 28855 Legion Trail Dr Warrenton 63383 United States;X-APPLE-RADIUS=500;X-TITLE=28855 Legion Trail Dr:geo:-91.14105,38.8316566
END:VEVENT
BEGIN:VEVENT
DTSTART;TZID=America/Chicago:20260123T100000
DTEND;TZID=America/Chicago:20260123T120000
DTSTAMP:20260420T023157
CREATED:20251013T191731Z
LAST-MODIFIED:20251124T143505Z
UID:10018498-1769162400-1769169600@stlfoodbank.org
SUMMARY:MO FARM Distribution | Agape (Warrenton\, MO)
DESCRIPTION:In partnership with the St. Louis Area Foodbank\, Agape in Warrenton\, Missouri is hosting a drive-through Food Access and Resource Market. Neighbors will have the opportunity to get a mix of fresh and nonperishable food items at no cost. The distribution will end at the stated time or once all the food and other resources have been distributed. \nThis event is set up as a drive through distribution and volunteers and/or staff of the organization will put food directly into your car. We ask that you have space in your vehicle for the food items and that you do not leave your vehicle during the distribution. Please arrive at least 15 minutes prior to the start of the event. \nWe do not require any identification or verification of income – anyone is welcome. \nIf you have any questions\, please reach out to programs@stlfoodbank.org or contact Phil Marshall at (636) 456-4545. \n*Dates and times are subject to change. We recommend following the St. Louis Area Foodbank on all social media platforms for any changes in the schedule.
URL:https://stlfoodbank.org/event/mo-farm-distribution-agape-warrenton-mo-2-3/2026-01-23/
LOCATION:Agape Warrenton\, 28855 Legion Trail Dr\, Warrenton\, 63383\, United States
GEO:38.8316566;-91.14105
X-APPLE-STRUCTURED-LOCATION;VALUE=URI;X-ADDRESS=Agape Warrenton 28855 Legion Trail Dr Warrenton 63383 United States;X-APPLE-RADIUS=500;X-TITLE=28855 Legion Trail Dr:geo:-91.14105,38.8316566
END:VEVENT
BEGIN:VEVENT
DTSTART;TZID=America/Chicago:20251125T100000
DTEND;TZID=America/Chicago:20251125T120000
DTSTAMP:20260420T023157
CREATED:20251013T191944Z
LAST-MODIFIED:20251013T191945Z
UID:10019614-1764064800-1764072000@stlfoodbank.org
SUMMARY:MO FARM Distribution | Agape (Warrenton\, MO) | November 25\, 2025
DESCRIPTION:In partnership with the St. Louis Area Foodbank\, Agape in Warrenton\, Missouri is hosting a drive-through Food Access and Resource Market. Neighbors will have the opportunity to get a mix of fresh and nonperishable food items at no cost. The distribution will end at the stated time or once all the food and other resources have been distributed. \nThis event is set up as a drive through distribution and volunteers and/or staff of the organization will put food directly into your car. We ask that you have space in your vehicle for the food items and that you do not leave your vehicle during the distribution. Please arrive at least 15 minutes prior to the start of the event. \nWe do not require any identification or verification of income – anyone is welcome. \nIf you have any questions\, please reach out to programs@stlfoodbank.org or contact Phil Marshall at (636) 456-4545. \n*Dates and times are subject to change. We recommend following the St. Louis Area Foodbank on all social media platforms for any changes in the schedule.
URL:https://stlfoodbank.org/event/mo-farm-distribution-agape-warrenton-mo-november-25-2025-2/
LOCATION:Agape Warrenton\, 28855 Legion Trail Dr\, Warrenton\, 63383\, United States
GEO:38.8316566;-91.14105
X-APPLE-STRUCTURED-LOCATION;VALUE=URI;X-ADDRESS=Agape Warrenton 28855 Legion Trail Dr Warrenton 63383 United States;X-APPLE-RADIUS=500;X-TITLE=28855 Legion Trail Dr:geo:-91.14105,38.8316566
END:VEVENT
BEGIN:VEVENT
DTSTART;TZID=America/Chicago:20251024T100000
DTEND;TZID=America/Chicago:20251024T120000
DTSTAMP:20260420T023157
CREATED:20251013T191731Z
LAST-MODIFIED:20251124T143505Z
UID:10018495-1761300000-1761307200@stlfoodbank.org
SUMMARY:MO FARM Distribution | Agape (Warrenton\, MO)
DESCRIPTION:In partnership with the St. Louis Area Foodbank\, Agape in Warrenton\, Missouri is hosting a drive-through Food Access and Resource Market. Neighbors will have the opportunity to get a mix of fresh and nonperishable food items at no cost. The distribution will end at the stated time or once all the food and other resources have been distributed. \nThis event is set up as a drive through distribution and volunteers and/or staff of the organization will put food directly into your car. We ask that you have space in your vehicle for the food items and that you do not leave your vehicle during the distribution. Please arrive at least 15 minutes prior to the start of the event. \nWe do not require any identification or verification of income – anyone is welcome. \nIf you have any questions\, please reach out to programs@stlfoodbank.org or contact Phil Marshall at (636) 456-4545. \n*Dates and times are subject to change. We recommend following the St. Louis Area Foodbank on all social media platforms for any changes in the schedule.
URL:https://stlfoodbank.org/event/mo-farm-distribution-agape-warrenton-mo-2-3/2025-10-24/
LOCATION:Agape Warrenton\, 28855 Legion Trail Dr\, Warrenton\, 63383\, United States
GEO:38.8316566;-91.14105
X-APPLE-STRUCTURED-LOCATION;VALUE=URI;X-ADDRESS=Agape Warrenton 28855 Legion Trail Dr Warrenton 63383 United States;X-APPLE-RADIUS=500;X-TITLE=28855 Legion Trail Dr:geo:-91.14105,38.8316566
END:VEVENT
BEGIN:VEVENT
DTSTART;TZID=America/Chicago:20250926T100000
DTEND;TZID=America/Chicago:20250926T120000
DTSTAMP:20260420T023157
CREATED:20250520T141016Z
LAST-MODIFIED:20250520T141016Z
UID:10018494-1758880800-1758888000@stlfoodbank.org
SUMMARY:MO FARM Distribution | Agape (Warrenton\, MO)
DESCRIPTION:In partnership with the St. Louis Area Foodbank\, Agape in Warrenton\, Missouri is hosting a drive-through Food Access and Resource Market. Neighbors will have the opportunity to get a mix of fresh and nonperishable food items at no cost. The distribution will end at the stated time or once all the food and other resources have been distributed. \nThis event is set up as a drive through distribution and volunteers and/or staff of the organization will put food directly into your car. We ask that you have space in your vehicle for the food items and that you do not leave your vehicle during the distribution. Please arrive at least 15 minutes prior to the start of the event. \nWe do not require any identification or verification of income – anyone is welcome. \nIf you have any questions\, please reach out to programs@stlfoodbank.org or contact Phil Marshall at (636) 456-4545. \n*Dates and times are subject to change. We recommend following the St. Louis Area Foodbank on all social media platforms for any changes in the schedule.
URL:https://stlfoodbank.org/event/mo-farm-distribution-agape-warrenton-mo-2/2025-09-26/
LOCATION:Agape Warrenton\, 28855 Legion Trail Dr\, Warrenton\, 63383\, United States
GEO:38.8316566;-91.14105
X-APPLE-STRUCTURED-LOCATION;VALUE=URI;X-ADDRESS=Agape Warrenton 28855 Legion Trail Dr Warrenton 63383 United States;X-APPLE-RADIUS=500;X-TITLE=28855 Legion Trail Dr:geo:-91.14105,38.8316566
END:VEVENT
BEGIN:VEVENT
DTSTART;TZID=America/Chicago:20250822T100000
DTEND;TZID=America/Chicago:20250822T120000
DTSTAMP:20260420T023157
CREATED:20250520T141016Z
LAST-MODIFIED:20250520T141016Z
UID:10018493-1755856800-1755864000@stlfoodbank.org
SUMMARY:MO FARM Distribution | Agape (Warrenton\, MO)
DESCRIPTION:In partnership with the St. Louis Area Foodbank\, Agape in Warrenton\, Missouri is hosting a drive-through Food Access and Resource Market. Neighbors will have the opportunity to get a mix of fresh and nonperishable food items at no cost. The distribution will end at the stated time or once all the food and other resources have been distributed. \nThis event is set up as a drive through distribution and volunteers and/or staff of the organization will put food directly into your car. We ask that you have space in your vehicle for the food items and that you do not leave your vehicle during the distribution. Please arrive at least 15 minutes prior to the start of the event. \nWe do not require any identification or verification of income – anyone is welcome. \nIf you have any questions\, please reach out to programs@stlfoodbank.org or contact Phil Marshall at (636) 456-4545. \n*Dates and times are subject to change. We recommend following the St. Louis Area Foodbank on all social media platforms for any changes in the schedule.
URL:https://stlfoodbank.org/event/mo-farm-distribution-agape-warrenton-mo-2/2025-08-22/
LOCATION:Agape Warrenton\, 28855 Legion Trail Dr\, Warrenton\, 63383\, United States
GEO:38.8316566;-91.14105
X-APPLE-STRUCTURED-LOCATION;VALUE=URI;X-ADDRESS=Agape Warrenton 28855 Legion Trail Dr Warrenton 63383 United States;X-APPLE-RADIUS=500;X-TITLE=28855 Legion Trail Dr:geo:-91.14105,38.8316566
END:VEVENT
BEGIN:VEVENT
DTSTART;TZID=America/Chicago:20250725T100000
DTEND;TZID=America/Chicago:20250725T120000
DTSTAMP:20260420T023157
CREATED:20250520T141016Z
LAST-MODIFIED:20250520T141016Z
UID:10018492-1753437600-1753444800@stlfoodbank.org
SUMMARY:MO FARM Distribution | Agape (Warrenton\, MO)
DESCRIPTION:In partnership with the St. Louis Area Foodbank\, Agape in Warrenton\, Missouri is hosting a drive-through Food Access and Resource Market. Neighbors will have the opportunity to get a mix of fresh and nonperishable food items at no cost. The distribution will end at the stated time or once all the food and other resources have been distributed. \nThis event is set up as a drive through distribution and volunteers and/or staff of the organization will put food directly into your car. We ask that you have space in your vehicle for the food items and that you do not leave your vehicle during the distribution. Please arrive at least 15 minutes prior to the start of the event. \nWe do not require any identification or verification of income – anyone is welcome. \nIf you have any questions\, please reach out to programs@stlfoodbank.org or contact Phil Marshall at (636) 456-4545. \n*Dates and times are subject to change. We recommend following the St. Louis Area Foodbank on all social media platforms for any changes in the schedule.
URL:https://stlfoodbank.org/event/mo-farm-distribution-agape-warrenton-mo-2/2025-07-25/
LOCATION:Agape Warrenton\, 28855 Legion Trail Dr\, Warrenton\, 63383\, United States
GEO:38.8316566;-91.14105
X-APPLE-STRUCTURED-LOCATION;VALUE=URI;X-ADDRESS=Agape Warrenton 28855 Legion Trail Dr Warrenton 63383 United States;X-APPLE-RADIUS=500;X-TITLE=28855 Legion Trail Dr:geo:-91.14105,38.8316566
END:VEVENT
BEGIN:VEVENT
DTSTART;TZID=America/Chicago:20250523T100000
DTEND;TZID=America/Chicago:20250523T120000
DTSTAMP:20260420T023157
CREATED:20250520T141448Z
LAST-MODIFIED:20250520T141801Z
UID:10018490-1747994400-1748001600@stlfoodbank.org
SUMMARY:MO FARM Distribution | Agape (Warrenton\, MO) | Rescheduled to Friday\, May 30\, 2025
DESCRIPTION:Please note this event has been rescheduled to Friday\, May 30\, 2025.\n(There will NOT be a distribution on Friday\, May 23.) \nIn partnership with the St. Louis Area Foodbank\, Agape in Warrenton\, Missouri is hosting a drive-through Food Access and Resource Market. Neighbors will have the opportunity to get a mix of fresh and nonperishable food items at no cost. The distribution will end at the stated time or once all the food and other resources have been distributed. \nThis event is set up as a drive through distribution and volunteers and/or staff of the organization will put food directly into your car. We ask that you have space in your vehicle for the food items and that you do not leave your vehicle during the distribution. Please arrive at least 15 minutes prior to the start of the event. \nWe do not require any identification or verification of income – anyone is welcome. \nIf you have any questions\, please reach out to programs@stlfoodbank.org or contact Phil Marshall at (636) 456-4545. \n*Dates and times are subject to change. We recommend following the St. Louis Area Foodbank on all social media platforms for any changes in the schedule.
URL:https://stlfoodbank.org/event/mo-farm-distribution-agape-warrenton-mo-2-2/
LOCATION:Agape Warrenton\, 28855 Legion Trail Dr\, Warrenton\, 63383\, United States
GEO:38.8316566;-91.14105
X-APPLE-STRUCTURED-LOCATION;VALUE=URI;X-ADDRESS=Agape Warrenton 28855 Legion Trail Dr Warrenton 63383 United States;X-APPLE-RADIUS=500;X-TITLE=28855 Legion Trail Dr:geo:-91.14105,38.8316566
END:VEVENT
BEGIN:VEVENT
DTSTART;TZID=America/Chicago:20250425T100000
DTEND;TZID=America/Chicago:20250425T120000
DTSTAMP:20260420T023157
CREATED:20250321T163412Z
LAST-MODIFIED:20250321T163412Z
UID:10018489-1745575200-1745582400@stlfoodbank.org
SUMMARY:MO FARM Distribution | Agape (Warrenton\, MO)
DESCRIPTION:In partnership with the St. Louis Area Foodbank\, Agape in Warrenton\, Missouri is hosting a drive-through Food Access and Resource Market. Neighbors will have the opportunity to get a mix of fresh and nonperishable food items at no cost. The distribution will end at the stated time or once all the food and other resources have been distributed. \nThis event is set up as a drive through distribution and volunteers and/or staff of the organization will put food directly into your car. We ask that you have space in your vehicle for the food items and that you do not leave your vehicle during the distribution. Please arrive at least 15 minutes prior to the start of the event. \nWe do not require any identification or verification of income – anyone is welcome. \nIf you have any questions\, please reach out to programs@stlfoodbank.org or contact Phil Marshall at (636) 456-4545. \n*Dates and times are subject to change. We recommend following the St. Louis Area Foodbank on all social media platforms for any changes in the schedule.
URL:https://stlfoodbank.org/event/mo-farm-distribution-agape-warrenton-mo/2025-04-25/
LOCATION:Agape Warrenton\, 28855 Legion Trail Dr\, Warrenton\, 63383\, United States
GEO:38.8316566;-91.14105
X-APPLE-STRUCTURED-LOCATION;VALUE=URI;X-ADDRESS=Agape Warrenton 28855 Legion Trail Dr Warrenton 63383 United States;X-APPLE-RADIUS=500;X-TITLE=28855 Legion Trail Dr:geo:-91.14105,38.8316566
END:VEVENT
BEGIN:VEVENT
DTSTART;TZID=America/Chicago:20250328T100000
DTEND;TZID=America/Chicago:20250328T120000
DTSTAMP:20260420T023157
CREATED:20250321T163412Z
LAST-MODIFIED:20250321T163412Z
UID:10018488-1743156000-1743163200@stlfoodbank.org
SUMMARY:MO FARM Distribution | Agape (Warrenton\, MO)
DESCRIPTION:In partnership with the St. Louis Area Foodbank\, Agape in Warrenton\, Missouri is hosting a drive-through Food Access and Resource Market. Neighbors will have the opportunity to get a mix of fresh and nonperishable food items at no cost. The distribution will end at the stated time or once all the food and other resources have been distributed. \nThis event is set up as a drive through distribution and volunteers and/or staff of the organization will put food directly into your car. We ask that you have space in your vehicle for the food items and that you do not leave your vehicle during the distribution. Please arrive at least 15 minutes prior to the start of the event. \nWe do not require any identification or verification of income – anyone is welcome. \nIf you have any questions\, please reach out to programs@stlfoodbank.org or contact Phil Marshall at (636) 456-4545. \n*Dates and times are subject to change. We recommend following the St. Louis Area Foodbank on all social media platforms for any changes in the schedule.
URL:https://stlfoodbank.org/event/mo-farm-distribution-agape-warrenton-mo/2025-03-28/
LOCATION:Agape Warrenton\, 28855 Legion Trail Dr\, Warrenton\, 63383\, United States
GEO:38.8316566;-91.14105
X-APPLE-STRUCTURED-LOCATION;VALUE=URI;X-ADDRESS=Agape Warrenton 28855 Legion Trail Dr Warrenton 63383 United States;X-APPLE-RADIUS=500;X-TITLE=28855 Legion Trail Dr:geo:-91.14105,38.8316566
END:VEVENT
END:VCALENDAR