BEGIN:VCALENDAR
VERSION:2.0
PRODID:-//St. Louis Area Foodbank - ECPv6.15.20//NONSGML v1.0//EN
CALSCALE:GREGORIAN
METHOD:PUBLISH
X-WR-CALNAME:St. Louis Area Foodbank
X-ORIGINAL-URL:https://stlfoodbank.org
X-WR-CALDESC:Events for St. Louis Area Foodbank
REFRESH-INTERVAL;VALUE=DURATION:PT1H
X-Robots-Tag:noindex
X-PUBLISHED-TTL:PT1H
BEGIN:VTIMEZONE
TZID:UTC
BEGIN:STANDARD
TZOFFSETFROM:+0000
TZOFFSETTO:+0000
TZNAME:UTC
DTSTART:20240101T000000
END:STANDARD
END:VTIMEZONE
BEGIN:VTIMEZONE
TZID:America/Chicago
BEGIN:DAYLIGHT
TZOFFSETFROM:-0600
TZOFFSETTO:-0500
TZNAME:CDT
DTSTART:20240310T080000
END:DAYLIGHT
BEGIN:STANDARD
TZOFFSETFROM:-0500
TZOFFSETTO:-0600
TZNAME:CST
DTSTART:20241103T070000
END:STANDARD
BEGIN:DAYLIGHT
TZOFFSETFROM:-0600
TZOFFSETTO:-0500
TZNAME:CDT
DTSTART:20250309T080000
END:DAYLIGHT
BEGIN:STANDARD
TZOFFSETFROM:-0500
TZOFFSETTO:-0600
TZNAME:CST
DTSTART:20251102T070000
END:STANDARD
BEGIN:DAYLIGHT
TZOFFSETFROM:-0600
TZOFFSETTO:-0500
TZNAME:CDT
DTSTART:20260308T080000
END:DAYLIGHT
BEGIN:STANDARD
TZOFFSETFROM:-0500
TZOFFSETTO:-0600
TZNAME:CST
DTSTART:20261101T070000
END:STANDARD
END:VTIMEZONE
BEGIN:VEVENT
DTSTART;TZID=UTC:20251111T093000
DTEND;TZID=UTC:20251111T093000
DTSTAMP:20260419T153802
CREATED:20251022T183241Z
LAST-MODIFIED:20251022T184241Z
UID:10019940-1762853400-1762853400@stlfoodbank.org
SUMMARY:Veterans Day Distribution | November 11\, 2025 (Illinois)
DESCRIPTION:The St. Louis Area Food Bank will be distributing food and other personal care items to Veterans and active military personnel on Tuesday\, November 11\, 2025.   \nThis event is set up as a drive-through distribution\, and volunteers and/or staff of the organization will put food directly into your car. We ask that you have space in your vehicle for the items and that you not leave your vehicle during the distribution. Please arrive at least 15 minutes prior to the start of the event. Supplies are limited. Distribution will occur on a first-come\, first-served basis. \n\nFor veterans\, active military\, and their immediate family.\nA mix of fresh and shelf-stable food items as well as personal hygiene products.\nYou may pick up food for up to 2 households\, but a representative from each must be present in the vehicle with valid Military or Veterans ID.\n\nIMPORTANT: Verification of active-duty military or Veteran status is required for this event\, such as a military ID or DD214.   \nIf you have any questions\, please reach out to programs@stlfoodbank.org.  \n*Dates and times are subject to change. 
URL:https://stlfoodbank.org/event/veterans-day-distribution-november-11-2025-illinois/
LOCATION:First United Presbyterian Church\, 1303 Royal Heights Rd\, Belleville\, IL\, 62223\, United States
CATEGORIES:Food Distribution,Mobile Market
ATTACH;FMTTYPE=:
GEO:38.5520276;-90.0121056
X-APPLE-STRUCTURED-LOCATION;VALUE=URI;X-ADDRESS=First United Presbyterian Church 1303 Royal Heights Rd Belleville IL 62223 United States;X-APPLE-RADIUS=500;X-TITLE=1303 Royal Heights Rd:geo:-90.0121056,38.5520276
END:VEVENT
BEGIN:VEVENT
DTSTART;TZID=UTC:20251111T143000
DTEND;TZID=UTC:20251111T143000
DTSTAMP:20260419T153802
CREATED:20251022T183236Z
LAST-MODIFIED:20251022T184232Z
UID:10019939-1762871400-1762871400@stlfoodbank.org
SUMMARY:Veterans Day Distribution | November 11\, 2025 (Missouri)
DESCRIPTION:The St. Louis Area Food Bank will be distributing food and other personal care items to Veterans and active military personnel on Tuesday\, November 11\, 2025. \nThis event is set up as a drive-through distribution\, and volunteers and/or staff of the organization will put food directly into your car. We ask that you have space in your vehicle for the items and that you not leave your vehicle during the distribution. Please arrive at least 15 minutes prior to the start of the event. Supplies are limited. Distribution will occur on a first-come\, first-served basis. \n\nFor veterans\, active military\, and their immediate family.\nA mix of fresh and shelf-stable food items as well as personal hygiene products.\nYou may pick up food for up to 2 households\, but a representative from each must be present in the vehicle with valid Military or Veterans ID.\n\nIMPORTANT: Verification of active-duty military or Veteran status is required for this event\, such as a military ID or DD214.   \nIf you have any questions\, please reach out to programs@stlfoodbank.org. \n*Dates and times are subject to change. 
URL:https://stlfoodbank.org/event/veterans-day-distribution-november-11-2025-missouri/
LOCATION:All Star Lot\, 611 South 8th Street\, St. Louis\, Missouri\, 63102
CATEGORIES:Food Distribution,Mobile Market
ATTACH;FMTTYPE=:
GEO:38.6222768;-90.1948708
X-APPLE-STRUCTURED-LOCATION;VALUE=URI;X-ADDRESS=All Star Lot 611 South 8th Street St. Louis Missouri 63102;X-APPLE-RADIUS=500;X-TITLE=611 South 8th Street:geo:-90.1948708,38.6222768
END:VEVENT
BEGIN:VEVENT
DTSTART;TZID=UTC:20251113T090000
DTEND;TZID=UTC:20251113T090000
DTSTAMP:20260419T153802
CREATED:20241204T152345Z
LAST-MODIFIED:20250818T152030Z
UID:10016283-1763024400-1763024400@stlfoodbank.org
SUMMARY:FARM | SSM St. Mary's | November 13\, 2025
DESCRIPTION:In partnership with the St. Louis Area Food Bank\, SSM St. Mary’s is hosting a drive-through Community Mobile Market. Neighbors have the opportunity to get a mix of fresh and nonperishable food items at no cost. The distribution will end at the stated time or once all of the food and other resources have been distributed.   \nThis event is set up as a drive through distribution and volunteers and/or staff of the organization will put food directly into your car. We ask that you have space in your vehicle for the food items and that you not leave your vehicle during the distribution. Please arrive at least 15 minutes prior to the start of the event.  \nWe do not require any identification or verification of income – anyone is welcome.  \n If you have any questions\, please reach out to Stephanie at stephanie.moore4@ssmhealth.com. \nLocated in the parking lot adjacent to the Emergency department on the Bellevue side. \n*Dates and times are subject to change. We recommend checking in with the partner organization prior to the event to confirm dates/times.
URL:https://stlfoodbank.org/event/distribution-event-ssm-st-marys-november-13-2025/
LOCATION:SSM St. Marys\, 6420 Clayton Road\, Richmond Heights\, MO\, 63117\, United States
CATEGORIES:Food Distribution,Mobile Market
ATTACH;FMTTYPE=:
GEO:38.6330715;-90.311181
X-APPLE-STRUCTURED-LOCATION;VALUE=URI;X-ADDRESS=SSM St. Marys 6420 Clayton Road Richmond Heights MO 63117 United States;X-APPLE-RADIUS=500;X-TITLE=6420 Clayton Road:geo:-90.311181,38.6330715
END:VEVENT
BEGIN:VEVENT
DTSTART;TZID=America/Chicago:20251120T090000
DTEND;TZID=America/Chicago:20251120T140000
DTSTAMP:20260419T153802
CREATED:20251107T171910Z
LAST-MODIFIED:20251107T171910Z
UID:10020022-1763629200-1763647200@stlfoodbank.org
SUMMARY:Free Food Distribution for 3\,000 Households
DESCRIPTION:The St. Louis Area Foodbank is hosting a major free food distribution to provide immediate relief to families across the bi-state region impacted by the government shutdown\, disruptions to SNAP benefits\, and high inflation. Food will be provided for 3\,000 households. \nThis is a drive-thru event\, open to the public\, first-come\, first-served\, while supplies last. No income verification or ID is required. Attendees will receive a mix of fresh produce\, dairy\, protein\, and shelf-stable pantry essentials. This event will be held in the Ralph Korte Stadium Parking Lot on the SIUE Campus.
URL:https://stlfoodbank.org/event/free-food-distribution-for-3000-households/
LOCATION:Ralph Korte Stadium Parking Lot at SIUE Campus\, 3345 Stadium Drive\, Edwardsville\, IL\, 62026\, United States
CATEGORIES:Food Distribution,Mobile Market
END:VEVENT
END:VCALENDAR