BEGIN:VCALENDAR
VERSION:2.0
PRODID:-//St. Louis Area Foodbank - ECPv6.15.20//NONSGML v1.0//EN
CALSCALE:GREGORIAN
METHOD:PUBLISH
X-ORIGINAL-URL:https://stlfoodbank.org
X-WR-CALDESC:Events for St. Louis Area Foodbank
REFRESH-INTERVAL;VALUE=DURATION:PT1H
X-Robots-Tag:noindex
X-PUBLISHED-TTL:PT1H
BEGIN:VTIMEZONE
TZID:UTC
BEGIN:STANDARD
TZOFFSETFROM:+0000
TZOFFSETTO:+0000
TZNAME:UTC
DTSTART:20230101T000000
END:STANDARD
END:VTIMEZONE
BEGIN:VEVENT
DTSTART;TZID=UTC:20240912T100000
DTEND;TZID=UTC:20240912T100000
DTSTAMP:20260420T172658
CREATED:20240819T200104Z
LAST-MODIFIED:20240819T200632Z
UID:10014471-1726135200-1726135200@stlfoodbank.org
SUMMARY:Stand Up/Stand Down for Homeless Veterans | Marion\, IL | September 12\, 2024
DESCRIPTION:Free food distribution event in partnership with The VA Medical Center at Marion\, IL.   \nServices include Mental Health\, Employment\, and Housing Resources\, VA Benefits Assistance\, VA Healthcare Information\, Legal resources\, Haircuts\, Phone assistance \nThis event is for veterans.  \nFor questions\, please reach out to Adam Coleman at 618-694-6933 or adam.coleman2@va.gov.
URL:https://stlfoodbank.org/event/stand-up-stand-down-for-homeless-veterans-marion-il-september-12-2024-3/
LOCATION:St. Joseph Catholic Church\, 600 N. Russell St.\, Marion\, IL\, 62959\, United States
CATEGORIES:Food Distribution,Mobile Market
ATTACH;FMTTYPE=:
GEO:37.7358441;-88.942324
X-APPLE-STRUCTURED-LOCATION;VALUE=URI;X-ADDRESS=St. Joseph Catholic Church 600 N. Russell St. Marion IL 62959 United States;X-APPLE-RADIUS=500;X-TITLE=600 N. Russell St.:geo:-88.942324,37.7358441
END:VEVENT
BEGIN:VEVENT
DTSTART;TZID=UTC:20240928T100000
DTEND;TZID=UTC:20240928T100000
DTSTAMP:20260420T172658
CREATED:20240729T183753Z
LAST-MODIFIED:20240923T210913Z
UID:10014038-1727517600-1727517600@stlfoodbank.org
SUMMARY:Stand Up/Stand Down for Homeless Veterans | St. Louis\, MO| September 28\, 2024
DESCRIPTION:Free food distribution event in partnership with Greater St. Louis Veteran Leadership Committee. \nServices include Mental Health\, Employment\, and Housing Resources\, VA Benefits Assistance\, VA Healthcare Information\, Dental and Legal resources\, Haircuts\, Phone assistance \nThis event is for veterans. 
URL:https://stlfoodbank.org/event/stand-up-stand-down-for-homeless-veterans-st-louis-mo-september-28-2024/
LOCATION:Soldiers Memorial\, 1315 Chestnut St.\, St. Louis\, MO\, 63103\, United States
CATEGORIES:Food Distribution,Mobile Market
ATTACH;FMTTYPE=:
GEO:38.629011;-90.2000346
X-APPLE-STRUCTURED-LOCATION;VALUE=URI;X-ADDRESS=Soldiers Memorial 1315 Chestnut St. St. Louis MO 63103 United States;X-APPLE-RADIUS=500;X-TITLE=1315 Chestnut St.:geo:-90.2000346,38.629011
END:VEVENT
END:VCALENDAR