BEGIN:VCALENDAR
VERSION:2.0
PRODID:-//St. Louis Area Foodbank - ECPv6.15.20//NONSGML v1.0//EN
CALSCALE:GREGORIAN
METHOD:PUBLISH
X-WR-CALNAME:St. Louis Area Foodbank
X-ORIGINAL-URL:https://stlfoodbank.org
X-WR-CALDESC:Events for St. Louis Area Foodbank
REFRESH-INTERVAL;VALUE=DURATION:PT1H
X-Robots-Tag:noindex
X-PUBLISHED-TTL:PT1H
BEGIN:VTIMEZONE
TZID:UTC
BEGIN:STANDARD
TZOFFSETFROM:+0000
TZOFFSETTO:+0000
TZNAME:UTC
DTSTART:20210101T000000
END:STANDARD
END:VTIMEZONE
BEGIN:VEVENT
DTSTART;TZID=UTC:20221102T110000
DTEND;TZID=UTC:20221102T123000
DTSTAMP:20260419T192225
CREATED:20220616T132123Z
LAST-MODIFIED:20221013T003516Z
UID:10000037-1667386800-1667392200@stlfoodbank.org
SUMMARY:Food on the Move | New Shining Light HDNC
DESCRIPTION:Food On The Move is a shopping style food distribution program for individuals living in areas of Illinois and Missouri with limited access to healthy food and resources. During these events\, neighbors are able to walk through the 28-foot trailer and choose the foods that they need. All are welcome to receive food while supplies last.   \nIf you have any questions\, please reach out to Jessica Murphy at JMurphy@stlfoodbank.org.  \n*Times and dates are subject to change due to holidays and inclement weather. Check our social media pages for any updates @STLFoodbank! 
URL:https://stlfoodbank.org/event/food-on-the-move-new-shining-light-hdnc-8/
LOCATION:New Shining Light HDNC\, 740 Broadway Ave\, Venice\, 740 Broadway Ave\, Venice\, IL\, 62090\, United States
CATEGORIES:Food On The Move
ATTACH;FMTTYPE=:
GEO:38.6741949;-90.1653313
X-APPLE-STRUCTURED-LOCATION;VALUE=URI;X-ADDRESS=New Shining Light HDNC 740 Broadway Ave Venice 740 Broadway Ave Venice IL 62090 United States;X-APPLE-RADIUS=500;X-TITLE=740 Broadway Ave:geo:-90.1653313,38.6741949
END:VEVENT
BEGIN:VEVENT
DTSTART;TZID=UTC:20221026T093000
DTEND;TZID=UTC:20221026T103000
DTSTAMP:20260419T192225
CREATED:20220603T153845Z
LAST-MODIFIED:20221013T003503Z
UID:10000031-1666776600-1666780200@stlfoodbank.org
SUMMARY:Food on the Move | FOTM St. Louis City (Rosati Center Group Home)
DESCRIPTION:Food On The Move is a shopping style food distribution program for individuals living in areas of Illinois and Missouri with limited access to healthy food and resources. During these events\, neighbors are able to walk through the 28-foot trailer and choose the foods that they need. All are welcome to receive food while supplies last.   \nIf you have any questions\, please reach out to Jessica Murphy at JMurphy@stlfoodbank.org.  \n*Times and dates are subject to change due to holidays and inclement weather. Check our social media pages for any updates @STLFoodbank! 
URL:https://stlfoodbank.org/event/food-on-the-move-fotm-st-louis-city-rosati-center-group-home-8/
LOCATION:FOTM St.Louis City (Rosati Center Group Home)\, 4314 North Grand Ave\, Saint Louis\, MO\, 63107\, United States
CATEGORIES:Food On The Move
ATTACH;FMTTYPE=:
GEO:38.6681543;-90.2103621
X-APPLE-STRUCTURED-LOCATION;VALUE=URI;X-ADDRESS=FOTM St.Louis City (Rosati Center Group Home) 4314 North Grand Ave Saint Louis MO 63107 United States;X-APPLE-RADIUS=500;X-TITLE=4314 North Grand Ave:geo:-90.2103621,38.6681543
END:VEVENT
BEGIN:VEVENT
DTSTART;TZID=UTC:20221021T090000
DTEND;TZID=UTC:20221021T110000
DTSTAMP:20260419T192225
CREATED:20220616T135608Z
LAST-MODIFIED:20221013T003447Z
UID:10000024-1666342800-1666350000@stlfoodbank.org
SUMMARY:Food on the Move | High Hill Christian Church
DESCRIPTION:Food On The Move is a shopping style food distribution program for individuals living in areas of Illinois and Missouri with limited access to healthy food and resources. During these events\, neighbors are able to walk through the 28-foot trailer and choose the foods that they need. All are welcome to receive food while supplies last.   \nIf you have any questions\, please reach out to Jessica Murphy at JMurphy@stlfoodbank.org.  \n*Times and dates are subject to change due to holidays and inclement weather. Check our social media pages for any updates @STLFoodbank! 
URL:https://stlfoodbank.org/event/food-on-the-move-high-hill-christian-church-8/
LOCATION:High Hill Christian Church\, 852 Booneslick Rd\, High Hill\, 852 Booneslick Rd\, High Hill\, MO\, 63350\, United States
CATEGORIES:Food On The Move
ATTACH;FMTTYPE=:
GEO:38.8786872;-91.3861759
X-APPLE-STRUCTURED-LOCATION;VALUE=URI;X-ADDRESS=High Hill Christian Church 852 Booneslick Rd High Hill 852 Booneslick Rd High Hill MO 63350 United States;X-APPLE-RADIUS=500;X-TITLE=852 Booneslick Rd:geo:-91.3861759,38.8786872
END:VEVENT
BEGIN:VEVENT
DTSTART;TZID=UTC:20221020T093000
DTEND;TZID=UTC:20221020T110000
DTSTAMP:20260419T192225
CREATED:20220603T165603Z
LAST-MODIFIED:20221013T003441Z
UID:10000021-1666258200-1666263600@stlfoodbank.org
SUMMARY:Food on the Move | Morse Mill Baptist Church
DESCRIPTION:Food On The Move is a shopping style food distribution program for individuals living in areas of Illinois and Missouri with limited access to healthy food and resources. During these events\, neighbors are able to walk through the 28-foot trailer and choose the foods that they need. All are welcome to receive food while supplies last.   \nIf you have any questions\, please reach out to Jessica Murphy at JMurphy@stlfoodbank.org.  \n*Times and dates are subject to change due to holidays and inclement weather. Check our social media pages for any updates @STLFoodbank! 
URL:https://stlfoodbank.org/event/food-on-the-move-morse-mill-baptist-church-3/
LOCATION:Morse Mill Baptist Church\, 6955 State Hwy B\, Dittmer\, MO\, 63023
CATEGORIES:Food On The Move
ATTACH;FMTTYPE=:
GEO:38.2804008;-90.6486653
X-APPLE-STRUCTURED-LOCATION;VALUE=URI;X-ADDRESS=Morse Mill Baptist Church 6955 State Hwy B Dittmer MO 63023;X-APPLE-RADIUS=500;X-TITLE=6955 State Hwy B:geo:-90.6486653,38.2804008
END:VEVENT
BEGIN:VEVENT
DTSTART;TZID=UTC:20221018T143000
DTEND;TZID=UTC:20221018T160000
DTSTAMP:20260419T192225
CREATED:20220603T163714Z
LAST-MODIFIED:20221013T003313Z
UID:10000016-1666103400-1666108800@stlfoodbank.org
SUMMARY:Food on the Move | FOTM Pagedale (Rock Road Metrolink Station)
DESCRIPTION:Food On The Move is a shopping style food distribution program for individuals living in areas of Illinois and Missouri with limited access to healthy food and resources. During these events\, neighbors are able to walk through the 28-foot trailer and choose the foods that they need. All are welcome to receive food while supplies last.   \nIf you have any questions\, please reach out to Jessica Murphy at JMurphy@stlfoodbank.org.  \n*Times and dates are subject to change due to holidays and inclement weather. Check our social media pages for any updates @STLFoodbank! 
URL:https://stlfoodbank.org/event/food-on-the-move-fotm-pagedale-rock-road-metrolink-station-10/
LOCATION:FOTM Pagedale (Rock Road Metrolink Station)\, 7001 St. Charles Rock Rd\, St. Louis\, MO\, 63133\, United States
CATEGORIES:Food On The Move
ATTACH;FMTTYPE=:
GEO:38.6854835;-90.3014469
X-APPLE-STRUCTURED-LOCATION;VALUE=URI;X-ADDRESS=FOTM Pagedale (Rock Road Metrolink Station) 7001 St. Charles Rock Rd St. Louis MO 63133 United States;X-APPLE-RADIUS=500;X-TITLE=7001 St. Charles Rock Rd:geo:-90.3014469,38.6854835
END:VEVENT
BEGIN:VEVENT
DTSTART;TZID=UTC:20221018T093000
DTEND;TZID=UTC:20221018T103000
DTSTAMP:20260419T192225
CREATED:20220603T170610Z
LAST-MODIFIED:20221013T003309Z
UID:10000014-1666085400-1666089000@stlfoodbank.org
SUMMARY:Food on the Move | Centreville Church of Christ
DESCRIPTION:Food On The Move is a shopping style food distribution program for individuals living in areas of Illinois and Missouri with limited access to healthy food and resources. During these events\, neighbors are able to walk through the 28-foot trailer and choose the foods that they need. All are welcome to receive food while supplies last.   \nIf you have any questions\, please reach out to Jessica Murphy at JMurphy@stlfoodbank.org.  \n*Times and dates are subject to change due to holidays and inclement weather. Check our social media pages for any updates @STLFoodbank! 
URL:https://stlfoodbank.org/event/food-on-the-move-centreville-church-of-christ-4/
LOCATION:Centreville Church of Christ\, 7435 Old Missouri Ave\, Alorton\, IL\, 62207
CATEGORIES:Food On The Move
ATTACH;FMTTYPE=:
GEO:38.5602193;-90.1073318
X-APPLE-STRUCTURED-LOCATION;VALUE=URI;X-ADDRESS=Centreville Church of Christ 7435 Old Missouri Ave Alorton IL 62207;X-APPLE-RADIUS=500;X-TITLE=7435 Old Missouri Ave:geo:-90.1073318,38.5602193
END:VEVENT
BEGIN:VEVENT
DTSTART;TZID=UTC:20221014T150000
DTEND;TZID=UTC:20221014T160000
DTSTAMP:20260419T192225
CREATED:20220603T174203Z
LAST-MODIFIED:20221013T003301Z
UID:10000010-1665759600-1665763200@stlfoodbank.org
SUMMARY:Food on the Move | Fox Run Mobile Estates
DESCRIPTION:Food On The Move is a shopping style food distribution program for individuals living in areas of Illinois and Missouri with limited access to healthy food and resources. During these events\, neighbors are able to walk through the 28-foot trailer and choose the foods that they need. All are welcome to receive food while supplies last.   \nIf you have any questions\, please reach out to Jessica Murphy at JMurphy@stlfoodbank.org.  \n*Times and dates are subject to change due to holidays and inclement weather. Check our social media pages for any updates @STLFoodbank! 
URL:https://stlfoodbank.org/event/food-on-the-move-fox-run-mobile-estates-4/
LOCATION:Fox Run Mobile Estates\, 138 Brook Dr.\, St. Charles\, MO\, 63301
CATEGORIES:Food On The Move
ATTACH;FMTTYPE=:
GEO:38.8203646;-90.4985243
X-APPLE-STRUCTURED-LOCATION;VALUE=URI;X-ADDRESS=Fox Run Mobile Estates 138 Brook Dr. St. Charles MO 63301;X-APPLE-RADIUS=500;X-TITLE=138 Brook Dr.:geo:-90.4985243,38.8203646
END:VEVENT
BEGIN:VEVENT
DTSTART;TZID=UTC:20221012T143000
DTEND;TZID=UTC:20221012T153000
DTSTAMP:20260419T192225
CREATED:20220603T150029Z
LAST-MODIFIED:20221013T003257Z
UID:10000008-1665585000-1665588600@stlfoodbank.org
SUMMARY:Food on the Move | Washington Park (Mt. Calvary Church of God)
DESCRIPTION:Food On The Move is a shopping style food distribution program for individuals living in areas of Illinois and Missouri with limited access to healthy food and resources. During these events\, neighbors are able to walk through the 28-foot trailer and choose the foods that they need. All are welcome to receive food while supplies last.   \nIf you have any questions\, please reach out to Jessica Murphy at JMurphy@stlfoodbank.org.  \n*Times and dates are subject to change due to holidays and inclement weather. Check our social media pages for any updates @STLFoodbank! 
URL:https://stlfoodbank.org/event/food-on-the-move-washington-park-mt-calvary-church-of-god-7/
LOCATION:Washington Park (Mt. Calvary Church of God)\, 1420 N 49th St\, Washington Park\, IL\, 62204\, United States
CATEGORIES:Food On The Move
ATTACH;FMTTYPE=:
GEO:38.6271418;-90.0978425
X-APPLE-STRUCTURED-LOCATION;VALUE=URI;X-ADDRESS=Washington Park (Mt. Calvary Church of God) 1420 N 49th St Washington Park IL 62204 United States;X-APPLE-RADIUS=500;X-TITLE=1420 N 49th St:geo:-90.0978425,38.6271418
END:VEVENT
END:VCALENDAR