BEGIN:VCALENDAR
VERSION:2.0
PRODID:-//St. Louis Area Foodbank - ECPv6.15.20//NONSGML v1.0//EN
CALSCALE:GREGORIAN
METHOD:PUBLISH
X-WR-CALNAME:St. Louis Area Foodbank
X-ORIGINAL-URL:https://stlfoodbank.org
X-WR-CALDESC:Events for St. Louis Area Foodbank
REFRESH-INTERVAL;VALUE=DURATION:PT1H
X-Robots-Tag:noindex
X-PUBLISHED-TTL:PT1H
BEGIN:VTIMEZONE
TZID:UTC
BEGIN:STANDARD
TZOFFSETFROM:+0000
TZOFFSETTO:+0000
TZNAME:UTC
DTSTART:20210101T000000
END:STANDARD
END:VTIMEZONE
BEGIN:VEVENT
DTSTART;TZID=UTC:20221214T143000
DTEND;TZID=UTC:20221214T153000
DTSTAMP:20260423T054030
CREATED:20220603T151400Z
LAST-MODIFIED:20221013T004603Z
UID:10000104-1671028200-1671031800@stlfoodbank.org
SUMMARY:Food on the Move | Washington Park (Mt. Calvary Church of God)
DESCRIPTION:Food On The Move is a shopping style food distribution program for individuals living in areas of Illinois and Missouri with limited access to healthy food and resources. During these events\, neighbors are able to walk through the 28-foot trailer and choose the foods that they need. All are welcome to receive food while supplies last.   \nIf you have any questions\, please reach out to Jessica Murphy at JMurphy@stlfoodbank.org.  \n*Times and dates are subject to change due to holidays and inclement weather. Check our social media pages for any updates @STLFoodbank! 
URL:https://stlfoodbank.org/event/food-on-the-move-washington-park-mt-calvary-church-of-god-9/
LOCATION:Washington Park (Mt. Calvary Church of God)\, 1420 N 49th St\, Washington Park\, IL\, 62204\, United States
CATEGORIES:Food On The Move
ATTACH;FMTTYPE=:
GEO:38.6271418;-90.0978425
X-APPLE-STRUCTURED-LOCATION;VALUE=URI;X-ADDRESS=Washington Park (Mt. Calvary Church of God) 1420 N 49th St Washington Park IL 62204 United States;X-APPLE-RADIUS=500;X-TITLE=1420 N 49th St:geo:-90.0978425,38.6271418
END:VEVENT
BEGIN:VEVENT
DTSTART;TZID=UTC:20221215T080000
DTEND;TZID=UTC:20221215T170000
DTSTAMP:20260423T054030
CREATED:20220603T165745Z
LAST-MODIFIED:20221013T004606Z
UID:10000105-1671091200-1671123600@stlfoodbank.org
SUMMARY:Food on the Move | Morse Mill Baptist Church
DESCRIPTION:Food On The Move is a shopping style food distribution program for individuals living in areas of Illinois and Missouri with limited access to healthy food and resources. During these events\, neighbors are able to walk through the 28-foot trailer and choose the foods that they need. All are welcome to receive food while supplies last.   \nIf you have any questions\, please reach out to Jessica Murphy at JMurphy@stlfoodbank.org.  \n*Times and dates are subject to change due to holidays and inclement weather. Check our social media pages for any updates @STLFoodbank! 
URL:https://stlfoodbank.org/event/food-on-the-move-morse-mill-baptist-church-5/
LOCATION:Morse Mill Baptist Church\, 6955 State Hwy B\, Dittmer\, MO\, 63023
CATEGORIES:Food On The Move
ATTACH;FMTTYPE=:
GEO:38.2804008;-90.6486653
X-APPLE-STRUCTURED-LOCATION;VALUE=URI;X-ADDRESS=Morse Mill Baptist Church 6955 State Hwy B Dittmer MO 63023;X-APPLE-RADIUS=500;X-TITLE=6955 State Hwy B:geo:-90.6486653,38.2804008
END:VEVENT
BEGIN:VEVENT
DTSTART;TZID=UTC:20221216T090000
DTEND;TZID=UTC:20221216T110000
DTSTAMP:20260423T054030
CREATED:20220616T135842Z
LAST-MODIFIED:20221013T004614Z
UID:10000109-1671181200-1671188400@stlfoodbank.org
SUMMARY:Food on the Move | High Hill Christian Church
DESCRIPTION:Food On The Move is a shopping style food distribution program for individuals living in areas of Illinois and Missouri with limited access to healthy food and resources. During these events\, neighbors are able to walk through the 28-foot trailer and choose the foods that they need. All are welcome to receive food while supplies last.   \nIf you have any questions\, please reach out to Jessica Murphy at JMurphy@stlfoodbank.org.  \n*Times and dates are subject to change due to holidays and inclement weather. Check our social media pages for any updates @STLFoodbank! 
URL:https://stlfoodbank.org/event/food-on-the-move-high-hill-christian-church-10/
LOCATION:High Hill Christian Church\, 852 Booneslick Rd\, High Hill\, 852 Booneslick Rd\, High Hill\, MO\, 63350\, United States
CATEGORIES:Food On The Move
ATTACH;FMTTYPE=:
GEO:38.8786872;-91.3861759
X-APPLE-STRUCTURED-LOCATION;VALUE=URI;X-ADDRESS=High Hill Christian Church 852 Booneslick Rd High Hill 852 Booneslick Rd High Hill MO 63350 United States;X-APPLE-RADIUS=500;X-TITLE=852 Booneslick Rd:geo:-91.3861759,38.8786872
END:VEVENT
BEGIN:VEVENT
DTSTART;TZID=UTC:20221220T093000
DTEND;TZID=UTC:20221220T103000
DTSTAMP:20260423T054030
CREATED:20220603T171059Z
LAST-MODIFIED:20221013T004701Z
UID:10000118-1671528600-1671532200@stlfoodbank.org
SUMMARY:Food on the Move | Centreville Church of Christ
DESCRIPTION:Food On The Move is a shopping style food distribution program for individuals living in areas of Illinois and Missouri with limited access to healthy food and resources. During these events\, neighbors are able to walk through the 28-foot trailer and choose the foods that they need. All are welcome to receive food while supplies last.   \nIf you have any questions\, please reach out to Jessica Murphy at JMurphy@stlfoodbank.org.  \n*Times and dates are subject to change due to holidays and inclement weather. Check our social media pages for any updates @STLFoodbank! 
URL:https://stlfoodbank.org/event/food-on-the-move-centreville-church-of-christ-6/
LOCATION:Centreville Church of Christ\, 7435 Old Missouri Ave\, Alorton\, IL\, 62207
CATEGORIES:Food On The Move
ATTACH;FMTTYPE=:
GEO:38.5602193;-90.1073318
X-APPLE-STRUCTURED-LOCATION;VALUE=URI;X-ADDRESS=Centreville Church of Christ 7435 Old Missouri Ave Alorton IL 62207;X-APPLE-RADIUS=500;X-TITLE=7435 Old Missouri Ave:geo:-90.1073318,38.5602193
END:VEVENT
BEGIN:VEVENT
DTSTART;TZID=UTC:20221220T143000
DTEND;TZID=UTC:20221220T160000
DTSTAMP:20260423T054030
CREATED:20220603T164228Z
LAST-MODIFIED:20221013T004705Z
UID:10000120-1671546600-1671552000@stlfoodbank.org
SUMMARY:Food on the Move | FOTM Pagedale (Rock Road Metrolink Station)
DESCRIPTION:Food On The Move is a shopping style food distribution program for individuals living in areas of Illinois and Missouri with limited access to healthy food and resources. During these events\, neighbors are able to walk through the 28-foot trailer and choose the foods that they need. All are welcome to receive food while supplies last.   \nIf you have any questions\, please reach out to Jessica Murphy at JMurphy@stlfoodbank.org.  \n*Times and dates are subject to change due to holidays and inclement weather. Check our social media pages for any updates @STLFoodbank! 
URL:https://stlfoodbank.org/event/food-on-the-move-fotm-pagedale-rock-road-metrolink-station-14/
LOCATION:FOTM Pagedale (Rock Road Metrolink Station)\, 7001 St. Charles Rock Rd\, St. Louis\, MO\, 63133\, United States
CATEGORIES:Food On The Move
ATTACH;FMTTYPE=:
GEO:38.6854835;-90.3014469
X-APPLE-STRUCTURED-LOCATION;VALUE=URI;X-ADDRESS=FOTM Pagedale (Rock Road Metrolink Station) 7001 St. Charles Rock Rd St. Louis MO 63133 United States;X-APPLE-RADIUS=500;X-TITLE=7001 St. Charles Rock Rd:geo:-90.3014469,38.6854835
END:VEVENT
BEGIN:VEVENT
DTSTART;TZID=UTC:20221228T093000
DTEND;TZID=UTC:20221228T103000
DTSTAMP:20260423T054030
CREATED:20220603T154955Z
LAST-MODIFIED:20221013T004715Z
UID:10000125-1672219800-1672223400@stlfoodbank.org
SUMMARY:Food on the Move | FOTM St. Louis City (Rosati Center Group Home)
DESCRIPTION:Food On The Move is a shopping style food distribution program for individuals living in areas of Illinois and Missouri with limited access to healthy food and resources. During these events\, neighbors are able to walk through the 28-foot trailer and choose the foods that they need. All are welcome to receive food while supplies last.   \nIf you have any questions\, please reach out to Jessica Murphy at JMurphy@stlfoodbank.org.  \n*Times and dates are subject to change due to holidays and inclement weather. Check our social media pages for any updates @STLFoodbank!  \n 
URL:https://stlfoodbank.org/event/food-on-the-move-fotm-st-louis-city-rosati-center-group-home-12/
LOCATION:FOTM St.Louis City (Rosati Center Group Home)\, 4314 North Grand Ave\, Saint Louis\, MO\, 63107\, United States
CATEGORIES:Food On The Move
ATTACH;FMTTYPE=:
GEO:38.6681543;-90.2103621
X-APPLE-STRUCTURED-LOCATION;VALUE=URI;X-ADDRESS=FOTM St.Louis City (Rosati Center Group Home) 4314 North Grand Ave Saint Louis MO 63107 United States;X-APPLE-RADIUS=500;X-TITLE=4314 North Grand Ave:geo:-90.2103621,38.6681543
END:VEVENT
END:VCALENDAR