BEGIN:VCALENDAR
VERSION:2.0
PRODID:-//St. Louis Area Foodbank - ECPv6.15.20//NONSGML v1.0//EN
CALSCALE:GREGORIAN
METHOD:PUBLISH
X-WR-CALNAME:St. Louis Area Foodbank
X-ORIGINAL-URL:https://stlfoodbank.org
X-WR-CALDESC:Events for St. Louis Area Foodbank
REFRESH-INTERVAL;VALUE=DURATION:PT1H
X-Robots-Tag:noindex
X-PUBLISHED-TTL:PT1H
BEGIN:VTIMEZONE
TZID:UTC
BEGIN:STANDARD
TZOFFSETFROM:+0000
TZOFFSETTO:+0000
TZNAME:UTC
DTSTART:20210101T000000
END:STANDARD
END:VTIMEZONE
BEGIN:VEVENT
DTSTART;TZID=UTC:20221212T143000
DTEND;TZID=UTC:20221212T153000
DTSTAMP:20260422T232310
CREATED:20220801T201956Z
LAST-MODIFIED:20221013T004550Z
UID:10000098-1670855400-1670859000@stlfoodbank.org
SUMMARY:Food On The Move | Okawville Foursquare Church
DESCRIPTION:Food On The Move is a shopping style food distribution program for individuals living in areas of Illinois and Missouri with limited access to healthy food and resources. During these events\, neighbors are able to walk through the 28-foot trailer and choose the foods that they need. All are welcome to receive food while supplies last.   \nIf you have any questions\, please reach out to Jessica Murphy at JMurphy@stlfoodbank.org.  \n*Times and dates are subject to change due to holidays and inclement weather. Check our social media pages for any updates @STLFoodbank! 
URL:https://stlfoodbank.org/event/food-on-the-move-okawville-foursquare-church-5/
LOCATION:Okawville Foursquare Church\, 2001 Stark Street\, Okawville\, IL\, 62271\, United States
CATEGORIES:Food On The Move
ATTACH;FMTTYPE=:
GEO:38.4378547;-89.5393511
X-APPLE-STRUCTURED-LOCATION;VALUE=URI;X-ADDRESS=Okawville Foursquare Church 2001 Stark Street Okawville IL 62271 United States;X-APPLE-RADIUS=500;X-TITLE=2001 Stark Street:geo:-89.5393511,38.4378547
END:VEVENT
END:VCALENDAR