BEGIN:VCALENDAR
VERSION:2.0
PRODID:-//St. Louis Area Foodbank - ECPv6.15.20//NONSGML v1.0//EN
CALSCALE:GREGORIAN
METHOD:PUBLISH
X-WR-CALNAME:St. Louis Area Foodbank
X-ORIGINAL-URL:https://stlfoodbank.org
X-WR-CALDESC:Events for St. Louis Area Foodbank
REFRESH-INTERVAL;VALUE=DURATION:PT1H
X-Robots-Tag:noindex
X-PUBLISHED-TTL:PT1H
BEGIN:VTIMEZONE
TZID:UTC
BEGIN:STANDARD
TZOFFSETFROM:+0000
TZOFFSETTO:+0000
TZNAME:UTC
DTSTART:20210101T000000
END:STANDARD
END:VTIMEZONE
BEGIN:VEVENT
DTSTART;TZID=UTC:20221117T093000
DTEND;TZID=UTC:20221117T110000
DTSTAMP:20260423T012819
CREATED:20220603T165648Z
LAST-MODIFIED:20221013T004217Z
UID:10000064-1668677400-1668682800@stlfoodbank.org
SUMMARY:Food on the Move | Morse Mill Baptist Church
DESCRIPTION:Food On The Move is a shopping style food distribution program for individuals living in areas of Illinois and Missouri with limited access to healthy food and resources. During these events\, neighbors are able to walk through the 28-foot trailer and choose the foods that they need. All are welcome to receive food while supplies last.   \nIf you have any questions\, please reach out to Jessica Murphy at JMurphy@stlfoodbank.org.  \n*Times and dates are subject to change due to holidays and inclement weather. Check our social media pages for any updates @STLFoodbank! 
URL:https://stlfoodbank.org/event/food-on-the-move-morse-mill-baptist-church-4/
LOCATION:Morse Mill Baptist Church\, 6955 State Hwy B\, Dittmer\, MO\, 63023
CATEGORIES:Food On The Move
GEO:38.2804008;-90.6486653
X-APPLE-STRUCTURED-LOCATION;VALUE=URI;X-ADDRESS=Morse Mill Baptist Church 6955 State Hwy B Dittmer MO 63023;X-APPLE-RADIUS=500;X-TITLE=6955 State Hwy B:geo:-90.6486653,38.2804008
END:VEVENT
END:VCALENDAR