BEGIN:VCALENDAR
VERSION:2.0
PRODID:-//St. Louis Area Foodbank - ECPv6.15.20//NONSGML v1.0//EN
CALSCALE:GREGORIAN
METHOD:PUBLISH
X-ORIGINAL-URL:https://stlfoodbank.org
X-WR-CALDESC:Events for St. Louis Area Foodbank
REFRESH-INTERVAL;VALUE=DURATION:PT1H
X-Robots-Tag:noindex
X-PUBLISHED-TTL:PT1H
BEGIN:VTIMEZONE
TZID:UTC
BEGIN:STANDARD
TZOFFSETFROM:+0000
TZOFFSETTO:+0000
TZNAME:UTC
DTSTART:20210101T000000
END:STANDARD
END:VTIMEZONE
BEGIN:VEVENT
DTSTART;TZID=UTC:20221108T110000
DTEND;TZID=UTC:20221108T123000
DTSTAMP:20260423T013217
CREATED:20220615T192514Z
LAST-MODIFIED:20221013T004053Z
UID:10000043-1667905200-1667910600@stlfoodbank.org
SUMMARY:Elsberry Food on the Move | Elsberry High School
DESCRIPTION:Food On The Move is a shopping style food distribution program for individuals living in areas of Illinois and Missouri with limited access to healthy food and resources. During these events\, neighbors are able to walk through the 28-foot trailer and choose the foods that they need. All are welcome to receive food while supplies last.   \nIf you have any questions\, please reach out to Jessica Murphy at JMurphy@stlfoodbank.org.  \n*Times and dates are subject to change due to holidays and inclement weather. Check our social media pages for any updates @STLFoodbank! 
URL:https://stlfoodbank.org/event/elsberry-food-on-the-move-elsberry-high-school-5/
LOCATION:Elsberry High School\, 138 Tomahawk Dr\, Elsberry\, MO\, 63343\, United States
CATEGORIES:Food On The Move
ATTACH;FMTTYPE=:
GEO:39.1616068;-90.7940698
X-APPLE-STRUCTURED-LOCATION;VALUE=URI;X-ADDRESS=Elsberry High School 138 Tomahawk Dr Elsberry MO 63343 United States;X-APPLE-RADIUS=500;X-TITLE=138 Tomahawk Dr:geo:-90.7940698,39.1616068
END:VEVENT
END:VCALENDAR