BEGIN:VCALENDAR
VERSION:2.0
PRODID:-//St. Louis Area Foodbank - ECPv6.15.20//NONSGML v1.0//EN
CALSCALE:GREGORIAN
METHOD:PUBLISH
X-ORIGINAL-URL:https://stlfoodbank.org
X-WR-CALDESC:Events for St. Louis Area Foodbank
REFRESH-INTERVAL;VALUE=DURATION:PT1H
X-Robots-Tag:noindex
X-PUBLISHED-TTL:PT1H
BEGIN:VTIMEZONE
TZID:America/Chicago
BEGIN:DAYLIGHT
TZOFFSETFROM:-0600
TZOFFSETTO:-0500
TZNAME:CDT
DTSTART:20230312T080000
END:DAYLIGHT
BEGIN:STANDARD
TZOFFSETFROM:-0500
TZOFFSETTO:-0600
TZNAME:CST
DTSTART:20231105T070000
END:STANDARD
BEGIN:DAYLIGHT
TZOFFSETFROM:-0600
TZOFFSETTO:-0500
TZNAME:CDT
DTSTART:20240310T080000
END:DAYLIGHT
BEGIN:STANDARD
TZOFFSETFROM:-0500
TZOFFSETTO:-0600
TZNAME:CST
DTSTART:20241103T070000
END:STANDARD
BEGIN:DAYLIGHT
TZOFFSETFROM:-0600
TZOFFSETTO:-0500
TZNAME:CDT
DTSTART:20250309T080000
END:DAYLIGHT
BEGIN:STANDARD
TZOFFSETFROM:-0500
TZOFFSETTO:-0600
TZNAME:CST
DTSTART:20251102T070000
END:STANDARD
END:VTIMEZONE
BEGIN:VEVENT
DTSTART;TZID=America/Chicago:20240507T090000
DTEND;TZID=America/Chicago:20240507T090000
DTSTAMP:20260421T204520
CREATED:20240110T190958Z
LAST-MODIFIED:20240110T190958Z
UID:10005129-1715072400-1715072400@stlfoodbank.org
SUMMARY:Community Mobile Market | SSM Health St. Louis University Hospital & SSM Health Cardinal Glennon Children's Hospital
DESCRIPTION:In partnership with the St. Louis Area Food Bank\, SSM Health St. Louis University Hospital & SSM Health Cardinal Glennon Children’s Hospital are hosting a drive-through Community Mobile Market. Neighbors have the opportunity to get a mix of fresh and nonperishable food items at no cost. The distribution will end at the stated time or once all of the food and other resources have been distributed.   \nThis event is set up as a drive through distribution and volunteers and/or staff of the organization will put food directly into your car. We ask that you have space in your vehicle for the food items and that you not leave your vehicle during the distribution. Please arrive at least 15 minutes prior to the start of the event.  \nWe do not require any identification or verification of income – anyone is welcome.  \nLocated at 3450 Park Ave\, St. Louis\, MO 63104 in the parking lot on the corner of Park Ave and Louisiana Ave. \n*Dates and times are subject to change. We recommend checking in with the partner organization prior to the event to confirm dates/times.
URL:https://stlfoodbank.org/event/community-mobile-market-ssm-health-st-louis-university-hospital-ssm-health-cardinal-glennon-childrens-hospital-2/
LOCATION:SSM Cardinal Glennon & SLU Hospital\, 3450 Park Avenue\, St. Louis\, MO\, 63104\, United States
CATEGORIES:Food Distribution,Mobile Market
GEO:38.6197667;-90.2361731
X-APPLE-STRUCTURED-LOCATION;VALUE=URI;X-ADDRESS=SSM Cardinal Glennon & SLU Hospital 3450 Park Avenue St. Louis MO 63104 United States;X-APPLE-RADIUS=500;X-TITLE=3450 Park Avenue:geo:-90.2361731,38.6197667
END:VEVENT
BEGIN:VEVENT
DTSTART;TZID=America/Chicago:20240515T090000
DTEND;TZID=America/Chicago:20240515T090000
DTSTAMP:20260421T204520
CREATED:20240116T162239Z
LAST-MODIFIED:20240611T160249Z
UID:10004052-1715763600-1715763600@stlfoodbank.org
SUMMARY:Mobile Market | Compass Health Network - Warrenton
DESCRIPTION:If you or someone you know has a vehicle\, you can visit one of our Food Fair distribution events. These events are set up as a drive-through food distribution. Volunteers and staff will put food in your car. We ask that you have space in your vehicle for the food items and that you not leave your vehicle during the distribution. Please arrive 15 minutes prior to the start of the event. \nREGISTER HERE: https://forms.donorsnap.com/form?id=cf041978-d965-42fd-b0e4-259a47ac40fd \n*times are subject to change
URL:https://stlfoodbank.org/event/mobile-market-compass-health-network-warrenton-2/2024-05-15/
LOCATION:265 W. Veterans Memorial Parkway\, Warrenton\, MO 63383\, 265 W. Veterans Memorial Parkway\, Warrenton\, MO\, 63383\, United States
CATEGORIES:Food Distribution
ATTACH;FMTTYPE=:
GEO:38.8187449;-91.1503718
X-APPLE-STRUCTURED-LOCATION;VALUE=URI;X-ADDRESS=265 W. Veterans Memorial Parkway Warrenton MO 63383 265 W. Veterans Memorial Parkway Warrenton MO 63383 United States;X-APPLE-RADIUS=500;X-TITLE=265 W. Veterans Memorial Parkway:geo:-91.1503718,38.8187449
END:VEVENT
BEGIN:VEVENT
DTSTART;TZID=America/Chicago:20240521T090000
DTEND;TZID=America/Chicago:20240521T090000
DTSTAMP:20260421T204520
CREATED:20230822T143340Z
LAST-MODIFIED:20240611T160437Z
UID:10003994-1716282000-1716282000@stlfoodbank.org
SUMMARY:Mobile Market | Compass Health Network - Winfield
DESCRIPTION:If you or someone you know has a vehicle\, you can visit one of our Food Fair distribution events. These events are set up as a drive-through food distribution. Volunteers and staff will put food in your car. We ask that you have space in your vehicle for the food items and that you not leave your vehicle during the distribution. Please arrive 15 minutes prior to the start of the event. \nREGISTER HERE: https://forms.donorsnap.com/form?id=cf041978-d965-42fd-b0e4-259a47ac40fd \n*times are subject to change
URL:https://stlfoodbank.org/event/mobile-market-compass-health-network-winfield/2024-05-21/
LOCATION:First Baptist Church\, 3700 E. Highway 47\, Winfield\, 63389\, United States
CATEGORIES:Food Distribution
ATTACH;FMTTYPE=:
GEO:38.9908517;-90.7632709
X-APPLE-STRUCTURED-LOCATION;VALUE=URI;X-ADDRESS=First Baptist Church 3700 E. Highway 47 Winfield 63389 United States;X-APPLE-RADIUS=500;X-TITLE=3700 E. Highway 47:geo:-90.7632709,38.9908517
END:VEVENT
END:VCALENDAR