BEGIN:VCALENDAR
VERSION:2.0
PRODID:-//St. Louis Area Foodbank - ECPv6.15.20//NONSGML v1.0//EN
CALSCALE:GREGORIAN
METHOD:PUBLISH
X-ORIGINAL-URL:https://stlfoodbank.org
X-WR-CALDESC:Events for St. Louis Area Foodbank
REFRESH-INTERVAL;VALUE=DURATION:PT1H
X-Robots-Tag:noindex
X-PUBLISHED-TTL:PT1H
BEGIN:VTIMEZONE
TZID:America/Chicago
BEGIN:DAYLIGHT
TZOFFSETFROM:-0600
TZOFFSETTO:-0500
TZNAME:CDT
DTSTART:20230312T080000
END:DAYLIGHT
BEGIN:STANDARD
TZOFFSETFROM:-0500
TZOFFSETTO:-0600
TZNAME:CST
DTSTART:20231105T070000
END:STANDARD
BEGIN:DAYLIGHT
TZOFFSETFROM:-0600
TZOFFSETTO:-0500
TZNAME:CDT
DTSTART:20240310T080000
END:DAYLIGHT
BEGIN:STANDARD
TZOFFSETFROM:-0500
TZOFFSETTO:-0600
TZNAME:CST
DTSTART:20241103T070000
END:STANDARD
BEGIN:DAYLIGHT
TZOFFSETFROM:-0600
TZOFFSETTO:-0500
TZNAME:CDT
DTSTART:20250309T080000
END:DAYLIGHT
BEGIN:STANDARD
TZOFFSETFROM:-0500
TZOFFSETTO:-0600
TZNAME:CST
DTSTART:20251102T070000
END:STANDARD
END:VTIMEZONE
BEGIN:VEVENT
DTSTART;TZID=America/Chicago:20240624T090000
DTEND;TZID=America/Chicago:20240624T090000
DTSTAMP:20260423T045112
CREATED:20240327T180224Z
LAST-MODIFIED:20240606T192713Z
UID:10004938-1719219600-1719219600@stlfoodbank.org
SUMMARY:Food Distribution | Mid Rivers Mall
DESCRIPTION:If you or someone you know has a vehicle\, you can visit one of our Food Fair distribution events. These events are set up as a drive-through food distribution. Volunteers and staff will put food in your car. We ask that you have space in your vehicle for the food items and that you not leave your vehicle during the distribution. Please arrive early. Supplies are limited and may not meet the need of all who attend.  \nMid Rivers Mall\nParking Lot between JC Penny and Sears \n 
URL:https://stlfoodbank.org/event/food-fair-mid-rivers-mall-14-2-2-2-2-2/2024-06-24/
LOCATION:Mid Rivers Mall\, 1600 Mid Rivers Mall\, St. Peters\, MO\, 63376\, United States
GEO:38.7960762;-90.6159688
X-APPLE-STRUCTURED-LOCATION;VALUE=URI;X-ADDRESS=Mid Rivers Mall 1600 Mid Rivers Mall St. Peters MO 63376 United States;X-APPLE-RADIUS=500;X-TITLE=1600 Mid Rivers Mall:geo:-90.6159688,38.7960762
END:VEVENT
BEGIN:VEVENT
DTSTART;TZID=America/Chicago:20240624T110000
DTEND;TZID=America/Chicago:20240624T123000
DTSTAMP:20260423T045112
CREATED:20240327T140717Z
LAST-MODIFIED:20240701T182734Z
UID:10005013-1719226800-1719232200@stlfoodbank.org
SUMMARY:Food on the Move | Madison City Hall (Madison\, IL)
DESCRIPTION:Food On The Move is a walk-through\, shopping style food distribution program for individuals living in areas of Illinois and Missouri with limited access to healthy food and resources. During these events\, neighbors are able to walk through the 28-foot trailer and choose the foods that they need. Verification of personal information is not required to participate.  All are welcome to receive food while supplies last. \nIf you have any questions\, please reach out to Jessica Murphy at JMurphy@stlfoodbank.org. \n*Times and dates are subject to change due to holidays and inclement weather. Check our social media pages for any updates @STLFoodbank!
URL:https://stlfoodbank.org/event/food-on-the-move-madison-city-hall-madison-il-2-2-2/2024-06-24/
LOCATION:Madison City Hall 1452 7th Street\, 1452 7th Street\, Madison\, IL\, 62060\, United States
GEO:38.6836181;-90.1574448
X-APPLE-STRUCTURED-LOCATION;VALUE=URI;X-ADDRESS=Madison City Hall 1452 7th Street 1452 7th Street Madison IL 62060 United States;X-APPLE-RADIUS=500;X-TITLE=1452 7th Street:geo:-90.1574448,38.6836181
END:VEVENT
END:VCALENDAR