BEGIN:VCALENDAR
VERSION:2.0
PRODID:-//St. Louis Area Foodbank - ECPv6.15.20//NONSGML v1.0//EN
CALSCALE:GREGORIAN
METHOD:PUBLISH
X-WR-CALNAME:St. Louis Area Foodbank
X-ORIGINAL-URL:https://stlfoodbank.org
X-WR-CALDESC:Events for St. Louis Area Foodbank
REFRESH-INTERVAL;VALUE=DURATION:PT1H
X-Robots-Tag:noindex
X-PUBLISHED-TTL:PT1H
BEGIN:VTIMEZONE
TZID:UTC
BEGIN:STANDARD
TZOFFSETFROM:+0000
TZOFFSETTO:+0000
TZNAME:UTC
DTSTART:20220101T000000
END:STANDARD
END:VTIMEZONE
BEGIN:VTIMEZONE
TZID:America/Chicago
BEGIN:DAYLIGHT
TZOFFSETFROM:-0600
TZOFFSETTO:-0500
TZNAME:CDT
DTSTART:20220313T080000
END:DAYLIGHT
BEGIN:STANDARD
TZOFFSETFROM:-0500
TZOFFSETTO:-0600
TZNAME:CST
DTSTART:20221106T070000
END:STANDARD
BEGIN:DAYLIGHT
TZOFFSETFROM:-0600
TZOFFSETTO:-0500
TZNAME:CDT
DTSTART:20230312T080000
END:DAYLIGHT
BEGIN:STANDARD
TZOFFSETFROM:-0500
TZOFFSETTO:-0600
TZNAME:CST
DTSTART:20231105T070000
END:STANDARD
BEGIN:DAYLIGHT
TZOFFSETFROM:-0600
TZOFFSETTO:-0500
TZNAME:CDT
DTSTART:20240310T080000
END:DAYLIGHT
BEGIN:STANDARD
TZOFFSETFROM:-0500
TZOFFSETTO:-0600
TZNAME:CST
DTSTART:20241103T070000
END:STANDARD
END:VTIMEZONE
BEGIN:VEVENT
DTSTART;TZID=UTC:20230908T093000
DTEND;TZID=UTC:20230908T093000
DTSTAMP:20260421T204214
CREATED:20230906T135740Z
LAST-MODIFIED:20230906T135740Z
UID:10002621-1694165400-1694165400@stlfoodbank.org
SUMMARY:Mobile Market | Nurses for Newborns
DESCRIPTION:In partnership with the St. Louis Area Food Bank\, Nurses for Newborns is hosting a drive-through Community Mobile Market. Neighbors have the opportunity to get a mix of fresh and nonperishable food items at no cost. The distribution will end at the stated time or once all of the food and other resources have been distributed.   \n  \nThis event is set up as a drive through distribution and volunteers and/or staff of the organization will put food directly into your car. We ask that you have space in your vehicle for the food items and that you not leave your vehicle during the distribution. Please arrive at least 15 minutes prior to the start of the event.  \n  \nWe do not require any identification or verification of income – anyone is welcome. \n  \n If you have any questions\, please reach out to Kate Steele at 314-455-6412.  \n  \n*Dates and times are subject to change. We recommend checking in with the partner organization prior to the event to confirm dates/times.  
URL:https://stlfoodbank.org/event/mobile-market-nurses-for-newborns-8/
LOCATION:Nurses for Newborns\, 3 Sunnen Drive\, SAINT LOUIS\, MO\, 63143\, United States
CATEGORIES:Mobile Market
ATTACH;FMTTYPE=:
GEO:38.6078758;-90.3245849
X-APPLE-STRUCTURED-LOCATION;VALUE=URI;X-ADDRESS=Nurses for Newborns 3 Sunnen Drive SAINT LOUIS MO 63143 United States;X-APPLE-RADIUS=500;X-TITLE=3 Sunnen Drive:geo:-90.3245849,38.6078758
END:VEVENT
BEGIN:VEVENT
DTSTART;TZID=America/Chicago:20230908T093000
DTEND;TZID=America/Chicago:20230908T110000
DTSTAMP:20260421T204214
CREATED:20230607T133037Z
LAST-MODIFIED:20231025T155319Z
UID:10000891-1694165400-1694170800@stlfoodbank.org
SUMMARY:Food On The Move | Harvester Church of the Nazarene (St. Peters\, MO)
DESCRIPTION:Food On The Move is a walk-through\, shopping style food distribution program for individuals living in areas of Illinois and Missouri with limited access to healthy food and resources. During these events\, neighbors are able to walk through the 28-foot trailer and choose the foods that they need. Verification of personal information is not required to participate.  All are welcome to receive food while supplies last. \nIf you have any questions\, please reach out to Jessica Murphy at JMurphy@stlfoodbank.org. \n*Times and dates are subject to change due to holidays and inclement weather. Check our social media pages for any updates @STLFoodbank!
URL:https://stlfoodbank.org/event/food-on-the-move-harvester-church-of-the-nazarene-st-peters-mo/2023-09-08/
LOCATION:Harvester Church of the Nazarene\, 3115 McClay Road\, St. Peters\, MO\, 63376\, United States
GEO:38.7592167;-90.5724109
X-APPLE-STRUCTURED-LOCATION;VALUE=URI;X-ADDRESS=Harvester Church of the Nazarene 3115 McClay Road St. Peters MO 63376 United States;X-APPLE-RADIUS=500;X-TITLE=3115 McClay Road:geo:-90.5724109,38.7592167
END:VEVENT
BEGIN:VEVENT
DTSTART;TZID=America/Chicago:20230908T150000
DTEND;TZID=America/Chicago:20230908T150000
DTSTAMP:20260421T204214
CREATED:20230607T133849Z
LAST-MODIFIED:20230608T134936Z
UID:10000898-1694185200-1694185200@stlfoodbank.org
SUMMARY:Food on the Move | True Life Community Church (St. Charles\, MO)
DESCRIPTION:Food On The Move is a walk-through\, shopping style food distribution program for individuals living in areas of Illinois and Missouri with limited access to healthy food and resources. During these events\, neighbors are able to walk through the 28-foot trailer and choose the foods that they need. Verification of personal information is not required to participate.  All are welcome to receive food while supplies last. \nIf you have any questions\, please reach out to Jessica Murphy at JMurphy@stlfoodbank.org. \n*Times and dates are subject to change due to holidays and inclement weather. Check our social media pages for any updates @STLFoodbank!
URL:https://stlfoodbank.org/event/food-on-the-move-fox-run-mobile-estates-7-2-2-2/2023-09-08/
LOCATION:True Life Community Church\, 3505 New Town Blvd\, St. Charles\, MO\, 63301\, United States
GEO:38.8295892;-90.5133829
X-APPLE-STRUCTURED-LOCATION;VALUE=URI;X-ADDRESS=True Life Community Church 3505 New Town Blvd St. Charles MO 63301 United States;X-APPLE-RADIUS=500;X-TITLE=3505 New Town Blvd:geo:-90.5133829,38.8295892
END:VEVENT
END:VCALENDAR