BEGIN:VCALENDAR
VERSION:2.0
PRODID:-//St. Louis Area Foodbank - ECPv6.15.20//NONSGML v1.0//EN
CALSCALE:GREGORIAN
METHOD:PUBLISH
X-ORIGINAL-URL:https://stlfoodbank.org
X-WR-CALDESC:Events for St. Louis Area Foodbank
REFRESH-INTERVAL;VALUE=DURATION:PT1H
X-Robots-Tag:noindex
X-PUBLISHED-TTL:PT1H
BEGIN:VTIMEZONE
TZID:America/Chicago
BEGIN:DAYLIGHT
TZOFFSETFROM:-0600
TZOFFSETTO:-0500
TZNAME:CDT
DTSTART:20220313T080000
END:DAYLIGHT
BEGIN:STANDARD
TZOFFSETFROM:-0500
TZOFFSETTO:-0600
TZNAME:CST
DTSTART:20221106T070000
END:STANDARD
BEGIN:DAYLIGHT
TZOFFSETFROM:-0600
TZOFFSETTO:-0500
TZNAME:CDT
DTSTART:20230312T080000
END:DAYLIGHT
BEGIN:STANDARD
TZOFFSETFROM:-0500
TZOFFSETTO:-0600
TZNAME:CST
DTSTART:20231105T070000
END:STANDARD
BEGIN:DAYLIGHT
TZOFFSETFROM:-0600
TZOFFSETTO:-0500
TZNAME:CDT
DTSTART:20240310T080000
END:DAYLIGHT
BEGIN:STANDARD
TZOFFSETFROM:-0500
TZOFFSETTO:-0600
TZNAME:CST
DTSTART:20241103T070000
END:STANDARD
END:VTIMEZONE
BEGIN:VEVENT
DTSTART;TZID=America/Chicago:20230901T090000
DTEND;TZID=America/Chicago:20230901T230000
DTSTAMP:20260421T204206
CREATED:20230110T210311Z
LAST-MODIFIED:20230110T210311Z
UID:10000341-1693558800-1693609200@stlfoodbank.org
SUMMARY:Community Mobile Market | Affinia Biddle Street
DESCRIPTION:In partnership with the St. Louis Area Foodbank\, Affinia Healthcare Biddle St. is hosting a drive-through Community Mobile Market. Neighbors have the opportunity to get a mix of fresh and nonperishable food items at no cost. The distribution will end at the stated time or once all of the food and other resources have been distributed.   \nThis event is set up as a drive through distribution and volunteers and/or staff of the organization will put food directly into your car. We ask that you have space in your vehicle for the food items and that you not leave your vehicle during the distribution. Please arrive at least 15 minutes prior to the start of the event.  \nWe do not require any identification or verification of income – anyone is welcome. \n If you have any questions\, please reach out to Meagan Jobin at 314-683-8420 or mjobin@affiniahealthcare.org \n*Dates and times are subject to change. We recommend checking in with the partner organization prior to the event to confirm dates/times.
URL:https://stlfoodbank.org/event/community-mobile-market-affinia-biddle-street/2023-09-01/
LOCATION:Affinia Biddle Street\, 1717 Biddle St\, Saint Louis\, MO\, 63106\, United States
GEO:38.6392924;-90.2016824
X-APPLE-STRUCTURED-LOCATION;VALUE=URI;X-ADDRESS=Affinia Biddle Street 1717 Biddle St Saint Louis MO 63106 United States;X-APPLE-RADIUS=500;X-TITLE=1717 Biddle St:geo:-90.2016824,38.6392924
END:VEVENT
BEGIN:VEVENT
DTSTART;TZID=America/Chicago:20230901T120000
DTEND;TZID=America/Chicago:20230901T133000
DTSTAMP:20260421T204206
CREATED:20230518T155826Z
LAST-MODIFIED:20240701T182223Z
UID:10000853-1693569600-1693575000@stlfoodbank.org
SUMMARY:Food on the Move | Buren Chapel AME Church (Festus\, MO)
DESCRIPTION:Food On The Move is a walk-through\, shopping style food distribution program for individuals living in areas of Illinois and Missouri with limited access to healthy food and resources. During these events\, neighbors are able to walk through the 28-foot trailer and choose the foods that they need. Verification of personal information is not required to participate.  All are welcome to receive food while supplies last. \nIf you have any questions\, please reach out to Jessica Murphy at JMurphy@stlfoodbank.org. \n*Times and dates are subject to change due to holidays and inclement weather. Check our social media pages for any updates @STLFoodbank!
URL:https://stlfoodbank.org/event/food-on-the-move-trinity-mt-carmel-church-festus-mo/2023-09-01/
LOCATION:Buren Chapel AME Church (Festus\, MO)\, 321 South Adams Street\, Festus\, 63028
GEO:38.2174152;-90.3905444
X-APPLE-STRUCTURED-LOCATION;VALUE=URI;X-ADDRESS=Buren Chapel AME Church (Festus MO) 321 South Adams Street Festus 63028;X-APPLE-RADIUS=500;X-TITLE=321 South Adams Street:geo:-90.3905444,38.2174152
END:VEVENT
END:VCALENDAR