BEGIN:VCALENDAR
VERSION:2.0
PRODID:-//St. Louis Area Foodbank - ECPv6.15.20//NONSGML v1.0//EN
CALSCALE:GREGORIAN
METHOD:PUBLISH
X-ORIGINAL-URL:https://stlfoodbank.org
X-WR-CALDESC:Events for St. Louis Area Foodbank
REFRESH-INTERVAL;VALUE=DURATION:PT1H
X-Robots-Tag:noindex
X-PUBLISHED-TTL:PT1H
BEGIN:VTIMEZONE
TZID:UTC
BEGIN:STANDARD
TZOFFSETFROM:+0000
TZOFFSETTO:+0000
TZNAME:UTC
DTSTART:20210101T000000
END:STANDARD
END:VTIMEZONE
BEGIN:VEVENT
DTSTART;TZID=UTC:20221202T090000
DTEND;TZID=UTC:20221202T110000
DTSTAMP:20260425T121032
CREATED:20220602T134625Z
LAST-MODIFIED:20221013T004353Z
UID:10000082-1669971600-1669978800@stlfoodbank.org
SUMMARY:Drive Through Community Mobile Market | Affinia Healthcare Biddle St.
DESCRIPTION:In partnership with the St. Louis Area Food Bank\, Affinia Healthcare Biddle St. is hosting a drive-through Community Mobile Market. Neighbors have the opportunity to get a mix of fresh and nonperishable food items at no cost. The distribution will end at the stated time or once all of the food and other resources have been distributed.   \nThis event is set up as a drive through distribution and volunteers and/or staff of the organization will put food directly into your car. We ask that you have space in your vehicle for the food items and that you not leave your vehicle during the distribution. Please arrive at least 15 minutes prior to the start of the event.  \nWe do not require any identification or verification of income – anyone is welcome. \n  \n If you have any questions\, please reach out to Meagan Jobin at 314-683-8420 or mjobin@affiniahealthcare.org  \n  \n*Dates and times are subject to change. We recommend checking in with the partner organization prior to the event to confirm dates/times.  
URL:https://stlfoodbank.org/event/drive-through-community-mobile-market-affinia-healthcare-biddle-st-7/
LOCATION:Affinia Biddle Street\, 1717 Biddle St\, Saint Louis\, MO\, 63106\, United States
CATEGORIES:Food Distribution
ATTACH;FMTTYPE=:
GEO:38.6392924;-90.2016824
X-APPLE-STRUCTURED-LOCATION;VALUE=URI;X-ADDRESS=Affinia Biddle Street 1717 Biddle St Saint Louis MO 63106 United States;X-APPLE-RADIUS=500;X-TITLE=1717 Biddle St:geo:-90.2016824,38.6392924
END:VEVENT
END:VCALENDAR