BEGIN:VCALENDAR
VERSION:2.0
PRODID:-//St. Louis Area Foodbank - ECPv6.15.20//NONSGML v1.0//EN
CALSCALE:GREGORIAN
METHOD:PUBLISH
X-ORIGINAL-URL:https://stlfoodbank.org
X-WR-CALDESC:Events for St. Louis Area Foodbank
REFRESH-INTERVAL;VALUE=DURATION:PT1H
X-Robots-Tag:noindex
X-PUBLISHED-TTL:PT1H
BEGIN:VTIMEZONE
TZID:UTC
BEGIN:STANDARD
TZOFFSETFROM:+0000
TZOFFSETTO:+0000
TZNAME:UTC
DTSTART:20210101T000000
END:STANDARD
END:VTIMEZONE
BEGIN:VEVENT
DTSTART;TZID=UTC:20221126T100000
DTEND;TZID=UTC:20221126T120000
DTSTAMP:20260425T121032
CREATED:20220621T144536Z
LAST-MODIFIED:20221013T004347Z
UID:10000079-1669456800-1669464000@stlfoodbank.org
SUMMARY:Mobile Market | New Antioch Missionary Baptist Church
DESCRIPTION:In partnership with the St. Louis Area Food Bank\, New Antioch Missionary Baptist is hosting a drive-through Community Mobile Market. Neighbors have the opportunity to get a mix of fresh and nonperishable food items at no cost. The distribution will end at the stated time or once all of the food and other resources have been distributed.   \nThis event is set up as a drive through distribution and volunteers and/or staff of the organization will put food directly into your car. We ask that you have space in your vehicle for the food items and that you not leave your vehicle during the distribution. Please arrive at least 15 minutes prior to the start of the event.  \nWe do not require any identification or verification of income – anyone is welcome \n  \n If you have any questions\, please reach out to Deacon Stephen Edwards at nambc250@gmail.com.   \n  \n*Dates and times are subject to change. We recommend checking in with the partner organization prior to the event to confirm dates/times.  
URL:https://stlfoodbank.org/event/mobile-market-new-antioch-missionary-baptist-church-6/
LOCATION:New Antioch MB Church\, 250 Lebanon Ave\, Belleville\, IL\, 62220\, United States
CATEGORIES:Mobile Market
ATTACH;FMTTYPE=:
GEO:38.5213651;-89.9805427
X-APPLE-STRUCTURED-LOCATION;VALUE=URI;X-ADDRESS=New Antioch MB Church 250 Lebanon Ave Belleville IL 62220 United States;X-APPLE-RADIUS=500;X-TITLE=250 Lebanon Ave:geo:-89.9805427,38.5213651
END:VEVENT
END:VCALENDAR