BEGIN:VCALENDAR
VERSION:2.0
PRODID:-//St. Louis Area Foodbank - ECPv6.15.20//NONSGML v1.0//EN
CALSCALE:GREGORIAN
METHOD:PUBLISH
X-WR-CALNAME:St. Louis Area Foodbank
X-ORIGINAL-URL:https://stlfoodbank.org
X-WR-CALDESC:Events for St. Louis Area Foodbank
REFRESH-INTERVAL;VALUE=DURATION:PT1H
X-Robots-Tag:noindex
X-PUBLISHED-TTL:PT1H
BEGIN:VTIMEZONE
TZID:UTC
BEGIN:STANDARD
TZOFFSETFROM:+0000
TZOFFSETTO:+0000
TZNAME:UTC
DTSTART:20210101T000000
END:STANDARD
END:VTIMEZONE
BEGIN:VEVENT
DTSTART;TZID=UTC:20221122T100000
DTEND;TZID=UTC:20221122T120000
DTSTAMP:20260425T121018
CREATED:20221006T171442Z
LAST-MODIFIED:20230118T173105Z
UID:10000076-1669111200-1669118400@stlfoodbank.org
SUMMARY:2022 Thanksgiving Together- Registration Required
DESCRIPTION:This year the St. Louis Area Foodbank will be hosting it’s 5th Annual Thanksgiving Together event near Busch Stadium on Tuesday\, November 22nd from 10am-Noon. It is a drive through distribution where you will receive a holiday protein\, bagged applies and potatoes\, milk and a box filled with classic Thanksgiving side items. To receive a Thanksgiving Dinner you must have a spot reserved. Please use the link below to reserve a spot\, there are 500 spots available and they will fill quickly. If you can’t attend the distribution but need a Thanksgiving dinner you may have someone pick-up for you. Please still reserve a spot under your name and have them give it at check-in at the event. \nYOU MUST HAVE A SPOT RESERVED TO RECEIVE A THANKSGIVING DINNER. PLEASE USE THE LINK BELOW TO RESERVE YOUR SPOT: \nhttp://bit.ly/ThanksTogReg \nIf you have any questions please reach out to Jessica Murphy at jmurphy@stlfoodbank.org. \n 
URL:https://stlfoodbank.org/event/2022-thanksgiving-together-registration-required/
LOCATION:Find Food
CATEGORIES:Food Distribution,Food Fair
ATTACH;FMTTYPE=:
END:VEVENT
END:VCALENDAR